BEGIN:VCALENDAR
VERSION:2.0
PRODID:-//jEvents 2.0 for Joomla//EN
CALSCALE:GREGORIAN
METHOD:PUBLISH
BEGIN:VEVENT
UID:f56508c4eed237932e714e1320e3a3ff
CATEGORIES:18. Bezirk
CREATED:20250227T195559
SUMMARY:Workshop Eltern-Haben-Recht(e)
LOCATION:online 
DESCRIPTION:In unserem Workshop setzen wir uns mit wesentlichen arbeits- und familienre
 chtlichen Fragen auseinander. Im Arbeitsrecht bespricht Dr. Katharina Armbr
 uster (Juristin im Arbeitsrecht in einem internat. Konzern) - was darf mein
  Arbeitgeber/meine Arbeitgeberin bestimmen, während ich schwanger bin? Darf
  ich noch Überstunden machen? Verliere ich verschiedene Zulagen und Boni? -
  wie schütze ich mich in der Karenz davor, "ersetzt" zu werden? - wann kann
  ich in Elternteilzeit gehen und was bringt mir das? - ist Bildungskarenz z
 ielführend? - was mache ich, wenn ich zum bisherigen Dienstgeber eigentlich
  nicht zurück möchte? Im Familienrecht diskutiert Mag. Samuel Benedik (eing
 etragener Rechtsanwalt ) Fragen wie: - wäre es sinnvoll zu heiraten, wenn e
 in Kind kommt? - wer hat die Obsorge, wenn man unverheiratet ist? - gibt es
  bei der Führung eines unterschiedlichen Nachnamens etwas zu beachten? - wa
 s passiert, falls es auseinander geht mit der Obsorge? - wie ist es beim Re
 isen mit Kind, wenn der Name anders ist? Natürlich bleibt aber auch Platz f
 ür weitere Fragen! Dauer: 2h Kosten: 45€ pP Anmeldung unter: katharina.armb
 ruster@jus-support.com\n
X-ALT-DESC;FMTTYPE=text/html:<p><span style="color: #615454; font-family: Lato, sans-serif; font-size: 1
 6px; white-space-collapse: preserve;">In unserem Workshop setzen wir uns mi
 t wesentlichen arbeits- und familienrechtlichen Fragen auseinander. Im Arbe
 itsrecht bespricht Dr. Katharina Armbruster (Juristin im Arbeitsrecht in ei
 nem internat. Konzern) - was darf mein Arbeitgeber/meine Arbeitgeberin best
 immen, während ich schwanger bin? Darf ich noch Überstunden machen? Verlier
 e ich verschiedene Zulagen und Boni? - wie schütze ich mich in der Karenz d
 avor, "ersetzt" zu werden? - wann kann ich in Elternteilzeit gehen und was 
 bringt mir das? - ist Bildungskarenz zielführend? - was mache ich, wenn ich
  zum bisherigen Dienstgeber eigentlich nicht zurück möchte? Im Familienrech
 t diskutiert Mag. Samuel Benedik (eingetragener Rechtsanwalt ) Fragen wie: 
 - wäre es sinnvoll zu heiraten, wenn ein Kind kommt? - wer hat die Obsorge,
  wenn man unverheiratet ist? - gibt es bei der Führung eines unterschiedlic
 hen Nachnamens etwas zu beachten? - was passiert, falls es auseinander geht
  mit der Obsorge? - wie ist es beim Reisen mit Kind, wenn der Name anders i
 st? Natürlich bleibt aber auch Platz für weitere Fragen! Dauer: 2h Kosten: 
 45€ pP Anmeldung unter: katharina.armbruster@jus-support.com</span></p>
CONTACT:Katharina Armbruster
X-EXTRAINFO:[preis='4500'][anmeldung='true']
DTSTAMP:20260425T200741
DTSTART:20250508T153000
DTEND:20250508T173000
SEQUENCE:0
TRANSP:OPAQUE
END:VEVENT
END:VCALENDAR