BEGIN:VCALENDAR
VERSION:2.0
PRODID:-//jEvents 2.0 for Joomla//EN
CALSCALE:GREGORIAN
METHOD:PUBLISH
BEGIN:VEVENT
UID:4f9dd64b7d99b840aff9b88810987cd0
CATEGORIES:1. Bezirk
CREATED:20250306T152632
SUMMARY:Kinderflohmarkt im Arkadenhof des Erzbischöflichen Palais
LOCATION:Rotenturmstrasse 2\, 1010 Wien
DESCRIPTION:Am 1. Juni 2025, von 9:00-14:00 Uhr, laden meinefamilie.at https://www.mein
 efamilie.at/ (https://www.meinefamilie.at/) in Kooperation mit der St. Elis
 abeth-Stiftung Wien https://www.elisabethstiftung.at/ (https://www.elisabet
 hstiftung.at/) Familien, Kinder und Flohmarktbegeisterte zum Stöbern auf de
 m Kinderflohmarkt im Arkadenhof des Erzbischöflichen Palais ein.\nDas erwar
 tet dich beim Kinderflohmarkt am Stephansplatz:\n- Viele Stände zum Stöbern
 : Kinderkleidung, Bücher, Spielzeug, Schulwaren und vieles mehr!\n- Kinders
 chminken\n- Die Andreaskapelle im Erzbischöflichen Palais lädt zum Entdecke
 n ein!\nUnd das alles bei freiem Eintritt!\n\nFür Aussteller:\n \n Standpla
 tzgebühr: € 25,- \n Tische &amp; Bänke werden zur Verfügung gestellt (pro A
 ussteller ein Tisch und eine Bank)\n Anlieferung: 1. Juni, ab 07:30 bis 08:
 30 Uhr\n Abholung: 1. Juni, ab 14:00 bis 15:00 Uhr\n Die Zufahrt mit dem Au
 to ist möglich, es besteht jedoch im Hof keine Parkmöglichkeit!\n \n Nicht 
 verkaufte Sachen werden seitens der Erzdiözese nicht entsorgt!\n\nAnmeldung
  und Informationen unter:\nHomepage: https://www.meinefamilie.at/veranstalt
 ungen/kinderflohmarkt-wien\nTelefon: 01/51552/3971\nE-Mail-Adresse: kinderf
 lohmarkt@meinefamilie.at\nEine Anmeldung ist unbedingt erforderlich!\n
X-ALT-DESC;FMTTYPE=text/html:<p class="MsoNormal">Am 1. Juni 2025, von 9:00-14:00 Uhr, laden meinefamili
 e.at <a href="https://www.meinefamilie.at/">https://www.meinefamilie.at/</a
 > in Kooperation mit der St. Elisabeth-Stiftung Wien <a href="https://www.e
 lisabethstiftung.at/">https://www.elisabethstiftung.at/</a> Familien, Kinde
 r und Flohmarktbegeisterte zum Stöbern auf dem Kinderflohmarkt im Arkadenho
 f des Erzbischöflichen Palais ein.</p><p>Das erwartet dich beim Kinderflohm
 arkt am Stephansplatz:</p><p>- Viele Stände zum Stöbern: Kinderkleidung, Bü
 cher, Spielzeug, Schulwaren und vieles mehr!<br />- Kinderschminken<br />- 
 Die Andreaskapelle im Erzbischöflichen Palais lädt zum Entdecken ein!</p><p
  class="MsoNormal"><b style="mso-bidi-font-weight: normal;">Und das alles b
 ei freiem Eintritt!<br /></b><br />Für Aussteller:<br /> <br /> Standplatzg
 ebühr: € 25,- <br /> Tische &amp; Bänke werden zur Verfügung gestellt (pro 
 Aussteller ein Tisch und eine Bank)<br /> Anlieferung: 1. Juni, ab 07:30 bi
 s 08:30 Uhr<br /> Abholung: 1. Juni, ab 14:00 bis 15:00 Uhr<br /> Die Zufah
 rt mit dem Auto ist möglich, es besteht jedoch im Hof keine Parkmöglichkeit
 !<br /> <br /> Nicht verkaufte Sachen werden seitens der Erzdiözese nicht e
 ntsorgt!<br /><br />Anmeldung und Informationen unter:<br />Homepage: https
 ://www.meinefamilie.at/veranstaltungen/kinderflohmarkt-wien<br />Telefon: 0
 1/51552/3971<br />E-Mail-Adresse: kinderflohmarkt@meinefamilie.at<br />Eine
  Anmeldung ist unbedingt erforderlich!</p>
CONTACT:Sabine Niedl, meinefamilie.at
DTSTAMP:20260425T233336
DTSTART:20250601T070000
DTEND:20250601T120000
SEQUENCE:0
TRANSP:OPAQUE
END:VEVENT
END:VCALENDAR