BEGIN:VCALENDAR
VERSION:2.0
PRODID:-//jEvents 2.0 for Joomla//EN
CALSCALE:GREGORIAN
METHOD:PUBLISH
BEGIN:VEVENT
UID:91b883ebb3a2c4a87fa5b98da022e30f
CATEGORIES:Online
CREATED:20250311T125244
SUMMARY:ONLINE: Physiotherapeutische Geburtsvorbereitung in der Gruppe, live plus Aufzeichnung
LOCATION:online
DESCRIPTION:Wie kann man den Geburtsverlauf positiv beeinflussen?\n \n An meinem Kurs n
 ehmen nicht nur Erstgebärende teil, sondern auch viele Frauen, die bereits 
 Kinder haben und deren Geburten anders verlaufen sind als erhofft.\n Der Ku
 rs findet live über Zoom statt, wird aber auch aufgezeichnet. Es ist daher 
 kein Problem, wenn du nicht live dabei sein kannst!\n \n Termine:\n Mi, 18.
 6., 9:15-11:15\nDi, 24.6., 9:15-11:15\n So, 29.6., 9:30-11:30 (mit Partner*
 in)\n \n Darum geht es im Kurs:\n Wie kann ich meinem Baby helfen, die opti
 male Startposition zu finden - schon in der Schwangerschaft, aber auch dire
 kt während der Geburt?\n Was kann ich gegen schwangerschaftsbedingte Schmer
 zen tun?\n Durch welche Positionen und Bewegungen kann ich den Geburtsverla
 uf positiv beeinflussen und welche können nachteilig sein?\n Warum sollte i
 ch meinen Beckenboden schon jetzt trainieren und wie funktioniert das?\n Wi
 e läuft eine Geburt ab?\n Was hat es mit der richtigen Atmung auf sich?\n W
 ie bewegt sich das Kind durch das Becken?\n Warum ist es wichtig, als gebär
 ende Person gut informiert zu sein?\nspan style="color: #313e4f; font-famil
 y: arial, 'ｍｓ ｐゴシック', 'ms pgothic', 돋움, dotum, helvetica, sans-serif; lette
 r-spacing: 0.26px;"&gt;Wo liegen die Un"erschiede zwischen Krankenhaus-, Ge
 burtshaus- und Hausgeburt?\n Wie kann ich mithelfen, Geburtsverletzungen vo
 rzubeugen?\n Wie setze ich meinen Körper während der Geburt optimal ein?\n 
 Wie kann mich mein/e Partner*in bestmöglich unterstützen?\n Wie gestalte ic
 h die Geburt aktiv mit, statt mich passiv entbinden zu lassen?\n Was kann i
 ch selbst oder mein/e Partner*in gegen den Wehenschmerz tun?\n Was ist nach
  der Geburt wichtig für meinen Körper?\nAll das und mehr besprechen wir in 
 diesem Kurs. Er kann und soll die Geburtsvorbereitung mit einer Hebamme kei
 neswegs ersetzen, ist aber eine sinnvolle Ergänzung dazu. Ich habe als Phys
 iotherapeutin einschlägige Fortbildungen absolviert, eng mit Hebammen zusam
 mengearbeitet, einige Geburten im beruflichen Kontext miterlebt (Krankenhau
 s, Hausgeburt) und zwei eigene Kinder geboren (Krankenhaus, Geburtshaus).\n
 Die Teilnahme ist ab der 13. Schwangerschaftswoche möglich. Der dritte Term
 in sollte am besten mit Partner*in besucht werden, ist aber auch mit einer 
 anderen Begleitperson oder notfalls alleine möglich. Es dürfen nur Schwange
 re teilnehmen, dies ist keine Fortbildung!\n
X-ALT-DESC;FMTTYPE=text/html:<p class="MsoNormal">Wie kann man den Geburtsverlauf positiv beeinflussen?<
 br /> <br /> An meinem Kurs nehmen nicht nur Erstgebärende teil, sondern au
 ch viele Frauen, die bereits Kinder haben und deren Geburten anders verlauf
 en sind als erhofft.<br /> Der Kurs findet live über Zoom statt, wird aber 
 auch aufgezeichnet. Es ist daher kein Problem, wenn du nicht live dabei sei
 n kannst!<br /> <br /> Termine:<br /> Mi, 18.6., 9:15-11:15<br />Di, 24.6.,
  9:15-11:15<br /> So, 29.6., 9:30-11:30 (mit Partner*in)<br /> <br /> Darum
  geht es im Kurs:<br /> Wie kann ich meinem Baby helfen, die optimale Start
 position zu finden - schon in der Schwangerschaft, aber auch direkt während
  der Geburt?<br /> Was kann ich gegen schwangerschaftsbedingte Schmerzen tu
 n?<br /> Durch welche Positionen und Bewegungen kann ich den Geburtsverlauf
  positiv beeinflussen und welche können nachteilig sein?<br /> Warum sollte
  ich meinen Beckenboden schon jetzt trainieren und wie funktioniert das?<br
  /> Wie läuft eine Geburt ab?<br /> Was hat es mit der richtigen Atmung auf
  sich?<br /> Wie bewegt sich das Kind durch das Becken?<br /> Warum ist es 
 wichtig, als gebärende Person gut informiert zu sein?<br />span style="colo
 r: #313e4f; font-family: arial, 'ｍｓ ｐゴシック', 'ms pgothic', 돋움, dotum, helvet
 ica, sans-serif; letter-spacing: 0.26px;&quot;&gt;Wo liegen die Un"erschied
 e zwischen Krankenhaus-, Geburtshaus- und Hausgeburt?</span><br /> Wie kann
  ich mithelfen, Geburtsverletzungen vorzubeugen?<br /> Wie setze ich meinen
  Körper während der Geburt optimal ein?<br /> Wie kann mich mein/e Partner*
 in bestmöglich unterstützen?<br /> Wie gestalte ich die Geburt aktiv mit, s
 tatt mich passiv entbinden zu lassen?<br /> Was kann ich selbst oder mein/e
  Partner*in gegen den Wehenschmerz tun?<br /> Was ist nach der Geburt wicht
 ig für meinen Körper?</p><p class="MsoNormal">All das und mehr besprechen w
 ir in diesem Kurs. Er kann und soll die Geburtsvorbereitung mit einer Hebam
 me keineswegs ersetzen, ist aber eine sinnvolle Ergänzung dazu. Ich habe al
 s Physiotherapeutin einschlägige Fortbildungen absolviert, eng mit Hebammen
  zusammengearbeitet, einige Geburten im beruflichen Kontext miterlebt (Kran
 kenhaus, Hausgeburt) und zwei eigene Kinder geboren (Krankenhaus, Geburtsha
 us).</p><p><span style="font-size: 12.0pt; line-height: 115%; font-family: 
 'Calibri',sans-serif; mso-ascii-theme-font: minor-latin; mso-fareast-font-f
 amily: Calibri; mso-fareast-theme-font: minor-latin; mso-hansi-theme-font: 
 minor-latin; mso-bidi-font-family: 'Times New Roman'; mso-bidi-theme-font: 
 minor-bidi; mso-ansi-language: DE-AT; mso-fareast-language: EN-US; mso-bidi
 -language: AR-SA;">Die Teilnahme ist ab der 13. Schwangerschaftswoche mögli
 ch. Der dritte Termin sollte am besten mit Partner*in besucht werden, ist a
 ber auch mit einer anderen Begleitperson oder notfalls alleine möglich.&nbs
 p;Es dürfen nur Schwangere teilnehmen, dies ist keine Fortbildung!</span></
 p>
CONTACT:http://www.physiomattes.at/geburtsvorbereitungskurse (http://www.physiomattes.at/geburtsvorbereitungskurse)
X-EXTRAINFO:[preis='10800'][anmeldung='true']
DTSTAMP:20260425T173614
DTSTART:20250618T071500
DTEND:20250618T091500
SEQUENCE:0
TRANSP:OPAQUE
END:VEVENT
END:VCALENDAR