BEGIN:VCALENDAR
VERSION:2.0
PRODID:-//jEvents 2.0 for Joomla//EN
CALSCALE:GREGORIAN
METHOD:PUBLISH
BEGIN:VEVENT
UID:c787f1638ca015625185b9e2e9e93932
CATEGORIES:8. Bezirk
CREATED:19700101T010000
SUMMARY:Gestalten mit Ton für Kinder
LOCATION:VHS Josefstadt\, Schmidgasse 18\, 1080 Wien
DESCRIPTION:Gestalten mit Ton für Kinder (6-12 Jahre)\nKeramikkurs für Kinder ab 6 Jahr
 e\n \nMi 5x, 07.05.-04.06.2025, 16-17:30 Uhr\n7,5 UE | TN-Min/Max: 8-8\nVHS
  Josefstadt\nGebühr: 73 €\nIn diesem Kurs tauchen die Kinder in die faszini
 erende Welt des Tons ein. Mit viel Fantasie und Spaß lernen sie die grundle
 genden Techniken des Modellierens und Formens und kreieren dabei einzigarti
 ge Kunstwerke. Der Kurs bietet Raum, die eigene Kreativität auszuleben und 
 gleichzeitig handwerkliche Fähigkeiten zu entwickeln. \nZusatzinfo: Kurspre
 is ist inklusive Ton- &amp; Brennkosten von € 13.\nBitte mitbringen: Arbeit
 skleidung (Schürze).\n \nTermine:\n07.05.2025, 16:00:00 - 17:30:00\n14.05.2
 025, 16:00:00 - 17:30:00\n21.05.2025, 16:00:00 - 17:30:00\n28.05.2025, 16:0
 0:00 - 17:30:00\n04.06.2025, 16:00:00 - 17:30:00\n
X-ALT-DESC;FMTTYPE=text/html:<p>Gestalten mit Ton für Kinder (6-12 Jahre)</p><p>Keramikkurs für Kinder a
 b 6 Jahre</p><p>&nbsp;</p><p>Mi 5x, 07.05.-04.06.2025, 16-17:30 Uhr</p><p>7
 ,5 UE | TN-Min/Max: 8-8</p><p>VHS Josefstadt</p><p>Gebühr: 73 €</p><p>In di
 esem Kurs tauchen die Kinder in die faszinierende Welt des Tons ein. Mit vi
 el Fantasie und Spaß lernen sie die grundlegenden Techniken des Modellieren
 s und Formens und kreieren dabei einzigartige Kunstwerke. Der Kurs bietet R
 aum, die eigene Kreativität auszuleben und gleichzeitig handwerkliche Fähig
 keiten zu entwickeln.&nbsp;</p><p>Zusatzinfo: Kurspreis ist inklusive Ton- 
 &amp; Brennkosten von € 13.</p><p>Bitte mitbringen: Arbeitskleidung (Schürz
 e).</p><p>&nbsp;</p><p>Termine:</p><p>07.05.2025, 16:00:00 - 17:30:00</p><p
 >14.05.2025, 16:00:00 - 17:30:00</p><p>21.05.2025, 16:00:00 - 17:30:00</p><
 p>28.05.2025, 16:00:00 - 17:30:00</p><p>04.06.2025, 16:00:00 - 17:30:00</p>
CONTACT:josefstadt@vhs.at
X-EXTRAINFO:[preis='7300'][anmeldung='true']
DTSTAMP:20260425T200912
DTSTART:20250507T140000
DTEND:20250507T153000
SEQUENCE:0
RRULE:FREQ=WEEKLY;UNTIL=20250605T000000Z;INTERVAL=1;BYDAY=WE
TRANSP:OPAQUE
END:VEVENT
END:VCALENDAR