BEGIN:VCALENDAR
VERSION:2.0
PRODID:-//jEvents 2.0 for Joomla//EN
CALSCALE:GREGORIAN
METHOD:PUBLISH
BEGIN:VEVENT
UID:6d4c39cb896d917b8502c77b2c568a05
CATEGORIES:8. Bezirk
CREATED:19700101T010000
SUMMARY:Klingende Abenteuer - Chor für Kinder (6-10 Jahre)
LOCATION:VHS Josefstadt\, Schmidgasse 18\, 1080 Wien
DESCRIPTION:Klingende Abenteuer – Chor für Kinder (6-10 Jahre)\n \nMo 7x, 28.04.-23.06.
 2025, 16-17 Uhr\n7 UE \nVHS Josefstadt\nZusatzinfo: Kein Kurs 09.06.2025 un
 d 16.06.2025!\nGebühr: 51 €\n \nIn unserem Chor entdecken Kinder ab der Vol
 ksschule die Freude am Singen. Gemeinsam tauchen wir in die Welt der Musik 
 ein, stärken spielerisch unsere Stimmen und schulen das Gehör. Wir singen f
 röhliche Lieder aus aller Welt, lernen dabei die Grundlagen des mehrstimmig
 en Singens, trainieren Rhythmus und musikalischen Ausdruck. \n \nTermine:\n
 28.04.2025, 16:00:00 - 17:00:00\n05.05.2025, 16:00:00 - 17:00:00\n12.05.202
 5, 16:00:00 - 17:00:00\n19.05.2025, 16:00:00 - 17:00:00\n26.05.2025, 16:00:
 00 - 17:00:00\n02.06.2025, 16:00:00 - 17:00:00\n23.06.2025, 16:00:00 - 17:0
 0:00\n
X-ALT-DESC;FMTTYPE=text/html:<p>Klingende Abenteuer – Chor für Kinder (6-10 Jahre)</p><p>&nbsp;</p><p>Mo
  7x, 28.04.-23.06.2025, 16-17 Uhr</p><p>7 UE&nbsp;</p><p>VHS Josefstadt</p>
 <p>Zusatzinfo: Kein Kurs 09.06.2025 und 16.06.2025!</p><p>Gebühr: 51 €</p><
 p>&nbsp;</p><p>In unserem Chor entdecken Kinder ab der Volksschule die Freu
 de am Singen. Gemeinsam tauchen wir in die Welt der Musik ein, stärken spie
 lerisch unsere Stimmen und schulen das Gehör. Wir singen fröhliche Lieder a
 us aller Welt, lernen dabei die Grundlagen des mehrstimmigen Singens, train
 ieren Rhythmus und musikalischen Ausdruck.&nbsp;</p><p>&nbsp;</p><p>Termine
 :</p><p>28.04.2025, 16:00:00 - 17:00:00</p><p>05.05.2025, 16:00:00 - 17:00:
 00</p><p>12.05.2025, 16:00:00 - 17:00:00</p><p>19.05.2025, 16:00:00 - 17:00
 :00</p><p>26.05.2025, 16:00:00 - 17:00:00</p><p>02.06.2025, 16:00:00 - 17:0
 0:00</p><p>23.06.2025, 16:00:00 - 17:00:00</p>
CONTACT:josefstadt@vhs.at
X-EXTRAINFO:[preis='5100'][anmeldung='true']
DTSTAMP:20260425T233341
DTSTART:20250428T140000
DTEND:20250428T150000
SEQUENCE:0
RRULE:FREQ=WEEKLY;UNTIL=20250624T000000Z;INTERVAL=1;BYDAY=MO
TRANSP:OPAQUE
END:VEVENT
END:VCALENDAR