BEGIN:VCALENDAR
VERSION:2.0
PRODID:-//jEvents 2.0 for Joomla//EN
CALSCALE:GREGORIAN
METHOD:PUBLISH
BEGIN:VEVENT
UID:17598ba5f7addd3d10d403fe56bac954
CATEGORIES:18. Bezirk
CREATED:20250402T092635
SUMMARY:Eltern-Kind Spielraum auf Basis der Emmi Pikler Pädagogik
LOCATION:Spielringel  Mollgasse  11-13
DESCRIPTION:Eltern-Kind Spielraum auf Basis der Emmi Pikler Pädagogik   Krabbelalter bi
 s 20 MonateIn unserem Eltern Kind Spielraum, triffst du auf eine von Steffy
  vorbereitete Umgebung, in der dein Kind die Möglichkeit bekommt herauszufi
 nden, was gerade dran ist.\nIn diesem Moment, aus dem Innersten heraus.\nDi
 e Kinder sind in ihrer Entwicklung sehr unterschiedlich, und nutzen das ver
 lockende Angebot auf ihre eigene Art und Weise. Manche erforschen das Mater
 ial, bei manchen ist gerade die Bewegung dran und dann gibt es Kinder, die 
 gerne bei ihrer Begleitperson bleiben und beobachten.\nSteffy lädt dich her
 zlich ein, alle Erwartungen vor der Tür zu lassen und dich an dem Dasein de
 ines Kindes zu erfreuen.\nIhre Aufgabe sieht unsere Spielgruppenleiterin im
  Beobachten der Kinder bei seinen Aktivitäten, sie hält den Raum und gibt S
 icherheit. Wenn sich Fragen aus einer entstehenden Situation ergeben, beant
 wortet sie sie gerne.\nIn diesen Kurs ist ein Gesprächskreis am Mittwoch, d
 em 04.06. 18:30-19:30 inkludiert:\nHier stellt dir Steffy einen Raum zur Ve
 rfügung in dem du all deine Fragen die dich im Alltag mit deiner Familie be
 schäftigen oder Erlebtes aus dem Spielraum, mit der Gruppe zu teilen.\nDu d
 arfst den Abend ganz für dich und deine Fragen nutzen. Du wirst Sicherheit 
 beim Treffen von Entscheidungen bekommen, und mit neu gewonnener Kraft und 
 Lust dein Familienleben bereichern.\n
X-ALT-DESC;FMTTYPE=text/html:<h2 class="element-header" style="box-sizing: border-box; margin-top: 0px; 
 margin-bottom: 0.5rem; font-family: Montserrat; font-weight: 300; line-heig
 ht: 1.2; font-size: 2.275rem; color: #2b2b2b;">Eltern-Kind Spielraum auf Ba
 sis der Emmi Pikler Pädagogik&nbsp;</h2><div class="frame-container" style=
 "box-sizing: border-box; position: relative; width: 815px; padding-right: 0
 px; padding-left: 0px; margin-right: auto; margin-left: auto; max-width: 11
 40px; margin-bottom: 0px;"><div class="frame-inner" style="box-sizing: bord
 er-box;"><div class="textpic textpic-right" style="box-sizing: border-box; 
 display: flex; flex-wrap: wrap; margin-left: -20px; margin-right: -20px; ma
 rgin-bottom: 0px;"><div class="textpic-item textpic-gallery" style="box-siz
 ing: border-box; order: 2; width: 427.5px; padding-left: 20px; padding-righ
 t: 20px; margin-bottom: 0px; color: #2b2b2b; font-family: Roboto; font-size
 : 16px; font-style: normal; font-variant-ligatures: normal; font-variant-ca
 ps: normal; font-weight: 400; letter-spacing: normal; orphans: 2; text-alig
 n: left; text-indent: 0px; text-transform: none; widows: 2; word-spacing: 0
 px; -webkit-text-stroke-width: 0px; white-space: normal; background-color: 
 #ffffff; text-decoration-thickness: initial; text-decoration-style: initial
 ; text-decoration-color: initial;"><div class="gallery-row" style="box-sizi
 ng: border-box; display: flex; flex-wrap: wrap; margin-left: -0.5rem; margi
 n-right: -0.5rem; margin-bottom: -1rem;"><div class="gallery-item gallery-i
 tem-size-1" style="box-sizing: border-box; padding-left: 0.5rem; padding-ri
 ght: 0.5rem; width: 403.494px;">&nbsp;</div></div></div><div class="textpic
 -item textpic-text" style="box-sizing: border-box; order: 1; width: 427.5px
 ; padding-left: 20px; padding-right: 20px; margin-bottom: 0px; color: #2b2b
 2b; font-family: Roboto; font-size: 16px; font-style: normal; font-variant-
 ligatures: normal; font-variant-caps: normal; font-weight: 400; letter-spac
 ing: normal; orphans: 2; text-align: left; text-indent: 0px; text-transform
 : none; widows: 2; word-spacing: 0px; -webkit-text-stroke-width: 0px; white
 -space: normal; background-color: #ffffff; text-decoration-thickness: initi
 al; text-decoration-style: initial; text-decoration-color: initial;">&nbsp;
 </div></div></div></div><header class="frame-header" style="box-sizing: bor
 der-box; display: block;"><h4 style="box-sizing: border-box; margin-top: 0p
 x; margin-bottom: 1rem; font-family: Montserrat; font-weight: 300; line-hei
 ght: 1.2; font-size: 1.625rem;">Krabbelalter bis 20 Monate</h4><p style="bo
 x-sizing: border-box; margin-top: 0px; margin-bottom: 1rem; color: #2b2b2b;
  font-family: Roboto; font-size: 16px;">In unserem Eltern Kind Spielraum, t
 riffst du auf eine von Steffy vorbereitete Umgebung, in der dein Kind die M
 öglichkeit bekommt herauszufinden, was gerade dran ist.</p><p style="box-si
 zing: border-box; margin-top: 0px; margin-bottom: 1rem; color: #2b2b2b; fon
 t-family: Roboto; font-size: 16px;">In diesem Moment, aus dem Innersten her
 aus.</p><p style="box-sizing: border-box; margin-top: 0px; margin-bottom: 1
 rem; color: #2b2b2b; font-family: Roboto; font-size: 16px;">Die Kinder sind
  in ihrer Entwicklung sehr unterschiedlich, und nutzen das verlockende Ange
 bot auf ihre eigene Art und Weise. Manche erforschen das Material, bei manc
 hen ist gerade die Bewegung dran und dann gibt es Kinder, die gerne bei ihr
 er Begleitperson bleiben und beobachten.</p><p style="box-sizing: border-bo
 x; margin-top: 0px; margin-bottom: 1rem; color: #2b2b2b; font-family: Robot
 o; font-size: 16px;">Steffy lädt dich herzlich ein, alle Erwartungen vor de
 r Tür zu lassen und dich an dem Dasein deines Kindes zu erfreuen.</p><p sty
 le="box-sizing: border-box; margin-top: 0px; margin-bottom: 1rem; color: #2
 b2b2b; font-family: Roboto; font-size: 16px;">Ihre Aufgabe sieht unsere Spi
 elgruppenleiterin im Beobachten der Kinder bei seinen Aktivitäten, sie hält
  den Raum und gibt Sicherheit. Wenn sich Fragen aus einer entstehenden Situ
 ation ergeben, beantwortet sie sie gerne.</p><p style="box-sizing: border-b
 ox; margin-top: 0px; margin-bottom: 1rem; color: #2b2b2b; font-family: Robo
 to; font-size: 16px;">In diesen Kurs ist ein&nbsp;<span style="box-sizing: 
 border-box; font-weight: bolder;">Gesprächskreis am Mittwoch, dem 04.06. 18
 :30-19:30&nbsp;</span>inkludiert:</p><p style="box-sizing: border-box; marg
 in-top: 0px; margin-bottom: 1rem; color: #2b2b2b; font-family: Roboto; font
 -size: 16px;">Hier stellt dir Steffy einen Raum zur Verfügung in dem du all
  deine Fragen die dich im Alltag mit deiner Familie beschäftigen oder Erleb
 tes aus dem Spielraum, mit der Gruppe zu teilen.</p><p style="box-sizing: b
 order-box; margin-top: 0px; margin-bottom: 0px; color: #2b2b2b; font-family
 : Roboto; font-size: 16px;">Du darfst den Abend ganz für dich und deine Fra
 gen nutzen. Du wirst Sicherheit beim Treffen von Entscheidungen bekommen, u
 nd mit neu gewonnener Kraft und Lust dein Familienleben bereichern.</p></he
 ader>
CONTACT:www.spielringel.at
X-EXTRAINFO:[preis='13400'][anmeldung='true']
DTSTAMP:20260425T200916
DTSTART:20250512T071500
DTEND:20250512T081500
SEQUENCE:0
TRANSP:OPAQUE
END:VEVENT
END:VCALENDAR