BEGIN:VCALENDAR
VERSION:2.0
PRODID:-//jEvents 2.0 for Joomla//EN
CALSCALE:GREGORIAN
METHOD:PUBLISH
BEGIN:VEVENT
UID:8d2af8910e763e4c23e895ef4cebf88e
CATEGORIES:18. Bezirk
CREATED:19700101T010000
SUMMARY:Babyklangwelt
LOCATION:Spielringel  Mollgasse  11-13
DESCRIPTION:Babyklangwelt für Babys (3-10 Monate)Mit: Susanne (https://spielringel.at/a
 ngebote/das-team/susanne)\nKurstag: Dienstag 13:00-13:45\nTermine: 06.05., 
 27.05., 03.06., 17.06., 24.06.\nKosten: €90,- (5-Wochen Kurs)\nBabys lieben
  Klänge, Geräusche, Musik und Gesang. Gemeinsam schaffen wir akustische und
  musikalische Erlebniswelten, in die sich die Babys nach Möglichkeit einbri
 ngen können und erweitern dabei auch Kompetenz und Repertoire das Kind im A
 lltag spielerisch zu fördern.\n
X-ALT-DESC;FMTTYPE=text/html:<h2 class="element-header" style="box-sizing: border-box; margin-top: 0px; 
 margin-bottom: 0.5rem; font-family: Montserrat; font-weight: 300; line-heig
 ht: 1.2; font-size: 2.275rem; color: #2b2b2b;">Babyklangwelt&nbsp;</h2><h4 
 style="box-sizing: border-box; margin-top: 0px; margin-bottom: 1rem; font-f
 amily: Montserrat; font-weight: 300; line-height: 1.2; font-size: 1.625rem;
  color: #2b2b2b;">für Babys (3-10 Monate)</h4><p><span class="text-primary 
 font-weight-bold" style="font-family: Roboto; font-size: 16px; background-c
 olor: inherit; box-sizing: border-box; font-weight: 700 !important; color: 
 #158795 !important;">Mit:&nbsp;</span><a href="https://spielringel.at/angeb
 ote/das-team/susanne" style="font-family: Roboto; font-size: 16px; backgrou
 nd-color: transparent; box-sizing: border-box; color: #158795; text-decorat
 ion-line: none;">Susanne</a></p><p style="box-sizing: border-box; margin-to
 p: 0px; margin-bottom: 1rem; color: #2b2b2b; font-family: Roboto; font-size
 : 16px;"><span class="text-primary font-weight-bold" style="box-sizing: bor
 der-box; font-weight: 700 !important; color: #158795 !important;">Kurstag:&
 nbsp;</span>Dienstag 13:00-13:45</p><p style="box-sizing: border-box; margi
 n-top: 0px; margin-bottom: 1rem; color: #2b2b2b; font-family: Roboto; font-
 size: 16px;"><span class="text-primary font-weight-bold" style="box-sizing:
  border-box; font-weight: 700 !important; color: #158795 !important;">Termi
 ne:&nbsp;</span>06.05., 27.05., 03.06., 17.06., 24.06.</p><p style="box-siz
 ing: border-box; margin-top: 0px; margin-bottom: 1rem; color: #2b2b2b; font
 -family: Roboto; font-size: 16px;"><span class="text-primary font-weight-bo
 ld" style="box-sizing: border-box; font-weight: 700 !important; color: #158
 795 !important;">Kosten:&nbsp;</span>€90,- (5-Wochen Kurs)</p><p style="box
 -sizing: border-box; margin-top: 0px; margin-bottom: 0px; color: #2b2b2b; f
 ont-family: Roboto; font-size: 16px;">Babys lieben Klänge, Geräusche, Musik
  und Gesang. Gemeinsam schaffen wir akustische und musikalische Erlebniswel
 ten, in die sich die Babys nach Möglichkeit einbringen können und erweitern
  dabei auch Kompetenz und Repertoire das Kind im Alltag spielerisch zu förd
 ern.</p>
CONTACT:www.spielringel.at
X-EXTRAINFO:[preis='9000'][anmeldung='true']
DTSTAMP:20260426T000636
DTSTART:20250506T110000
DTEND:20250506T114500
SEQUENCE:0
RRULE:FREQ=WEEKLY;UNTIL=20250627T000000Z;INTERVAL=1;BYDAY=TU
TRANSP:OPAQUE
END:VEVENT
END:VCALENDAR