BEGIN:VCALENDAR
VERSION:2.0
PRODID:-//jEvents 2.0 for Joomla//EN
CALSCALE:GREGORIAN
METHOD:PUBLISH
BEGIN:VEVENT
UID:9c3562b916568ba761406781c3b91771
CATEGORIES:18. Bezirk
CREATED:19700101T010000
SUMMARY:Spielgruppe mit Musik für Babys
LOCATION:Spielringel  Mollgasse  11-13
DESCRIPTION:Spielgruppe mit Musik für Babys Dienstag für Babys (6-14 Monate)Start: 06.0
 5.2025\nMit: Susanne (https://spielringel.at/angebote/das-team/susanne)\nKu
 rstag: Dienstag 14:00-14:45\nTermine: 06.05., 27.05., 03.06., 17.06., 24.06
 .\nKosten: €90,- (5-Wochen Kurs)\n„Musikalität ist vor allem die Fähigkeit 
 von Musik berührt zu werden."\nEs wird dem Alter und der Entwicklung der Ba
 bys entsprechend, gespielt, gesungen, getanzt und musiziert. Musik fördert 
 die Entwicklung von Babys: Sie ist gut für die Bewegungskoordination, die S
 prachentwicklung, den Gleichgewichtssinn und die Bindung zur Bezugsperson. 
 Das beste daran ist, dass es einfach Freude macht!\n
X-ALT-DESC;FMTTYPE=text/html:<h2 class="element-header" style="box-sizing: border-box; margin-top: 0px; 
 margin-bottom: 0.5rem; font-family: Montserrat; font-weight: 300; line-heig
 ht: 1.2; font-size: 2.275rem; color: #2b2b2b;">Spielgruppe mit Musik für Ba
 bys Dienstag&nbsp;</h2><h4 style="box-sizing: border-box; margin-top: 0px; 
 margin-bottom: 1rem; font-family: Montserrat; font-weight: 300; line-height
 : 1.2; font-size: 1.625rem; color: #2b2b2b;">für Babys (6-14 Monate)</h4><p
  style="box-sizing: border-box; margin-top: 0px; margin-bottom: 1rem; color
 : #2b2b2b; font-family: Roboto; font-size: 16px;"><span class="text-primary
  font-weight-bold" style="box-sizing: border-box; font-weight: 700 !importa
 nt; color: #158795 !important;">Start:&nbsp;</span>06.05.2025</p><p style="
 box-sizing: border-box; margin-top: 0px; margin-bottom: 1rem; color: #2b2b2
 b; font-family: Roboto; font-size: 16px;"><span class="text-primary font-we
 ight-bold" style="box-sizing: border-box; font-weight: 700 !important; colo
 r: #158795 !important;">Mit:&nbsp;</span><a href="https://spielringel.at/an
 gebote/das-team/susanne" style="box-sizing: border-box; color: #158795; tex
 t-decoration-line: none; background-color: transparent;">Susanne</a></p><p 
 style="box-sizing: border-box; margin-top: 0px; margin-bottom: 1rem; color:
  #2b2b2b; font-family: Roboto; font-size: 16px;"><span class="text-primary 
 font-weight-bold" style="box-sizing: border-box; font-weight: 700 !importan
 t; color: #158795 !important;">Kurstag:&nbsp;</span>Dienstag 14:00-14:45</p
 ><p style="box-sizing: border-box; margin-top: 0px; margin-bottom: 1rem; co
 lor: #2b2b2b; font-family: Roboto; font-size: 16px;"><span class="text-prim
 ary font-weight-bold" style="box-sizing: border-box; font-weight: 700 !impo
 rtant; color: #158795 !important;">Termine:&nbsp;</span>06.05., 27.05., 03.
 06., 17.06., 24.06.</p><p style="box-sizing: border-box; margin-top: 0px; m
 argin-bottom: 1rem; color: #2b2b2b; font-family: Roboto; font-size: 16px;">
 <span class="text-primary font-weight-bold" style="box-sizing: border-box; 
 font-weight: 700 !important; color: #158795 !important;">Kosten:&nbsp;</spa
 n>€90,- (5-Wochen Kurs)</p><p style="box-sizing: border-box; margin-top: 0p
 x; margin-bottom: 1rem; color: #2b2b2b; font-family: Roboto; font-size: 16p
 x;">„Musikalität ist vor allem die Fähigkeit von Musik berührt zu werden."<
 /p><p style="box-sizing: border-box; margin-top: 0px; margin-bottom: 0px; c
 olor: #2b2b2b; font-family: Roboto; font-size: 16px;">Es wird dem Alter und
  der Entwicklung der Babys entsprechend, gespielt, gesungen, getanzt und mu
 siziert. Musik fördert die Entwicklung von Babys: Sie ist gut für die Beweg
 ungskoordination, die Sprachentwicklung, den Gleichgewichtssinn und die Bin
 dung zur Bezugsperson. Das beste daran ist, dass es einfach Freude macht!</
 p>
CONTACT:www.spielringel.at
X-EXTRAINFO:[preis='9000'][anmeldung='true']
DTSTAMP:20260425T233403
DTSTART:20250506T120000
DTEND:20250506T124500
SEQUENCE:0
RRULE:FREQ=WEEKLY;UNTIL=20250627T000000Z;INTERVAL=1;BYDAY=TU
TRANSP:OPAQUE
END:VEVENT
END:VCALENDAR