BEGIN:VCALENDAR
VERSION:2.0
PRODID:-//jEvents 2.0 for Joomla//EN
CALSCALE:GREGORIAN
METHOD:PUBLISH
BEGIN:VEVENT
UID:346e637a23dc5526fc55f85952a4757d
CATEGORIES:18. Bezirk
CREATED:19700101T010000
SUMMARY:Eltern-Kind Spielraum auf Basis der Emmi Pikler Pädagogik
LOCATION:Spielringel  Mollgasse  11-13
DESCRIPTION:Eltern-Kind Spielraum auf Basis der Emmi Pikler PädagogikKrabbelalter bis 2
 0 MonateStart: 21.05.2025\nMit: Steffy (https://spielringel.at/angebote/das
 -team/steffy-borgwardt)\nKurstag: 6x Mittwoch 09:30-10:30 und 1x 18:30-19:3
 0 (Gesprächskreis)\nTermine: 21.05., 28.05., 04.06., 11.06., 18.06., 25.06.
  und zusätzlich einmalig am Mittwoch Abend 04.06. 18:30\nKosten: €134,- (6 
 Einheiten Spielraum u. 1x Gesprächskreis)\nIn unserem Eltern Kind Spielraum
 , triffst du auf eine von Steffy vorbereitete Umgebung, in der dein Kind di
 e Möglichkeit bekommt herauszufinden, was gerade dran ist.\nIn diesem Momen
 t, aus dem Innersten heraus.\nDie Kinder sind in ihrer Entwicklung sehr unt
 erschiedlich, und nutzen das verlockende Angebot auf ihre eigene Art und We
 ise. Manche erforschen das Material, bei manchen ist gerade die Bewegung dr
 an und dann gibt es Kinder, die gerne bei ihrer Begleitperson bleiben und b
 eobachten.\nSteffy lädt dich herzlich ein, alle Erwartungen vor der Tür zu 
 lassen und dich an dem Dasein deines Kindes zu erfreuen.\nIhre Aufgabe sieh
 t unsere Spielgruppenleiterin im Beobachten der Kinder bei seinen Aktivität
 en, sie hält den Raum und gibt Sicherheit. Wenn sich Fragen aus einer entst
 ehenden Situation ergeben, beantwortet sie sie gerne.\nIn diesen Kurs ist e
 in Gesprächskreis am Mittwoch, dem 04.06. 18:30-19:30 inkludiert:\nHier ste
 llt dir Steffy einen Raum zur Verfügung in dem du all deine Fragen die dich
  im Alltag mit deiner Familie beschäftigen oder Erlebtes aus dem Spielraum,
  mit der Gruppe zu teilen.\nDu darfst den Abend ganz für dich und deine Fra
 gen nutzen. Du wirst Sicherheit beim Treffen von Entscheidungen bekommen, u
 nd mit neu gewonnener Kraft und Lust dein Familienleben bereichern.\n
X-ALT-DESC;FMTTYPE=text/html:<h2 class="element-header" style="box-sizing: border-box; margin-top: 0px; 
 margin-bottom: 0.5rem; font-family: Montserrat; font-weight: 300; line-heig
 ht: 1.2; font-size: 2.275rem; color: #2b2b2b;">Eltern-Kind Spielraum auf Ba
 sis der Emmi Pikler Pädagogik</h2><h4 style="box-sizing: border-box; margin
 -top: 0px; margin-bottom: 1rem; font-family: Montserrat; font-weight: 300; 
 line-height: 1.2; font-size: 1.625rem; color: #2b2b2b;">Krabbelalter bis 20
  Monate</h4><p style="box-sizing: border-box; margin-top: 0px; margin-botto
 m: 1rem; color: #2b2b2b; font-family: Roboto; font-size: 16px;"><span class
 ="text-primary font-weight-bold" style="box-sizing: border-box; font-weight
 : 700 !important; color: #158795 !important;">Start:&nbsp;</span>21.05.2025
 </p><p style="box-sizing: border-box; margin-top: 0px; margin-bottom: 1rem;
  color: #2b2b2b; font-family: Roboto; font-size: 16px;"><span class="text-p
 rimary font-weight-bold" style="box-sizing: border-box; font-weight: 700 !i
 mportant; color: #158795 !important;">Mit:&nbsp;</span><a href="https://spi
 elringel.at/angebote/das-team/steffy-borgwardt" style="box-sizing: border-b
 ox; color: #158795; text-decoration-line: none; background-color: transpare
 nt;">Steffy</a></p><p style="box-sizing: border-box; margin-top: 0px; margi
 n-bottom: 1rem; color: #2b2b2b; font-family: Roboto; font-size: 16px;"><spa
 n class="text-primary font-weight-bold" style="box-sizing: border-box; font
 -weight: 700 !important; color: #158795 !important;">Kurstag:&nbsp;</span>6
 x Mittwoch 09:30-10:30 und 1x 18:30-19:30 (Gesprächskreis)</p><p style="box
 -sizing: border-box; margin-top: 0px; margin-bottom: 1rem; color: #2b2b2b; 
 font-family: Roboto; font-size: 16px;"><span class="text-primary font-weigh
 t-bold" style="box-sizing: border-box; font-weight: 700 !important; color: 
 #158795 !important;">Termine:&nbsp;</span>21.05., 28.05., 04.06., 11.06., 1
 8.06., 25.06. und zusätzlich einmalig am Mittwoch Abend 04.06. 18:30</p><p 
 style="box-sizing: border-box; margin-top: 0px; margin-bottom: 1rem; color:
  #2b2b2b; font-family: Roboto; font-size: 16px;"><span class="text-primary 
 font-weight-bold" style="box-sizing: border-box; font-weight: 700 !importan
 t; color: #158795 !important;">Kosten:&nbsp;</span>€134,- (6 Einheiten Spie
 lraum u. 1x Gesprächskreis)</p><p style="box-sizing: border-box; margin-top
 : 0px; margin-bottom: 1rem; color: #2b2b2b; font-family: Roboto; font-size:
  16px;">In unserem Eltern Kind Spielraum, triffst du auf eine von Steffy vo
 rbereitete Umgebung, in der dein Kind die Möglichkeit bekommt herauszufinde
 n, was gerade dran ist.</p><p style="box-sizing: border-box; margin-top: 0p
 x; margin-bottom: 1rem; color: #2b2b2b; font-family: Roboto; font-size: 16p
 x;">In diesem Moment, aus dem Innersten heraus.</p><p style="box-sizing: bo
 rder-box; margin-top: 0px; margin-bottom: 1rem; color: #2b2b2b; font-family
 : Roboto; font-size: 16px;">Die Kinder sind in ihrer Entwicklung sehr unter
 schiedlich, und nutzen das verlockende Angebot auf ihre eigene Art und Weis
 e. Manche erforschen das Material, bei manchen ist gerade die Bewegung dran
  und dann gibt es Kinder, die gerne bei ihrer Begleitperson bleiben und beo
 bachten.</p><p style="box-sizing: border-box; margin-top: 0px; margin-botto
 m: 1rem; color: #2b2b2b; font-family: Roboto; font-size: 16px;">Steffy lädt
  dich herzlich ein, alle Erwartungen vor der Tür zu lassen und dich an dem 
 Dasein deines Kindes zu erfreuen.</p><p style="box-sizing: border-box; marg
 in-top: 0px; margin-bottom: 1rem; color: #2b2b2b; font-family: Roboto; font
 -size: 16px;">Ihre Aufgabe sieht unsere Spielgruppenleiterin im Beobachten 
 der Kinder bei seinen Aktivitäten, sie hält den Raum und gibt Sicherheit. W
 enn sich Fragen aus einer entstehenden Situation ergeben, beantwortet sie s
 ie gerne.</p><p style="box-sizing: border-box; margin-top: 0px; margin-bott
 om: 1rem; color: #2b2b2b; font-family: Roboto; font-size: 16px;">In diesen 
 Kurs ist ein&nbsp;<span style="box-sizing: border-box; font-weight: bolder;
 ">Gesprächskreis am Mittwoch, dem 04.06. 18:30-19:30&nbsp;</span>inkludiert
 :</p><p style="box-sizing: border-box; margin-top: 0px; margin-bottom: 1rem
 ; color: #2b2b2b; font-family: Roboto; font-size: 16px;">Hier stellt dir St
 effy einen Raum zur Verfügung in dem du all deine Fragen die dich im Alltag
  mit deiner Familie beschäftigen oder Erlebtes aus dem Spielraum, mit der G
 ruppe zu teilen.</p><p style="box-sizing: border-box; margin-top: 0px; marg
 in-bottom: 0px; color: #2b2b2b; font-family: Roboto; font-size: 16px;">Du d
 arfst den Abend ganz für dich und deine Fragen nutzen. Du wirst Sicherheit 
 beim Treffen von Entscheidungen bekommen, und mit neu gewonnener Kraft und 
 Lust dein Familienleben bereichern.</p>
CONTACT:www.spielringel.at
X-EXTRAINFO:[preis='13400'][anmeldung='true']
DTSTAMP:20260426T003425
DTSTART:20250521T073000
DTEND:20250521T083000
SEQUENCE:0
RRULE:FREQ=WEEKLY;UNTIL=20250627T000000Z;INTERVAL=1;BYDAY=WE
TRANSP:OPAQUE
END:VEVENT
END:VCALENDAR