BEGIN:VCALENDAR
VERSION:2.0
PRODID:-//jEvents 2.0 for Joomla//EN
CALSCALE:GREGORIAN
METHOD:PUBLISH
BEGIN:VEVENT
UID:94c4e3c9992dca6386acab806516662e
CATEGORIES:15. Bezirk
CREATED:20250407T103613
SUMMARY:Positive Sprache für ein entspanntes Familienleben (Onlineworkshop)
LOCATION:VHS Rudolfsheim-Fünfhaus
DESCRIPTION:Die Art, wie wir miteinander reden, interagieren und umgehen, prägt nachhal
 tig das Bild, das Kinder von Bindung und Beziehungen bekommen. Ist die Komm
 unikation in einer Familie gestört, kann das für Kinder sehr belastend sein
 . In diesem Impulsworkshop wird ein kurzer Themeninput gegeben und im Ansch
 luss gemeinsam diskutiert, wie mit einfachen Regeln Kommunikation in der Fa
 milie gelingen kann. \n \n
X-ALT-DESC;FMTTYPE=text/html:<p>Die Art, wie wir miteinander reden, interagieren und umgehen, prägt nach
 haltig das Bild, das Kinder von Bindung und Beziehungen bekommen. Ist die K
 ommunikation in einer Familie gestört, kann das für Kinder sehr belastend s
 ein. In diesem Impulsworkshop wird ein kurzer Themeninput gegeben und im An
 schluss gemeinsam diskutiert, wie mit einfachen Regeln Kommunikation in der
  Familie gelingen kann.&nbsp;</p><p>&nbsp;</p>
CONTACT:01/891 74 115 000
X-EXTRAINFO:[preis='1800'][anmeldung='false']
DTSTAMP:20260425T200915
DTSTART:20250522T160000
DTEND:20250522T180000
SEQUENCE:0
TRANSP:OPAQUE
END:VEVENT
END:VCALENDAR