BEGIN:VCALENDAR
VERSION:2.0
PRODID:-//jEvents 2.0 for Joomla//EN
CALSCALE:GREGORIAN
METHOD:PUBLISH
BEGIN:VEVENT
UID:b755247ce0c63ad0c29b24752c9e186b
CATEGORIES:15. Bezirk
CREATED:20250407T103815
SUMMARY:Meine Familie und das Geld- Tipps für Eltern in Karenz
LOCATION:VHS Rudolfsheim-Fünfhaus
DESCRIPTION:In diesem praxisnahen Kurs erfahren Eltern, wie sie ihr Familienbudget opti
 mal planen, finanzielle Sicherheit schaffen und gleichzeitig für die Zukunf
 t ihres Kindes vorsorgen. Von gemeinsamen Geldentscheidungen in der Partner
 schaft über erfolgreiches Haushalten und sinnvolle Absicherung bis hin zu V
 eranlagungsmöglichkeiten für den Nachwuchs – dieser Kurs vermittelt wertvol
 le Tipps und Strategien für eine erfolgreiche finanzielle Familienplanung. 
 \nAlle Eltern von Kindern jedes Alters sind herzlichst eingeladen, 3 Stunde
 n ihrer Zeit in die Zukunft zu investieren, um aus meiner Tipps- und Tricks
 -Kiste all das mitzunehmen, was sie bezüglich Finanzbildung im Alltag brauc
 hen. \nBitte beachten Sie, dass es sich bei diesem Vortrag rein um Wissensv
 ermittlung handelt, keine individuelle Anlageberatung. \n \nDie Vortragende
  ist seit über 20 Jahren im Bankgeschäft und möchte ihre Erfahrungen und ih
 r Know-how in finanziellen Angelegenheiten weitergeben. \n \n
X-ALT-DESC;FMTTYPE=text/html:<p>In diesem praxisnahen Kurs erfahren Eltern, wie sie ihr Familienbudget o
 ptimal planen, finanzielle Sicherheit schaffen und gleichzeitig für die Zuk
 unft ihres Kindes vorsorgen. Von gemeinsamen Geldentscheidungen in der Part
 nerschaft über erfolgreiches Haushalten und sinnvolle Absicherung bis hin z
 u Veranlagungsmöglichkeiten für den Nachwuchs – dieser Kurs vermittelt wert
 volle Tipps und Strategien für eine erfolgreiche finanzielle Familienplanun
 g.&nbsp;</p><p>Alle Eltern von Kindern jedes Alters sind herzlichst eingela
 den, 3 Stunden ihrer Zeit in die Zukunft zu investieren, um aus meiner Tipp
 s- und Tricks-Kiste all das mitzunehmen, was sie bezüglich Finanzbildung im
  Alltag brauchen.&nbsp;</p><p>Bitte beachten Sie, dass es sich bei diesem V
 ortrag rein um Wissensvermittlung handelt, keine individuelle Anlageberatun
 g.&nbsp;</p><p>&nbsp;</p><p>Die Vortragende ist seit über 20 Jahren im Bank
 geschäft und möchte ihre Erfahrungen und ihr Know-how in finanziellen Angel
 egenheiten weitergeben.&nbsp;</p><p>&nbsp;</p>
CONTACT:01/891 74 115 000
X-EXTRAINFO:[preis='2700'][anmeldung='true']
DTSTAMP:20260425T214801
DTSTART:20250515T153000
DTEND:20250515T183000
SEQUENCE:0
TRANSP:OPAQUE
END:VEVENT
END:VCALENDAR