BEGIN:VCALENDAR
VERSION:2.0
PRODID:-//jEvents 2.0 for Joomla//EN
CALSCALE:GREGORIAN
METHOD:PUBLISH
BEGIN:VEVENT
UID:e52a4e42a2c2b276665bf661be7ff6aa
CATEGORIES:7. Bezirk
CREATED:20250421T191041
SUMMARY:KRABBELKONZERT
LOCATION:Auferstehungskirche\, Lindengasse 44
DESCRIPTION:<p>Nach einem "Gleitzeit"- Frühstück von 9 bis 10:00 in der Kirche musizier
 t Emil von 10 bis ca 10:30 ausgewählte klassische Stücke am Klavier - bunte
  Materialien zum Schauen erweitern das Musikerlebnis!</p><p>Danach ist Zeit
  zum Weiteressen, Spielen, Plaudern, Begegnen. Wir freuen uns auf kleine un
 d große Musikbegeisterte!</p><p>&nbsp;</p><p>Freie Spende für Frühstück &am
 p; Musik</p><p>Der Zugang in die Kirche ist barrierefrei - Kinderwagen könn
 en mitgenommen werden</p>
CONTACT:https://www.evang-neubau.at/
DTSTAMP:20260425T232614
DTSTART:20250604T070000
DTEND:20250604T100000
SEQUENCE:0
TRANSP:OPAQUE
END:VEVENT
END:VCALENDAR