BEGIN:VCALENDAR
VERSION:2.0
PRODID:-//jEvents 2.0 for Joomla//EN
CALSCALE:GREGORIAN
METHOD:PUBLISH
BEGIN:VEVENT
UID:1185ed46f16f32d436ffd3123d8cd6c8
CATEGORIES:1. Bezirk
CREATED:20250429T101221
SUMMARY:Philo-Animation Workshopsbei Aniki Studio (7-11 Jahre)
LOCATION:Wien
DESCRIPTION:Philo-Animation Workshops für Kinder bei Aniki Studio Wien\nPhilosophie auf
  spielerischer Weise entdecken, durch die Kombination der Praxis des Gesprä
 chs mit einem künstlerischen Prozess: dem Animationsfilm.\nDurch Situatione
 n, die von Puppenphilosophen dargestellt werden, werden die Kinder eingelad
 en, ein Thema zu erkunden.\nZum Beispiel: Was ist Freiheit? Was ist Angst? 
 Was bedeutet es, erwachsen zu werden? nach der Gruppendiskussion werden die
  Kinder zusammenarbeiten, um einen kurzen Animationsfilm zu erstellen!Termi
 ne für Kinder von 7-11 Jahren\n\n - 17. + 18.05.2025 von 10:00 - 12:00:Them
 a: Was ist ein Freund ? Technik | Cut-out animation\n - 05,06 + 07.07.2025 
 von 10:00 - 12:00: Thema: Was es bedeutet, anders zu sein ? | Cut-out anima
 tion\n - 16,17 + 18.08.2025 von 10:00 - 12:00:Thema:  Was bedeutet es, aufz
 uwachsen? | Stop motion animation \n
X-ALT-DESC;FMTTYPE=text/html:<p><strong>Philo-Animation Workshops für Kinder bei Aniki Studio Wien</stro
 ng></p><div>Philosophie auf spielerischer Weise entdecken, durch die Kombin
 ation der Praxis des Gesprächs mit einem künstlerischen Prozess: dem Animat
 ionsfilm.<br />Durch Situationen, die von Puppenphilosophen dargestellt wer
 den, werden die Kinder eingeladen, ein Thema zu erkunden.<br />Zum Beispiel
 : Was ist Freiheit? Was ist Angst? Was bedeutet es, erwachsen zu werden? na
 ch der Gruppendiskussion werden die Kinder zusammenarbeiten, um einen kurze
 n Animationsfilm zu erstellen!</div><p><strong>Termine für Kinder von 7-11 
 Jahren</strong></p><ul><li><strong>17. + 18.05.2025 von 10:00 - 12:00:</str
 ong><span style="color: #212529; font-family: Sen,sans-serif; font-size: 15
 px; font-style: normal; font-variant-ligatures: normal; font-variant-caps: 
 normal; font-weight: 400; letter-spacing: normal; text-align: left; text-in
 dent: 0px; text-transform: none; word-spacing: 0px; white-space: normal; ba
 ckground-color: #ffffff; text-decoration-style: initial; text-decoration-co
 lor: initial; display: inline; float: none;"></span>Thema:&nbsp;Was ist ein
  Freund ? Technik | Cut-out animation</li><li><strong>05,06 + 07.07.2025 vo
 n 10:00 - 12:00:</strong> Thema: Was es bedeutet, anders zu sein ? | Cut-ou
 t animation</li><li><strong>16,17 + 18.08.2025 von&nbsp;10:00 - 12:00:</str
 ong>Thema:&nbsp; Was bedeutet es, aufzuwachsen? | Stop motion animation</li
 ></ul><p>&nbsp;</p>
CONTACT:info@aniki.at
X-EXTRAINFO:[preis='15000'][anmeldung='false']
DTSTAMP:20260425T214636
DTSTART:20250705T080000
DTEND:20250707T100000
SEQUENCE:0
TRANSP:OPAQUE
END:VEVENT
END:VCALENDAR