BEGIN:VCALENDAR
VERSION:2.0
PRODID:-//jEvents 2.0 for Joomla//EN
CALSCALE:GREGORIAN
METHOD:PUBLISH
BEGIN:VEVENT
UID:34f3645243caa7f456f4d6a6d5c123c9
CATEGORIES:3. Bezirk
CREATED:20250504T170751
SUMMARY:lieblingsflohmarkt - dein großer Kinder und Frauen FLOHMARKT
LOCATION:Parkplatz Marxhalle\, Karl-Farkas-Gasse 2\, 1030 Wien
DESCRIPTION:lieblingsflohmarkt KIDS &amp; WOMAN - dein großer Kinder &amp; Frauen-Flohm
 arkt\nSonntag 1.Juni 2025\nSamstag 28.Juni 2025\n(weitere Termin in Planung
 )\nwww.lieblingsflohmarkt.at\n\nParkplatz Marxhalle Wien\nKarl-Farkas-Gasse
 \n1030 Wien\n \nEintritt frei! viele Parkplätze am Gelände! Verkaufsplätze 
 verfügbar um 35 Euro.\n\nDer große lieblingsflohmarkt kommt nach wieder nac
 h St. Marx! Schau vorbei und stöbere dich durch tolle Spielsachen und kaum 
 getragene Vintage-Mode! \nEin beliebter Fixpunkt für Frauen und Familien is
 t der riesige Second-Hand-Markt im 3.Bezirk. Über 150 AustellerInnen verkau
 fen Kinderkleidung Spielzeug Kinderbücher und alles für Sport und Spiel sow
 ie Damenmode Schuhe Taschen Schmuck und Kosmetik. Ab 9h vormittags tummeln 
 sich kauflustige Leute bei freiem Eintritt auf der riesigen Freifläche nebe
 n der Marxhalle Wien um die besten Stücke zu ergattern.\nFür Snacks und Get
 ränke ist gesorgt und es stehen viele Parkplätze direkt am Flohmarktgelände
  zur Verfügung. Öffentlich ist der lieblingsflohmarkt leicht zu erreichen m
 it der U3 Erdberg und wenige Minuten zu Fuß.\n\nWer schon immer einmal sein
 en eigenen Kleiderschrank aussortieren oder die Spielsachen der Kids verkau
 fen wollte hat nun Gelegenheit dazu! Buche jetzt rasch online deinen Verkau
 fsplatz um 35 Euro auf www.lieblingsflohmarkt.at. Bitte Tisch oder Kleiders
 tange selbst mitbringen dein Auto parkt am Standplatz. \n \nAlle Infos für 
 AusstellerInnen und unser Ticketshop findest du auf unserer Website www.lie
 blingsflohmarkt.at\n
X-ALT-DESC;FMTTYPE=text/html:<p style="margin: 0cm; margin-bottom: .0001pt; background: white;"><span st
 yle="font-family: 'Helvetica',sans-serif; color: #6e6f73;">lieblingsflohmar
 kt KIDS &amp; WOMAN - dein großer Kinder &amp; Frauen-Flohmarkt</span></p><
 p style="margin: 0cm; margin-bottom: .0001pt; background: white; word-break
 : break-word; font-variant-ligatures: normal; font-variant-caps: normal; or
 phans: 2; text-align: start; widows: 2; -webkit-text-stroke-width: 0px; tex
 t-decoration-thickness: initial; text-decoration-style: initial; text-decor
 ation-color: initial; word-spacing: 0px;"><strong><span style="font-family:
  Helvetica, sans-serif; color: #6e6f73;">Sonntag 1.Juni 2025</span></strong
 ></p><p style="margin: 0cm; margin-bottom: .0001pt; background: white; word
 -break: break-word; font-variant-ligatures: normal; font-variant-caps: norm
 al; orphans: 2; text-align: start; widows: 2; -webkit-text-stroke-width: 0p
 x; text-decoration-thickness: initial; text-decoration-style: initial; text
 -decoration-color: initial; word-spacing: 0px;"><span style="font-family: '
 Helvetica',sans-serif; color: #6e6f73;"><strong>Samstag 28.Juni 2025</stron
 g></span></p><p style="margin: 0cm; margin-bottom: .0001pt; background: whi
 te;"><span style="font-family: 'Helvetica',sans-serif; color: #565c68; back
 ground: white;">(weitere Termin in Planung)<br />www.lieblingsflohmarkt.at<
 /span><span style="font-family: 'Helvetica',sans-serif; color: #6e6f73;"></
 span></p><p style="margin: 0cm; margin-bottom: .0001pt; background: white; 
 word-break: break-word; font-variant-ligatures: normal; font-variant-caps: 
 normal; orphans: 2; text-align: start; widows: 2; -webkit-text-stroke-width
 : 0px; text-decoration-thickness: initial; text-decoration-style: initial; 
 text-decoration-color: initial; word-spacing: 0px;"><span style="font-famil
 y: 'Helvetica',sans-serif; color: #6e6f73;"></span></p><p style="margin: 0c
 m; margin-bottom: .0001pt; background: white; word-break: break-word; font-
 variant-ligatures: normal; font-variant-caps: normal; orphans: 2; text-alig
 n: start; widows: 2; -webkit-text-stroke-width: 0px; text-decoration-thickn
 ess: initial; text-decoration-style: initial; text-decoration-color: initia
 l; word-spacing: 0px;"><span style="font-family: 'Helvetica',sans-serif; co
 lor: #6e6f73;">Parkplatz Marxhalle Wien</span></p><p style="margin: 0cm; ma
 rgin-bottom: .0001pt; background: white; word-break: break-word; font-varia
 nt-ligatures: normal; font-variant-caps: normal; orphans: 2; text-align: st
 art; widows: 2; -webkit-text-stroke-width: 0px; text-decoration-thickness: 
 initial; text-decoration-style: initial; text-decoration-color: initial; wo
 rd-spacing: 0px;"><span style="font-family: 'Helvetica',sans-serif; color: 
 #6e6f73;">Karl-Farkas-Gasse</span></p><p style="margin: 0cm; margin-bottom:
  .0001pt; background: white; word-break: break-word; font-variant-ligatures
 : normal; font-variant-caps: normal; orphans: 2; text-align: start; widows:
  2; -webkit-text-stroke-width: 0px; text-decoration-thickness: initial; tex
 t-decoration-style: initial; text-decoration-color: initial; word-spacing: 
 0px;"><span style="font-family: 'Helvetica',sans-serif; color: #6e6f73;">10
 30 Wien</span></p><p style="margin: 0cm; margin-bottom: .0001pt; background
 : white; word-break: break-word; font-variant-ligatures: normal; font-varia
 nt-caps: normal; orphans: 2; text-align: start; widows: 2; -webkit-text-str
 oke-width: 0px; text-decoration-thickness: initial; text-decoration-style: 
 initial; text-decoration-color: initial; word-spacing: 0px;"><span style="f
 ont-family: 'Helvetica',sans-serif; color: #6e6f73;"></span>&nbsp;</p><p st
 yle="margin: 0cm; margin-bottom: .0001pt; background: white;"><span style="
 font-family: 'Helvetica',sans-serif; color: #565c68;"><strong>Eintritt frei
 ! viele Parkplätze am Gelände! Verkaufsplätze verfügbar um 35 Euro.</strong
 ></span></p><p style="margin: 0cm; margin-bottom: .0001pt; background: whit
 e; box-sizing: border-box; counter-reset: list-1 0 list-2 0 list-3 0 list-4
  0 list-5 0 list-6 0 list-7 0 list-8 0 list-9 0; font-variant-ligatures: no
 rmal; font-variant-caps: normal; orphans: 2; widows: 2; -webkit-text-stroke
 -width: 0px; white-space: pre-wrap; text-decoration-thickness: initial; tex
 t-decoration-style: initial; text-decoration-color: initial; cursor: text; 
 word-spacing: 0px;"><span style="font-family: 'Helvetica',sans-serif; color
 : #565c68;"></span></p><p style="margin: 0cm; margin-bottom: .0001pt; backg
 round: white; box-sizing: border-box; counter-reset: list-1 0 list-2 0 list
 -3 0 list-4 0 list-5 0 list-6 0 list-7 0 list-8 0 list-9 0; font-variant-li
 gatures: normal; font-variant-caps: normal; orphans: 2; widows: 2; -webkit-
 text-stroke-width: 0px; white-space: pre-wrap; text-decoration-thickness: i
 nitial; text-decoration-style: initial; text-decoration-color: initial; cur
 sor: text; word-spacing: 0px;"><span style="font-family: 'Helvetica',sans-s
 erif; color: #565c68;">Der große&nbsp;<em style="box-sizing: border-box;"><
 span style="font-family: 'Helvetica',sans-serif;">lieblingsflohmarkt</span>
 </em>&nbsp;kommt nach wieder nach St. Marx! Schau vorbei und stöbere dich d
 urch <strong style="box-sizing: border-box;"><span style="font-family: 'Hel
 vetica',sans-serif;">tolle Spielsachen und kaum getragene Vintage-Mode!</sp
 an></strong>&nbsp;</span></p><p style="margin: 0cm; margin-bottom: .0001pt;
  background: white; box-sizing: border-box; counter-reset: list-1 0 list-2 
 0 list-3 0 list-4 0 list-5 0 list-6 0 list-7 0 list-8 0 list-9 0; font-vari
 ant-ligatures: normal; font-variant-caps: normal; orphans: 2; widows: 2; -w
 ebkit-text-stroke-width: 0px; white-space: pre-wrap; text-decoration-thickn
 ess: initial; text-decoration-style: initial; text-decoration-color: initia
 l; cursor: text; word-spacing: 0px;"><span style="font-family: 'Helvetica',
 sans-serif; color: #565c68;">Ein beliebter Fixpunkt für Frauen und Familien
  ist der <strong style="box-sizing: border-box;"><span style="font-family: 
 'Helvetica',sans-serif;">riesige Second-Hand-Markt</span></strong> im 3.Bez
 irk. Über 150 AustellerInnen verkaufen Kinderkleidung Spielzeug Kinderbüche
 r und alles für Sport und Spiel sowie Damenmode Schuhe Taschen Schmuck und 
 Kosmetik. Ab 9h vormittags tummeln sich kauflustige Leute bei freiem Eintri
 tt auf der riesigen Freifläche neben der Marxhalle Wien um die besten Stück
 e zu ergattern.</span></p><p style="margin: 0cm; margin-bottom: .0001pt; ba
 ckground: white; box-sizing: border-box; counter-reset: list-1 0 list-2 0 l
 ist-3 0 list-4 0 list-5 0 list-6 0 list-7 0 list-8 0 list-9 0; font-variant
 -ligatures: normal; font-variant-caps: normal; orphans: 2; widows: 2; -webk
 it-text-stroke-width: 0px; white-space: pre-wrap; text-decoration-thickness
 : initial; text-decoration-style: initial; text-decoration-color: initial; 
 cursor: text; word-spacing: 0px;"><span style="font-family: 'Helvetica',san
 s-serif; color: #565c68;">Für <strong style="box-sizing: border-box;"><span
  style="font-family: 'Helvetica',sans-serif;">Snacks und Getränke</span></s
 trong> ist gesorgt und es stehen <strong style="box-sizing: border-box;"><s
 pan style="font-family: 'Helvetica',sans-serif;">viele Parkplätze</span></s
 trong> direkt am Flohmarktgelände zur Verfügung. Öffentlich ist der&nbsp;<e
 m style="box-sizing: border-box;"><span style="font-family: 'Helvetica',san
 s-serif;">lieblingsflohmarkt</span></em>&nbsp;leicht zu erreichen mit der U
 3 Erdberg und wenige Minuten zu Fuß.</span></p><p style="margin: 0cm; margi
 n-bottom: .0001pt; background: white; box-sizing: border-box; counter-reset
 : list-1 0 list-2 0 list-3 0 list-4 0 list-5 0 list-6 0 list-7 0 list-8 0 l
 ist-9 0; font-variant-ligatures: normal; font-variant-caps: normal; orphans
 : 2; widows: 2; -webkit-text-stroke-width: 0px; white-space: pre-wrap; text
 -decoration-thickness: initial; text-decoration-style: initial; text-decora
 tion-color: initial; cursor: text; word-spacing: 0px;"><span style="font-fa
 mily: 'Helvetica',sans-serif; color: #565c68;"></span></p><p style="margin:
  0cm; margin-bottom: .0001pt; background: white; box-sizing: border-box; co
 unter-reset: list-1 0 list-2 0 list-3 0 list-4 0 list-5 0 list-6 0 list-7 0
  list-8 0 list-9 0; font-variant-ligatures: normal; font-variant-caps: norm
 al; orphans: 2; widows: 2; -webkit-text-stroke-width: 0px; white-space: pre
 -wrap; text-decoration-thickness: initial; text-decoration-style: initial; 
 text-decoration-color: initial; cursor: text; word-spacing: 0px;"><span sty
 le="font-family: 'Helvetica',sans-serif; color: #565c68;">Wer schon immer e
 inmal seinen eigenen Kleiderschrank aussortieren oder die Spielsachen der K
 ids verkaufen wollte hat nun Gelegenheit dazu! Buche jetzt rasch online <st
 rong style="box-sizing: border-box;"><span style="font-family: 'Helvetica',
 sans-serif;">deinen Verkaufsplatz</span></strong> um 35 Euro auf&nbsp;www.l
 ieblingsflohmarkt.at. Bitte Tisch oder Kleiderstange selbst mitbringen dein
  Auto parkt am Standplatz. </span></p><p>&nbsp;</p><p style="margin: 0cm; m
 argin-bottom: .0001pt; background: white; box-sizing: border-box; counter-r
 eset: list-1 0 list-2 0 list-3 0 list-4 0 list-5 0 list-6 0 list-7 0 list-8
  0 list-9 0; font-variant-ligatures: normal; font-variant-caps: normal; orp
 hans: 2; widows: 2; -webkit-text-stroke-width: 0px; white-space: pre-wrap; 
 text-decoration-thickness: initial; text-decoration-style: initial; text-de
 coration-color: initial; cursor: text; word-spacing: 0px;"><span style="fon
 t-family: 'Helvetica',sans-serif; color: #565c68;">Alle Infos für Ausstelle
 rInnen und unser Ticketshop findest du auf unserer Website&nbsp;www.lieblin
 gsflohmarkt.at</span></p>
CONTACT:info@lieblingsflohmarkt.at
DTSTAMP:20260426T030001
DTSTART;VALUE=DATE:20250601
DTEND;VALUE=DATE:20250602
SEQUENCE:0
TRANSP:OPAQUE
END:VEVENT
END:VCALENDAR