BEGIN:VCALENDAR
VERSION:2.0
PRODID:-//jEvents 2.0 for Joomla//EN
CALSCALE:GREGORIAN
METHOD:PUBLISH
BEGIN:VEVENT
UID:33c042594e7792617c7a7d15161fca17
CATEGORIES:Online
CREATED:20250505T144318
SUMMARY:Mit Kindern über Geld sprechen
LOCATION:Nussdorfer Straße 27\, 1090 Wien
DESCRIPTION:<p class="MsoNormal"><span style="font-family: 'URW Form Medium';">Die meis
 ten Menschen lernen den Umgang mit Geld – wenn überhaupt – in der Familie. 
 In diesem Seminar beschäftigen wir uns daher damit, welche Fertigkeiten für
  Finanzkompetenz wichtig sind, wie man sie im Alltag vermittelt und gehen s
 peziell auf das Thema Taschengeld ein. Dieses Online-Seminar richtet sich v
 .a. an Eltern oder Bezugspersonen von Kindern zwischen 3 und 10 Jahren.</sp
 an></p><p class="MsoNormal"><span style="font-family: 'URW Form Medium';">A
 nmeldung:&nbsp;<a href="https://geldleben.at/workshop/mit-kindern-ueber-gel
 d-sprechen-7/">https://geldleben.at/workshop/mit-kindern-ueber-geld-spreche
 n-7/</a>&nbsp;</span></p>
CONTACT:wien@geldleben.at
X-EXTRAINFO:[preis='000'][anmeldung='true']
DTSTAMP:20260425T182909
DTSTART:20250522T170000
DTEND:20250522T180000
SEQUENCE:0
TRANSP:OPAQUE
END:VEVENT
END:VCALENDAR