BEGIN:VCALENDAR
VERSION:2.0
PRODID:-//jEvents 2.0 for Joomla//EN
CALSCALE:GREGORIAN
METHOD:PUBLISH
BEGIN:VEVENT
UID:9e07108927fd86c023e3ee45af020f1f
CATEGORIES:6. Bezirk
CREATED:20250507T090311
SUMMARY:Hilfe, mein Kind hängt nur am Handy!  Kinderrechte und Elternverantwortung im digitalen Raum
LOCATION:VHS Mariahilf\, Damböckgasse 4\, 1060 Wien
DESCRIPTION:<p><strong>Hilfe, mein Kind hängt nur am Handy!</strong></p><p><span style=
 "text-decoration: underline;">Kinderrechte und Elternverantwortung im digit
 alen Raum</span></p><p>&nbsp;</p><p>Mi 1x, 11.06.2025, 18-19:30 Uhr</p><p>V
 HS Mariahilf</p><p>Vortragende: Mag. Gernot Barton, Mag.a Atis-Andreia Coma
 nita</p><p>Gebühr: 13 €</p><p>&nbsp;</p><p>Kinder sind im Internet vielen H
 erausforderungen ausgesetzt. In diesem Workshop erfahren Sie, welche Rechte
  Kinder und Jugendliche im digitalen Raum haben. Außerdem wird der Frage na
 chgegangen, welchen Gefahren sie begegnen können und wie Eltern ihre Verant
 wortung wahrnehmen können, ihre Kinder im Umgang mit digitalen Medien siche
 r zu begleiten und gleichzeitig ihre Selbstbestimmung zu fördern. Diskutier
 en Sie mit uns, wie Sie als Eltern den Balanceakt zwischen dem Schutz vor G
 efahren und der Förderung digitaler Teilhabe meistern können. Neben rechtli
 chen Aspekten bieten wir praxisnahe Tipps, wie Sie Ihre Kinder sicher und v
 erantwortungsbewusst durch die digitale Welt begleiten.</p><p>&nbsp;</p><p>
 Mag. Gernot Barton arbeitet als Ombudsmann für Elementarpädagogik in der Ki
 nder- und Jugendanwaltschaft Wien und engagiert sich für die Rechte von Kin
 dern und Jugendlichen. Gemeinsam mit Mag.a Atis Comanita leitet er das Proj
 ekt „Frag doch einfach die Jugendlichen“, das den direkten Dialog mit junge
 n Menschen fördert und ihre Perspektiven in den Mittelpunkt stellt. Mit lan
 gjähriger Erfahrung in verschiedenen Positionen innerhalb der Geschäftsgrup
 pe Bildung der Stadt Wien, bringt er Wissen zu sozialen und bildungspolitis
 chen Themen ein. Gernot Barton ist Soziologe und befindet sich aktuell in d
 er Weiterbildung zum Coach für Neue Autorität.</p><p>&nbsp;</p><p>Mag.a Ati
 s-Andreia arbeitet als Juristin in der Kinder- und Jugendanwaltschaft Wien,
  wo sie sich für die Einhaltung der Kinderrechte einsetzt. Gemeinsam mit Ma
 g. Gernot Barton leitet sie die Projekte „Frag doch einfach die Jugendliche
 n“ und „T(w)e[e]nTok“. Neben ihrem Studium hielt sie im Rahmen des Legal Li
 teracy Projects Workshops an Schulen und außerschulischen Einrichtungen zu 
 den Themen Recht im Alltag und Cybermobbing. Zudem spezialisierte sie sich 
 auf das Datenschutzrecht und Mediation.&nbsp;</p><p><a href="https://www.vh
 s.at/de/k/279721102">Hilfe, mein Kind hängt nur am Handy!</a></p><p>Anmeldu
 ng <a href="https://www.vhs.at/de/k/279721102">online</a>, per Mail: <a hre
 f="mailto:mariahilf@vhs.at">mariahilf@vhs.at</a>&nbsp;oder telefonisch unte
 r <span style="font-family: Calibri, sans-serif; font-size: 10pt; backgroun
 d-color: inherit; color: inherit; caret-color: auto;">+43 1 89174 106000</s
 pan></p><p>&nbsp;</p>
CONTACT:mariahilf@vhs.at
X-EXTRAINFO:[preis='1300'][anmeldung='true']
DTSTAMP:20260425T233802
DTSTART:20250611T160000
DTEND:20250611T173000
SEQUENCE:0
TRANSP:OPAQUE
END:VEVENT
END:VCALENDAR