BEGIN:VCALENDAR
VERSION:2.0
PRODID:-//jEvents 2.0 for Joomla//EN
CALSCALE:GREGORIAN
METHOD:PUBLISH
BEGIN:VEVENT
UID:29b24d6837b851c437524d47c4d93573
CATEGORIES:8. Bezirk
CREATED:19700101T010000
SUMMARY:Babyturnen (5-15 Monate)
LOCATION:VHS Josefstadt\, Schmidgasse 18\, 1080 Wien
DESCRIPTION:Babyturnen (5-15 Monate)\n \nDi 6x, 24.06.-29.07.2025, 9:30-10:30 Uhr\nVHS 
 Josefstadt\n \nIlaria Chiappetta\nZusatzinfo: Kein Aufzug!\nGebühr: 49 €\n 
 \nZiel des Babyturnens ist es, die Babys mit einfachen, spielerischen Übung
 en in ihrer Bewegungsentwicklung zu fördern. Gleichzeitig werden die Sinne 
 geschärft und die Körperwahrnehmung positiv beeinflusst. Vor allem aber sol
 len Kinder und Eltern Spaß an der gemeinsamen Bewegung haben.\n \nAnmeldung
  online (https://www.vhs.at/de/k/279723138), per E-Mail josefstadt@vhs.at (
 mailto:josefstadt@vhs.at) oder telefonisch unter :+43 1 89 174 106 000\n
X-ALT-DESC;FMTTYPE=text/html:<p><strong>Babyturnen (5-15 Monate)</strong></p><p>&nbsp;</p><p>Di 6x, 24.0
 6.-29.07.2025, 9:30-10:30 Uhr</p><p>VHS Josefstadt</p><p>&nbsp;</p><p>Ilari
 a Chiappetta</p><p>Zusatzinfo: Kein Aufzug!</p><p>Gebühr: 49 €</p><p>&nbsp;
 </p><p>Ziel des Babyturnens ist es, die Babys mit einfachen, spielerischen 
 Übungen in ihrer Bewegungsentwicklung zu fördern. Gleichzeitig werden die S
 inne geschärft und die Körperwahrnehmung positiv beeinflusst. Vor allem abe
 r sollen Kinder und Eltern Spaß an der gemeinsamen Bewegung haben.</p><p>&n
 bsp;</p><p>Anmeldung <a href="https://www.vhs.at/de/k/279723138">online</a>
 , per E-Mail <a href="mailto:josefstadt@vhs.at">josefstadt@vhs.at</a>&nbsp;
 oder telefonisch unter&nbsp;<span style="font-family: Calibri, sans-serif; 
 font-size: 11pt; background-color: inherit; color: inherit; caret-color: au
 to;">:+43 1 89 174 106 000</span></p>
CONTACT:josefstadt@vhs.at
X-EXTRAINFO:[preis='4900'][anmeldung='true']
DTSTAMP:20260425T233407
DTSTART:20250624T073000
DTEND:20250624T083000
SEQUENCE:0
RRULE:FREQ=WEEKLY;UNTIL=20250730T000000Z;INTERVAL=1;BYDAY=TU
TRANSP:OPAQUE
END:VEVENT
END:VCALENDAR