BEGIN:VCALENDAR
VERSION:2.0
PRODID:-//jEvents 2.0 for Joomla//EN
CALSCALE:GREGORIAN
METHOD:PUBLISH
BEGIN:VEVENT
UID:af61684f6b3254ad1e8442bae06fba68
CATEGORIES:8. Bezirk
CREATED:19700101T010000
SUMMARY:Capoeira (6-10 Jahre) 
LOCATION:VHS Josefstadt\, Schmidgasse 18\, 1080 Wien
DESCRIPTION:<p><strong>Capoeira (6-10 Jahre)</strong></p><p>&nbsp;</p><p>Di 5x, 01.-29.
 07.2025, 17-18 Uhr</p><p>VHS Josefstadt</p><p>Márcio Ferreira Santos de Aqu
 ino</p><p>Gebühr: 41 €</p><p>&nbsp;</p><p>Capoeira ist eine brasilianische 
 Kampfkunst, bei der Akrobatik, Tanz und Musik eine wichtige Rolle spielen. 
 Kinder begeistert am Capoeira-Training der Mix aus Fun und Action. Altersge
 mäß aufbereitet, werden im Kurs die wichtigsten Grundtechniken vermittelt u
 nd geübt. Die Kinder trainieren dabei körperliche Fitness, Motorik und Rhyt
 hmik und profitieren durch mehr Bewegungssicherheit und Selbstvertrauen.</p
 ><p>&nbsp;</p><p>Anmeldung <a href="https://www.vhs.at/de/k/279722204" targ
 et="_blank" rel="noopener">online</a>, per E-Mail <a href="mailto:josefstad
 t@vhs.at ">josefstadt@vhs.at </a>oder telefonisch unter&nbsp;<span style="f
 ont-family: Calibri, sans-serif; font-size: 11pt; background-color: inherit
 ; color: inherit; caret-color: auto;">:+43 1 89 174 106 001</span></p>
CONTACT:josefstadt@vhs.at
X-EXTRAINFO:[preis='4100'][anmeldung='true']
DTSTAMP:20260425T233752
DTSTART:20250701T150000
DTEND:20250701T160000
SEQUENCE:0
RRULE:FREQ=WEEKLY;COUNT=5;INTERVAL=1;BYDAY=TU
TRANSP:OPAQUE
END:VEVENT
END:VCALENDAR