BEGIN:VCALENDAR
VERSION:2.0
PRODID:-//jEvents 2.0 for Joomla//EN
CALSCALE:GREGORIAN
METHOD:PUBLISH
BEGIN:VEVENT
UID:39c752d1d836d31a7a96256b8c98a312
CATEGORIES:19. Bezirk
CREATED:20250508T085026
SUMMARY:Mami Art Time
LOCATION:Kleines Glück Hebammenordination Liechtenwerder Platz 4/1 1190 Wien
DESCRIPTION:<h3 style="--tw-border-spacing-x: 0; --tw-border-spacing-y: 0; --tw-transla
 te-x: 0; --tw-translate-y: 0; --tw-rotate: 0; --tw-skew-x: 0; --tw-skew-y: 
 0; --tw-scale-x: 1; --tw-scale-y: 1; --tw-scroll-snap-strictness: proximity
 ; --tw-ring-offset-width: 0px; --tw-ring-offset-color: #fff; --tw-ring-colo
 r: rgba(59,130,246,.5); --tw-ring-offset-shadow: 0 0 #0000; --tw-ring-shado
 w: 0 0 #0000; --tw-shadow: 0 0 #0000; --tw-shadow-colored: 0 0 #0000; box-s
 izing: border-box; font-size: var(--h3-font-size); font-weight: var(--h3-fo
 nt-weight); margin: 0px 0px 1rem; line-height: var(--h3-line-height); font-
 family: var(--headings-font-family); caret-color: currentcolor; color: #585
 860; border: 0px solid var(--table-border-color);"><span style="--tw-border
 -spacing-x: 0; --tw-border-spacing-y: 0; --tw-translate-x: 0; --tw-translat
 e-y: 0; --tw-rotate: 0; --tw-skew-x: 0; --tw-skew-y: 0; --tw-scale-x: 1; --
 tw-scale-y: 1; --tw-scroll-snap-strictness: proximity; --tw-ring-offset-wid
 th: 0px; --tw-ring-offset-color: #fff; --tw-ring-color: rgba(59,130,246,.5)
 ; --tw-ring-offset-shadow: 0 0 #0000; --tw-ring-shadow: 0 0 #0000; --tw-sha
 dow: 0 0 #0000; --tw-shadow-colored: 0 0 #0000; box-sizing: border-box; fon
 t-weight: bolder; caret-color: currentcolor; border: 0px solid var(--table-
 border-color);">Mami &amp; Kunst – Kreative Auszeit nur für dich</span></h3
 ><p style="--tw-border-spacing-x: 0; --tw-border-spacing-y: 0; --tw-transla
 te-x: 0; --tw-translate-y: 0; --tw-rotate: 0; --tw-skew-x: 0; --tw-skew-y: 
 0; --tw-scale-x: 1; --tw-scale-y: 1; --tw-scroll-snap-strictness: proximity
 ; --tw-ring-offset-width: 0px; --tw-ring-offset-color: #fff; --tw-ring-colo
 r: rgba(59,130,246,.5); --tw-ring-offset-shadow: 0 0 #0000; --tw-ring-shado
 w: 0 0 #0000; --tw-shadow: 0 0 #0000; --tw-shadow-colored: 0 0 #0000; box-s
 izing: border-box; margin: 0px; caret-color: currentcolor; color: #585860; 
 font-family: Inter, ui-sans-serif, system-ui, -apple-system, sans-serif, In
 ter, ui-sans-serif, system-ui, -apple-system, sans-serif; font-size: 14px; 
 border: 0px solid var(--table-border-color);"><span style="--tw-border-spac
 ing-x: 0; --tw-border-spacing-y: 0; --tw-translate-x: 0; --tw-translate-y: 
 0; --tw-rotate: 0; --tw-skew-x: 0; --tw-skew-y: 0; --tw-scale-x: 1; --tw-sc
 ale-y: 1; --tw-scroll-snap-strictness: proximity; --tw-ring-offset-width: 0
 px; --tw-ring-offset-color: #fff; --tw-ring-color: rgba(59,130,246,.5); --t
 w-ring-offset-shadow: 0 0 #0000; --tw-ring-shadow: 0 0 #0000; --tw-shadow: 
 0 0 #0000; --tw-shadow-colored: 0 0 #0000; box-sizing: border-box; font-wei
 ght: bolder; caret-color: currentcolor; border: 0px solid var(--table-borde
 r-color);">Donnerstag, 15. Mai | 10:00 – 12:30 Uhr</span><br style="--tw-bo
 rder-spacing-x: 0; --tw-border-spacing-y: 0; --tw-translate-x: 0; --tw-tran
 slate-y: 0; --tw-rotate: 0; --tw-skew-x: 0; --tw-skew-y: 0; --tw-scale-x: 1
 ; --tw-scale-y: 1; --tw-scroll-snap-strictness: proximity; --tw-ring-offset
 -width: 0px; --tw-ring-offset-color: #fff; --tw-ring-color: rgba(59,130,246
 ,.5); --tw-ring-offset-shadow: 0 0 #0000; --tw-ring-shadow: 0 0 #0000; --tw
 -shadow: 0 0 #0000; --tw-shadow-colored: 0 0 #0000; box-sizing: border-box;
  caret-color: currentcolor; border: 0px solid var(--table-border-color);" /
 ><span style="--tw-border-spacing-x: 0; --tw-border-spacing-y: 0; --tw-tran
 slate-x: 0; --tw-translate-y: 0; --tw-rotate: 0; --tw-skew-x: 0; --tw-skew-
 y: 0; --tw-scale-x: 1; --tw-scale-y: 1; --tw-scroll-snap-strictness: proxim
 ity; --tw-ring-offset-width: 0px; --tw-ring-offset-color: #fff; --tw-ring-c
 olor: rgba(59,130,246,.5); --tw-ring-offset-shadow: 0 0 #0000; --tw-ring-sh
 adow: 0 0 #0000; --tw-shadow: 0 0 #0000; --tw-shadow-colored: 0 0 #0000; bo
 x-sizing: border-box; font-weight: bolder; caret-color: currentcolor; borde
 r: 0px solid var(--table-border-color);">Kosten: 55 € (inkl. Verpflegung)</
 span></p><p>Anmeldung:&nbsp;<a href="https://anny.co/services/mami-kunst-kr
 eative-auszeit-nur-fuer-dich-mmbzl9zjv9?from=organization&amp;fromName=Klei
 nes+Gl%C3%BCck&amp;step=period" style="font-family: inherit; font-size: 1re
 m;">Mami &amp; Kunst - Kreative Auszeit nur für dich! | anny</a></p><p styl
 e="--tw-border-spacing-x: 0; --tw-border-spacing-y: 0; --tw-translate-x: 0;
  --tw-translate-y: 0; --tw-rotate: 0; --tw-skew-x: 0; --tw-skew-y: 0; --tw-
 scale-x: 1; --tw-scale-y: 1; --tw-scroll-snap-strictness: proximity; --tw-r
 ing-offset-width: 0px; --tw-ring-offset-color: #fff; --tw-ring-color: rgba(
 59,130,246,.5); --tw-ring-offset-shadow: 0 0 #0000; --tw-ring-shadow: 0 0 #
 0000; --tw-shadow: 0 0 #0000; --tw-shadow-colored: 0 0 #0000; box-sizing: b
 order-box; margin: 0px; caret-color: currentcolor; color: #585860; font-fam
 ily: Inter, ui-sans-serif, system-ui, -apple-system, sans-serif, Inter, ui-
 sans-serif, system-ui, -apple-system, sans-serif; font-size: 14px; border: 
 0px solid var(--table-border-color);">Du bist Mama und sehnst dich nach ein
  bisschen Me-Time? Dann ist&nbsp;<span style="--tw-border-spacing-x: 0; --t
 w-border-spacing-y: 0; --tw-translate-x: 0; --tw-translate-y: 0; --tw-rotat
 e: 0; --tw-skew-x: 0; --tw-skew-y: 0; --tw-scale-x: 1; --tw-scale-y: 1; --t
 w-scroll-snap-strictness: proximity; --tw-ring-offset-width: 0px; --tw-ring
 -offset-color: #fff; --tw-ring-color: rgba(59,130,246,.5); --tw-ring-offset
 -shadow: 0 0 #0000; --tw-ring-shadow: 0 0 #0000; --tw-shadow: 0 0 #0000; --
 tw-shadow-colored: 0 0 #0000; box-sizing: border-box; font-weight: bolder; 
 caret-color: currentcolor; border: 0px solid var(--table-border-color);">„M
 ami &amp; Kunst“</span>&nbsp;genau das Richtige für dich!</p><p style="--tw
 -border-spacing-x: 0; --tw-border-spacing-y: 0; --tw-translate-x: 0; --tw-t
 ranslate-y: 0; --tw-rotate: 0; --tw-skew-x: 0; --tw-skew-y: 0; --tw-scale-x
 : 1; --tw-scale-y: 1; --tw-scroll-snap-strictness: proximity; --tw-ring-off
 set-width: 0px; --tw-ring-offset-color: #fff; --tw-ring-color: rgba(59,130,
 246,.5); --tw-ring-offset-shadow: 0 0 #0000; --tw-ring-shadow: 0 0 #0000; -
 -tw-shadow: 0 0 #0000; --tw-shadow-colored: 0 0 #0000; box-sizing: border-b
 ox; margin: 0px; caret-color: currentcolor; color: #585860; font-family: In
 ter, ui-sans-serif, system-ui, -apple-system, sans-serif, Inter, ui-sans-se
 rif, system-ui, -apple-system, sans-serif; font-size: 14px; border: 0px sol
 id var(--table-border-color);">In entspannter Atmosphäre nehmen wir uns gem
 einsam Zeit zum Durchatmen, Austauschen und kreativ Sein. Ganz ohne Leistun
 gsdruck – hier geht es nicht darum, perfekte Kunstwerke zu schaffen, sonder
 n darum, den Kopf frei zu bekommen und einfach mal wieder etwas nur für&nbs
 p;<span style="--tw-border-spacing-x: 0; --tw-border-spacing-y: 0; --tw-tra
 nslate-x: 0; --tw-translate-y: 0; --tw-rotate: 0; --tw-skew-x: 0; --tw-skew
 -y: 0; --tw-scale-x: 1; --tw-scale-y: 1; --tw-scroll-snap-strictness: proxi
 mity; --tw-ring-offset-width: 0px; --tw-ring-offset-color: #fff; --tw-ring-
 color: rgba(59,130,246,.5); --tw-ring-offset-shadow: 0 0 #0000; --tw-ring-s
 hadow: 0 0 #0000; --tw-shadow: 0 0 #0000; --tw-shadow-colored: 0 0 #0000; b
 ox-sizing: border-box; font-weight: bolder; caret-color: currentcolor; bord
 er: 0px solid var(--table-border-color);">dich</span>&nbsp;zu tun.</p><p st
 yle="--tw-border-spacing-x: 0; --tw-border-spacing-y: 0; --tw-translate-x: 
 0; --tw-translate-y: 0; --tw-rotate: 0; --tw-skew-x: 0; --tw-skew-y: 0; --t
 w-scale-x: 1; --tw-scale-y: 1; --tw-scroll-snap-strictness: proximity; --tw
 -ring-offset-width: 0px; --tw-ring-offset-color: #fff; --tw-ring-color: rgb
 a(59,130,246,.5); --tw-ring-offset-shadow: 0 0 #0000; --tw-ring-shadow: 0 0
  #0000; --tw-shadow: 0 0 #0000; --tw-shadow-colored: 0 0 #0000; box-sizing:
  border-box; margin: 0px; caret-color: currentcolor; color: #585860; font-f
 amily: Inter, ui-sans-serif, system-ui, -apple-system, sans-serif, Inter, u
 i-sans-serif, system-ui, -apple-system, sans-serif; font-size: 14px; border
 : 0px solid var(--table-border-color);">Mit Farbe, Papier, Pinsel oder Coll
 agen lassen wir deiner Kreativität freien Lauf. Ob du regelmäßig kreativ bi
 st oder seit Jahren keinen Stift mehr in der Hand hattest – du bist herzlic
 h willkommen! Alles ist da, du brauchst nichts mitzubringen, außer dich sel
 bst.</p><p style="--tw-border-spacing-x: 0; --tw-border-spacing-y: 0; --tw-
 translate-x: 0; --tw-translate-y: 0; --tw-rotate: 0; --tw-skew-x: 0; --tw-s
 kew-y: 0; --tw-scale-x: 1; --tw-scale-y: 1; --tw-scroll-snap-strictness: pr
 oximity; --tw-ring-offset-width: 0px; --tw-ring-offset-color: #fff; --tw-ri
 ng-color: rgba(59,130,246,.5); --tw-ring-offset-shadow: 0 0 #0000; --tw-rin
 g-shadow: 0 0 #0000; --tw-shadow: 0 0 #0000; --tw-shadow-colored: 0 0 #0000
 ; box-sizing: border-box; margin: 0px; caret-color: currentcolor; color: #5
 85860; font-family: Inter, ui-sans-serif, system-ui, -apple-system, sans-se
 rif, Inter, ui-sans-serif, system-ui, -apple-system, sans-serif; font-size:
  14px; border: 0px solid var(--table-border-color);">Wir sorgen für eine ge
 mütliche Stimmung, leckere Getränke und ganz viel Raum für dich.</p><p>&nbs
 p;</p><p>Anmeldung:&nbsp;<a href="https://anny.co/services/mami-kunst-kreat
 ive-auszeit-nur-fuer-dich-mmbzl9zjv9?from=organization&amp;fromName=Kleines
 +Gl%C3%BCck&amp;step=period" style="font-family: inherit; font-size: 1rem;"
 >Mami &amp; Kunst - Kreative Auszeit nur für dich! | anny</a></p>
CONTACT:hebamme@kleines-glueck.net
X-EXTRAINFO:[preis='5500'][anmeldung='true']
DTSTAMP:20260425T201228
DTSTART:20250515T080000
DTEND:20250515T103000
SEQUENCE:0
TRANSP:OPAQUE
END:VEVENT
END:VCALENDAR