BEGIN:VCALENDAR
VERSION:2.0
PRODID:-//jEvents 2.0 for Joomla//EN
CALSCALE:GREGORIAN
METHOD:PUBLISH
BEGIN:VEVENT
UID:32430c004e26429f2bb7736d36234756
CATEGORIES:3. Bezirk
CREATED:20250508T101930
SUMMARY:Mama Mia - Tanz mit mir! | 13.06.2025 | INC. Club
LOCATION:Inc. Club\, Schwarzenbergpl. 7\, 1030 Wien
DESCRIPTION:MAMA MIA - TANZ MIT MIR – ZWEITE RUNDE\n \nLadies aufgepasst! Diese Nacht g
 ehört ganz allein euch!  \nAm Freitag, 13.06.2025 laden wir alle Frauen, Mü
 tter, Power-Ladies und ihre Freundinnen in den glamourösen Inc. Club ein, u
 m gemeinsam zu feiern, zu tanzen und einfach mal loszulassen. Weg vom Allta
 g.\n \nKein Männerabend – nur für Frauen! Das wird eure Party.  \n(Einzige 
 Ausnahme: Männer in Begleitung ihrer Partnerin oder Frau)\n▬▬▬▬▬▬▬▬▬▬▬▬▬▬▬▬
 ▬▬▬▬▬▬▬▬▬▬  \nWAS EUCH ERWARTET  \n- Eine atemberaubender Club, welcher euc
 h verzaubert  \n- Begrüßungsshots für einen prickelnden Start  \n- Musik, d
 ie Frauen lieben: Die größten Hits der 80er, 90er, 2000er und die besten ak
 tuellen Chart-Hits – perfekt zum Mitsingen und Abtanzen  \n- Stylische Part
 ypics, um die besten Momente festzuhalten  \n- Ein magisches Lichterspiel, 
 das die Nacht unvergesslich macht    \n▬▬▬▬▬▬▬▬▬▬▬▬▬▬▬▬▬▬▬▬▬▬▬▬▬▬  \nHARDFA
 CTS  \n- Freitag | 13 | 06 | 2025  \n- Inc. Club (Schwarzenbergplatz 7, 103
 0 Wien)  \n- Einlass ab 19:00 Uhr (bis 23:00 exklusive Ladies Night, danach
  Clubbetrieb)  \n- 18+ – nur für Frauen  \n- Dresscode: Ziehe das an, womit
  du dich wohl fühlst\n \n▬▬▬▬▬▬▬▬▬▬▬▬▬▬▬▬▬▬▬▬▬▬▬▬▬▬  \nFEIERN MIT STYLE?  \
 nReserviert euch einen der streng limitierten VIP-Tische und genießt die Na
 cht mit euren Freundinnen in bester Lage.  \nReservierungen und Getränkepac
 kages bitte direkt an office@mamamiaevent.at\n \n▬▬▬▬▬▬▬▬▬▬▬▬▬▬▬▬▬▬▬▬▬▬▬▬▬▬
   \nWIR FREUEN UNS AUF EURE POWER UND EURE TANZMOVES  \nLasst uns gemeinsam
  eine Nacht erleben, die uns noch lange in Erinnerung bleibt – nur für euch
 , Ladies.  \n \nHinweis: Auch mit einem Ticket ist der Einlass nicht garant
 iert, falls die Besucherin unter 18 Jahren oder stark alkoholisiert ist.\n
X-ALT-DESC;FMTTYPE=text/html:<p>MAMA MIA - TANZ MIT MIR – ZWEITE RUNDE</p><p>&nbsp;</p><p>Ladies aufgepa
 sst! Diese Nacht gehört ganz allein euch!&nbsp;&nbsp;</p><p>Am Freitag, 13.
 06.2025 laden wir alle Frauen, Mütter, Power-Ladies und ihre Freundinnen in
  den glamourösen Inc. Club ein, um gemeinsam zu feiern, zu tanzen und einfa
 ch mal loszulassen. Weg vom Alltag.</p><p>&nbsp;</p><p>Kein Männerabend – n
 ur für Frauen! Das wird eure Party.&nbsp;&nbsp;</p><p>(Einzige Ausnahme: Mä
 nner in Begleitung ihrer Partnerin oder Frau)</p><p>▬▬▬▬▬▬▬▬▬▬▬▬▬▬▬▬▬▬▬▬▬▬▬
 ▬▬▬&nbsp;&nbsp;</p><p>WAS EUCH ERWARTET&nbsp;&nbsp;</p><p>- Eine atemberaub
 ender Club, welcher euch verzaubert&nbsp;&nbsp;</p><p>- Begrüßungsshots für
  einen prickelnden Start&nbsp;&nbsp;</p><p>- Musik, die Frauen lieben: Die 
 größten Hits der 80er, 90er, 2000er und die besten aktuellen Chart-Hits – p
 erfekt zum Mitsingen und Abtanzen&nbsp;&nbsp;</p><p>- Stylische Partypics, 
 um die besten Momente festzuhalten&nbsp;&nbsp;</p><p>- Ein magisches Lichte
 rspiel, das die Nacht unvergesslich macht&nbsp; &nbsp;&nbsp;</p><p>▬▬▬▬▬▬▬▬
 ▬▬▬▬▬▬▬▬▬▬▬▬▬▬▬▬▬▬&nbsp;&nbsp;</p><p>HARDFACTS&nbsp;&nbsp;</p><p>- Freitag 
 | 13 | 06 | 2025&nbsp;&nbsp;</p><p>- Inc. Club (Schwarzenbergplatz 7, 1030 
 Wien)&nbsp;&nbsp;</p><p>- Einlass ab 19:00 Uhr (bis 23:00 exklusive Ladies 
 Night, danach Clubbetrieb)&nbsp;&nbsp;</p><p>- 18+ – nur für Frauen&nbsp;&n
 bsp;</p><p>- Dresscode: Ziehe das an, womit du dich wohl fühlst</p><p>&nbsp
 ;</p><p>▬▬▬▬▬▬▬▬▬▬▬▬▬▬▬▬▬▬▬▬▬▬▬▬▬▬&nbsp;&nbsp;</p><p>FEIERN MIT STYLE?&nbsp
 ;&nbsp;</p><p>Reserviert euch einen der streng limitierten VIP-Tische und g
 enießt die Nacht mit euren Freundinnen in bester Lage.&nbsp;&nbsp;</p><p>Re
 servierungen und Getränkepackages bitte direkt an office@mamamiaevent.at</p
 ><p>&nbsp;</p><p>▬▬▬▬▬▬▬▬▬▬▬▬▬▬▬▬▬▬▬▬▬▬▬▬▬▬&nbsp;&nbsp;</p><p>WIR FREUEN UN
 S AUF EURE POWER UND EURE TANZMOVES&nbsp;&nbsp;</p><p>Lasst uns gemeinsam e
 ine Nacht erleben, die uns noch lange in Erinnerung bleibt – nur für euch, 
 Ladies.&nbsp;&nbsp;</p><p>&nbsp;</p><p>Hinweis: Auch mit einem Ticket ist d
 er Einlass nicht garantiert, falls die Besucherin unter 18 Jahren oder star
 k alkoholisiert ist.</p>
CONTACT:office@mamamiaevent.at
X-EXTRAINFO:[preis='1000'][anmeldung='false']
DTSTAMP:20260425T233348
DTSTART:20250613T170000
DTEND:20250613T210000
SEQUENCE:0
TRANSP:OPAQUE
END:VEVENT
END:VCALENDAR