BEGIN:VCALENDAR
VERSION:2.0
PRODID:-//jEvents 2.0 for Joomla//EN
CALSCALE:GREGORIAN
METHOD:PUBLISH
BEGIN:VEVENT
UID:335e322faeb4f4d501886b675cb78e8b
CATEGORIES:2. Bezirk
CREATED:19700101T010000
SUMMARY:Sommer Musikgruppe 6-12M 
LOCATION:Eltern-Kind-Zentrum Kind&amp;Kegel\, Praterstraße 14/8\, 1020 Wien
DESCRIPTION:SommerMusikgruppen im Kind&amp;Kegelfür Kinder von 6 Monaten bis 5 Jahre un
 d eine BegleitpersonMusikalische Frühförderung lässt Kinder erleben, wie vi
 el Freude im gemeinsamen Musizieren, Singen und Tanzen liegt. Nach neuesten
  erziehungs-, musik- und sprachwissenschaftlichen Erkenntnissen werden die 
 natürlichen musikalischen Fähigkeiten der Kinder ohne Leistungsdruck zur En
 tfaltung gebracht.\nEine ausgewogene Mischung aus Singen und Sprechen, Bewe
 gung und Instrumentalspiel sorgt für Abwechslung. Der wachsenden Selbständi
 gkeit der Kinder wird mit vermehrten interaktiven Spielen und Freiraum für 
 eigene Gestaltungsideen Rechnung getragen. Keine Vorkenntnisse erforderlich
 !\n06-12 M: Dienstag, 09:30-10:20, 5.8., 12.8., 19.8., 26.8.25\n1-2 Jahre: 
 Dienstag, 10:40-11:30, 5.8., 12.8., 19.8., 26.8.25\n2-3 Jahre: Montag, 15:3
 0-16:20, 4.8. 11.8., 18.8., 25.8.25\n2-5 Jahre: Dienstag, 15:30-17:20, 5.8.
 , 12.8., 19.8., 26.8.25 altersgemischt für Geschwisterkinder\n3-4 Jahre: Di
 enstag, 16:40-17:20, 5.8., 12.8., 19.8., 26.8.25\n3-5 Jahre: Montag, 16:40-
 17:30, 4.8., 11.8., 18.8., 25.8.25\nDie SommerMusikgruppen können auch als 
 Einzeltermine gebucht werden!\n      Wir weisen darauf hin, dass es nicht m
 öglich ist, Geschwisterkinder in die Gruppe mitzunehmen (Babies bis 6 Monat
 e können nach Absprache mitgenommen werden (max. 2 Babies pro Gruppe). In d
 er altersgemischten Gruppe 2-5J haben Geschwisterkinder Vorrang!\nKosten: 1
  Einheit € 16.- / 4 EH € 62.-\nAnmeldung erforderlich!\n
X-ALT-DESC;FMTTYPE=text/html:<h2 style="color: #78c752;"><span style="font-size: 146%;">SommerM</span>us
 ikgruppen im Kind&amp;Kegel</h2><h3>für Kinder von 6 Monaten bis 5 Jahre un
 d eine Begleitperson</h3><p>Musikalische Frühförderung lässt Kinder erleben
 , wie viel Freude im gemeinsamen Musizieren, Singen und Tanzen liegt. Nach 
 neuesten erziehungs-, musik- und sprachwissenschaftlichen Erkenntnissen wer
 den die natürlichen musikalischen Fähigkeiten der Kinder ohne Leistungsdruc
 k zur Entfaltung gebracht.</p><p>Eine ausgewogene Mischung aus Singen und S
 prechen, Bewegung und Instrumentalspiel sorgt für Abwechslung. Der wachsend
 en Selbständigkeit der Kinder wird mit vermehrten interaktiven Spielen und 
 Freiraum für eigene Gestaltungsideen Rechnung getragen. Keine Vorkenntnisse
  erforderlich!</p><p><strong>06-12 M: Dienstag, 09:30-10:20, 5.8., 12.8., 1
 9.8., 26.8.25</strong></p><p>1-2 Jahre: Dienstag, 10:40-11:30, 5.8., 12.8.,
  19.8., 26.8.25</p><p>2-3 Jahre: Montag, 15:30-16:20, 4.8. 11.8., 18.8., 25
 .8.25</p><p>2-5 Jahre: Dienstag, 15:30-17:20, 5.8., 12.8., 19.8., 26.8.25 a
 ltersgemischt für Geschwisterkinder</p><p>3-4 Jahre: Dienstag, 16:40-17:20,
  5.8., 12.8., 19.8., 26.8.25</p><p>3-5 Jahre: Montag, 16:40-17:30, 4.8., 11
 .8., 18.8., 25.8.25</p><p>Die SommerMusikgruppen können auch als Einzelterm
 ine gebucht werden!</p><table style="width: 9px; height: 7px;"><tbody><tr><
 td>&nbsp;</td><td>&nbsp;</td><td>&nbsp;</td></tr><tr><td>&nbsp;</td><td>&nb
 sp;</td><td>&nbsp;</td></tr></tbody></table><p>Wir weisen darauf hin, dass 
 es nicht möglich ist, Geschwisterkinder in die Gruppe mitzunehmen (Babies b
 is 6 Monate können <b>nach Absprache</b> mitgenommen werden (max. 2 Babies 
 pro Gruppe). In der altersgemischten Gruppe 2-5J haben Geschwisterkinder Vo
 rrang!</p><p>Kosten: 1 Einheit € 16.- / 4 EH € 62.-</p><p>Anmeldung erforde
 rlich!</p>
CONTACT:info@kind-und-kegel.at, 01 503 71 88
X-EXTRAINFO:[preis='1600'][anmeldung='true']
DTSTAMP:20260426T005242
DTSTART:20250805T073000
DTEND:20250805T082000
SEQUENCE:0
RRULE:FREQ=WEEKLY;COUNT=4;INTERVAL=1;BYDAY=TU
TRANSP:OPAQUE
END:VEVENT
END:VCALENDAR