BEGIN:VCALENDAR
VERSION:2.0
PRODID:-//jEvents 2.0 for Joomla//EN
CALSCALE:GREGORIAN
METHOD:PUBLISH
BEGIN:VEVENT
UID:e6374fac56ece4d96c6f0aaba3592165
CATEGORIES:2. Bezirk
CREATED:20250519T172105
SUMMARY:Sommer Wissenschaftsstunde 3-5Jahre
LOCATION:Eltern-Kind-Zentrum Kind&amp;Kegel\, Praterstraße 14/8\, 1020 Wien
DESCRIPTION:Wissenschaftsstunde \nFür Kinder von 3 bis 5 Jahren \nKinder sind von Natur
  aus neugierig. In den Wissenschaftsstunden behandeln wir einfache Konzepte
  aus dem Bereich der Chemiewissenschaften, und visualisieren diese in einfa
 chen Experimenten.\nTermine: Freitag, 4.7. und 8.8.25, \n jeweils von 10:00
  - 11:15 Uhr\n Kosten: 2 Einheiten € 35,- | 1 Einheit € 20,-\n Anmeldung er
 forderlich!\n \n
X-ALT-DESC;FMTTYPE=text/html:<h2>Wissenschaftsstunde</h2><p>&nbsp;</p><h3>Für Kinder von 3 bis 5 Jahren<
 /h3><p>&nbsp;</p><p>Kinder sind von Natur aus neugierig. In den Wissenschaf
 tsstunden behandeln wir einfache Konzepte aus dem Bereich der Chemiewissens
 chaften, und visualisieren diese in einfachen Experimenten.</p><p><span cla
 ss="fett">Termine:</span> Freitag, 4.7. und 8.8.25, <br />&nbsp;jeweils von
  10:<span class="kleinhoch">00</span> - 11:<span class="kleinhoch">15</span
 > Uhr<br /> <span class="fett">Kosten: </span>2 Einheiten € 35,- | 1 Einhei
 t € 20,-<br /> Anmeldung erforderlich!</p><p>&nbsp;</p>
CONTACT:info@kind-und-kegel.at, 01 503 71 88, www.kind-und-kegel.at
X-EXTRAINFO:[preis='2000'][anmeldung='true']
DTSTAMP:20260426T015921
DTSTART:20250808T080000
DTEND:20250808T091500
SEQUENCE:0
TRANSP:OPAQUE
END:VEVENT
END:VCALENDAR