BEGIN:VCALENDAR
VERSION:2.0
PRODID:-//jEvents 2.0 for Joomla//EN
CALSCALE:GREGORIAN
METHOD:PUBLISH
BEGIN:VEVENT
UID:8fe0a08321a128a6968a91d86ddd76ad
CATEGORIES:3. Bezirk
CREATED:20250519T191441
SUMMARY:lieblingsflohmarkt - dein großer Kinder und Frauen FLOHMARKT
LOCATION:Parkplatz Marxhalle\, Karl-Farkas-Gasse 2\, 1030 Wien
DESCRIPTION:lieblingsflohmarkt KIDS &amp; WOMAN - dein großer Kinder &amp; Frauen-Flohm
 arkt\nSonntag 1.Juni 2025\nSamstag 28.Juni 2025\n(weitere Termin in Planung
 )\nwww.lieblingsflohmarkt.at\n \nParkplatz Marxhalle Wien\nKarl-Farkas-Gass
 e\n1030 Wien\n \nEintritt frei! viele Parkplätze am Gelände! Verkaufsplätze
  verfügbar um 35 Euro.\n \nDer große lieblingsflohmarkt kommt nach wieder n
 ach St. Marx! Schau vorbei und stöbere dich durch tolle Spielsachen und kau
 m getragene Vintage-Mode! \nEin beliebter Fixpunkt für Frauen und Familien 
 ist der riesige Second-Hand-Markt im 3.Bezirk. Über 150 AustellerInnen verk
 aufen Kinderkleidung Spielzeug Kinderbücher und alles für Sport und Spiel s
 owie Damenmode Schuhe Taschen Schmuck und Kosmetik. Ab 9h vormittags tummel
 n sich kauflustige Leute bei freiem Eintritt auf der riesigen Freifläche ne
 ben der Marxhalle Wien um die besten Stücke zu ergattern.\nFür Snacks und G
 etränke ist gesorgt und es stehen viele Parkplätze direkt am Flohmarktgelän
 de zur Verfügung. Öffentlich ist der lieblingsflohmarkt leicht zu erreichen
  mit der U3 Erdberg und wenige Minuten zu Fuß.\n \nWer schon immer einmal s
 einen eigenen Kleiderschrank aussortieren oder die Spielsachen der Kids ver
 kaufen wollte hat nun Gelegenheit dazu! Buche jetzt rasch online deinen Ver
 kaufsplatz um 35 Euro auf www.lieblingsflohmarkt.at. Bitte Tisch oder Kleid
 erstange selbst mitbringen dein Auto parkt am Standplatz. \n \nAlle Infos f
 ür AusstellerInnen und unser Ticketshop findest du auf unserer Website www.
 lieblingsflohmarkt.at\n
X-ALT-DESC;FMTTYPE=text/html:<p style="border: none; line-height: 1.5em; margin: 0cm 0cm 0.0001pt; color
 : #000000; font-family: 'Roboto Condensed', sans-serif; font-size: 15px; ba
 ckground-image: initial; background-position: initial; background-size: ini
 tial; background-repeat: initial; background-attachment: initial; backgroun
 d-origin: initial; background-clip: initial;"><span style="font-family: Hel
 vetica, sans-serif; color: #6e6f73;">lieblingsflohmarkt KIDS &amp; WOMAN - 
 dein großer Kinder &amp; Frauen-Flohmarkt</span></p><p style="border: none;
  line-height: 1.5em; margin: 0cm 0cm 0.0001pt; color: #000000; font-family:
  'Roboto Condensed', sans-serif; font-size: 15px; background-image: initial
 ; background-position: initial; background-size: initial; background-repeat
 : initial; background-attachment: initial; background-origin: initial; back
 ground-clip: initial; word-break: break-word;"><strong><span style="font-fa
 mily: Helvetica, sans-serif; color: #6e6f73;">Sonntag 1.Juni 2025</span></s
 trong></p><p style="border: none; line-height: 1.5em; margin: 0cm 0cm 0.000
 1pt; color: #000000; font-family: 'Roboto Condensed', sans-serif; font-size
 : 15px; background-image: initial; background-position: initial; background
 -size: initial; background-repeat: initial; background-attachment: initial;
  background-origin: initial; background-clip: initial; word-break: break-wo
 rd;"><span style="font-family: Helvetica, sans-serif; color: #6e6f73;"><str
 ong>Samstag 28.Juni 2025</strong></span></p><p style="border: none; line-he
 ight: 1.5em; margin: 0cm 0cm 0.0001pt; color: #000000; font-family: 'Roboto
  Condensed', sans-serif; font-size: 15px; background-image: initial; backgr
 ound-position: initial; background-size: initial; background-repeat: initia
 l; background-attachment: initial; background-origin: initial; background-c
 lip: initial;"><span style="font-family: Helvetica, sans-serif; color: #565
 c68; background-image: initial; background-position: initial; background-si
 ze: initial; background-repeat: initial; background-attachment: initial; ba
 ckground-origin: initial; background-clip: initial;">(weitere Termin in Pla
 nung)<br />www.lieblingsflohmarkt.at</span><span style="font-family: Helvet
 ica, sans-serif; color: #6e6f73;"></span></p><p style="border: none; line-h
 eight: 1.5em; margin: 0cm 0cm 0.0001pt; color: #000000; font-family: 'Robot
 o Condensed', sans-serif; font-size: 15px; background-image: initial; backg
 round-position: initial; background-size: initial; background-repeat: initi
 al; background-attachment: initial; background-origin: initial; background-
 clip: initial; word-break: break-word;">&nbsp;</p><p style="border: none; l
 ine-height: 1.5em; margin: 0cm 0cm 0.0001pt; color: #000000; font-family: '
 Roboto Condensed', sans-serif; font-size: 15px; background-image: initial; 
 background-position: initial; background-size: initial; background-repeat: 
 initial; background-attachment: initial; background-origin: initial; backgr
 ound-clip: initial; word-break: break-word;"><span style="font-family: Helv
 etica, sans-serif; color: #6e6f73;">Parkplatz Marxhalle Wien</span></p><p s
 tyle="border: none; line-height: 1.5em; margin: 0cm 0cm 0.0001pt; color: #0
 00000; font-family: 'Roboto Condensed', sans-serif; font-size: 15px; backgr
 ound-image: initial; background-position: initial; background-size: initial
 ; background-repeat: initial; background-attachment: initial; background-or
 igin: initial; background-clip: initial; word-break: break-word;"><span sty
 le="font-family: Helvetica, sans-serif; color: #6e6f73;">Karl-Farkas-Gasse<
 /span></p><p style="border: none; line-height: 1.5em; margin: 0cm 0cm 0.000
 1pt; color: #000000; font-family: 'Roboto Condensed', sans-serif; font-size
 : 15px; background-image: initial; background-position: initial; background
 -size: initial; background-repeat: initial; background-attachment: initial;
  background-origin: initial; background-clip: initial; word-break: break-wo
 rd;"><span style="font-family: Helvetica, sans-serif; color: #6e6f73;">1030
  Wien</span></p><p style="border: none; line-height: 1.5em; margin: 0cm 0cm
  0.0001pt; color: #000000; font-family: 'Roboto Condensed', sans-serif; fon
 t-size: 15px; background-image: initial; background-position: initial; back
 ground-size: initial; background-repeat: initial; background-attachment: in
 itial; background-origin: initial; background-clip: initial; word-break: br
 eak-word;"><span style="font-family: Helvetica, sans-serif; color: #6e6f73;
 "></span>&nbsp;</p><p style="border: none; line-height: 1.5em; margin: 0cm 
 0cm 0.0001pt; color: #000000; font-family: 'Roboto Condensed', sans-serif; 
 font-size: 15px; background-image: initial; background-position: initial; b
 ackground-size: initial; background-repeat: initial; background-attachment:
  initial; background-origin: initial; background-clip: initial;"><span styl
 e="font-family: Helvetica, sans-serif; color: #565c68;"><strong>Eintritt fr
 ei! viele Parkplätze am Gelände! Verkaufsplätze verfügbar um 35 Euro.</stro
 ng></span></p><p style="border: none; line-height: 1.5em; margin: 0cm 0cm 0
 .0001pt; color: #000000; font-family: 'Roboto Condensed', sans-serif; font-
 size: 15px; white-space-collapse: preserve; background-image: initial; back
 ground-position: initial; background-size: initial; background-repeat: init
 ial; background-attachment: initial; background-origin: initial; background
 -clip: initial; box-sizing: border-box; counter-reset: list-1 0 list-2 0 li
 st-3 0 list-4 0 list-5 0 list-6 0 list-7 0 list-8 0 list-9 0; cursor: text;
 ">&nbsp;</p><p style="border: none; line-height: 1.5em; margin: 0cm 0cm 0.0
 001pt; color: #000000; font-family: 'Roboto Condensed', sans-serif; font-si
 ze: 15px; white-space-collapse: preserve; background-image: initial; backgr
 ound-position: initial; background-size: initial; background-repeat: initia
 l; background-attachment: initial; background-origin: initial; background-c
 lip: initial; box-sizing: border-box; counter-reset: list-1 0 list-2 0 list
 -3 0 list-4 0 list-5 0 list-6 0 list-7 0 list-8 0 list-9 0; cursor: text;">
 <span style="font-family: Helvetica, sans-serif; color: #565c68;">Der große
 &nbsp;<em style="box-sizing: border-box;">lieblingsflohmarkt</em>&nbsp;komm
 t nach wieder nach St. Marx! Schau vorbei und stöbere dich durch <strong st
 yle="box-sizing: border-box;">tolle Spielsachen und kaum getragene Vintage-
 Mode!</strong>&nbsp;</span></p><p style="border: none; line-height: 1.5em; 
 margin: 0cm 0cm 0.0001pt; color: #000000; font-family: 'Roboto Condensed', 
 sans-serif; font-size: 15px; white-space-collapse: preserve; background-ima
 ge: initial; background-position: initial; background-size: initial; backgr
 ound-repeat: initial; background-attachment: initial; background-origin: in
 itial; background-clip: initial; box-sizing: border-box; counter-reset: lis
 t-1 0 list-2 0 list-3 0 list-4 0 list-5 0 list-6 0 list-7 0 list-8 0 list-9
  0; cursor: text;"><span style="font-family: Helvetica, sans-serif; color: 
 #565c68;">Ein beliebter Fixpunkt für Frauen und Familien ist der <strong st
 yle="box-sizing: border-box;">riesige Second-Hand-Markt</strong> im 3.Bezir
 k. Über 150 AustellerInnen verkaufen Kinderkleidung Spielzeug Kinderbücher 
 und alles für Sport und Spiel sowie Damenmode Schuhe Taschen Schmuck und Ko
 smetik. Ab 9h vormittags tummeln sich kauflustige Leute bei freiem Eintritt
  auf der riesigen Freifläche neben der Marxhalle Wien um die besten Stücke 
 zu ergattern.</span></p><p style="border: none; line-height: 1.5em; margin:
  0cm 0cm 0.0001pt; color: #000000; font-family: 'Roboto Condensed', sans-se
 rif; font-size: 15px; white-space-collapse: preserve; background-image: ini
 tial; background-position: initial; background-size: initial; background-re
 peat: initial; background-attachment: initial; background-origin: initial; 
 background-clip: initial; box-sizing: border-box; counter-reset: list-1 0 l
 ist-2 0 list-3 0 list-4 0 list-5 0 list-6 0 list-7 0 list-8 0 list-9 0; cur
 sor: text;"><span style="font-family: Helvetica, sans-serif; color: #565c68
 ;">Für <strong style="box-sizing: border-box;">Snacks und Getränke</strong>
  ist gesorgt und es stehen <strong style="box-sizing: border-box;">viele Pa
 rkplätze</strong> direkt am Flohmarktgelände zur Verfügung. Öffentlich ist 
 der&nbsp;<em style="box-sizing: border-box;">lieblingsflohmarkt</em>&nbsp;l
 eicht zu erreichen mit der U3 Erdberg und wenige Minuten zu Fuß.</span></p>
 <p style="border: none; line-height: 1.5em; margin: 0cm 0cm 0.0001pt; color
 : #000000; font-family: 'Roboto Condensed', sans-serif; font-size: 15px; wh
 ite-space-collapse: preserve; background-image: initial; background-positio
 n: initial; background-size: initial; background-repeat: initial; backgroun
 d-attachment: initial; background-origin: initial; background-clip: initial
 ; box-sizing: border-box; counter-reset: list-1 0 list-2 0 list-3 0 list-4 
 0 list-5 0 list-6 0 list-7 0 list-8 0 list-9 0; cursor: text;">&nbsp;</p><p
  style="border: none; line-height: 1.5em; margin: 0cm 0cm 0.0001pt; color: 
 #000000; font-family: 'Roboto Condensed', sans-serif; font-size: 15px; whit
 e-space-collapse: preserve; background-image: initial; background-position:
  initial; background-size: initial; background-repeat: initial; background-
 attachment: initial; background-origin: initial; background-clip: initial; 
 box-sizing: border-box; counter-reset: list-1 0 list-2 0 list-3 0 list-4 0 
 list-5 0 list-6 0 list-7 0 list-8 0 list-9 0; cursor: text;"><span style="f
 ont-family: Helvetica, sans-serif; color: #565c68;">Wer schon immer einmal 
 seinen eigenen Kleiderschrank aussortieren oder die Spielsachen der Kids ve
 rkaufen wollte hat nun Gelegenheit dazu! Buche jetzt rasch online <strong s
 tyle="box-sizing: border-box;">deinen Verkaufsplatz</strong> um 35 Euro auf
 &nbsp;www.lieblingsflohmarkt.at. Bitte Tisch oder Kleiderstange selbst mitb
 ringen dein Auto parkt am Standplatz. </span></p><p style="border: none; li
 ne-height: 1.5em; margin: 0px; color: #000000; font-family: 'Roboto Condens
 ed', sans-serif; font-size: 15px;">&nbsp;</p><p style="border: none; line-h
 eight: 1.5em; margin: 0cm 0cm 0.0001pt; color: #000000; font-family: 'Robot
 o Condensed', sans-serif; font-size: 15px; white-space-collapse: preserve; 
 background-image: initial; background-position: initial; background-size: i
 nitial; background-repeat: initial; background-attachment: initial; backgro
 und-origin: initial; background-clip: initial; box-sizing: border-box; coun
 ter-reset: list-1 0 list-2 0 list-3 0 list-4 0 list-5 0 list-6 0 list-7 0 l
 ist-8 0 list-9 0; cursor: text;"><span style="font-family: Helvetica, sans-
 serif; color: #565c68;">Alle Infos für AusstellerInnen und unser Ticketshop
  findest du auf unserer Website&nbsp;www.lieblingsflohmarkt.at</span></p>
CONTACT:info@lieblingsflohmarkt.at
DTSTAMP:20260425T233217
DTSTART:20250628T070000
DTEND:20250628T110000
SEQUENCE:0
TRANSP:OPAQUE
END:VEVENT
END:VCALENDAR