BEGIN:VCALENDAR
VERSION:2.0
PRODID:-//jEvents 2.0 for Joomla//EN
CALSCALE:GREGORIAN
METHOD:PUBLISH
BEGIN:VEVENT
UID:f1584f2a92e7c3c10ce3a1afd64602f7
CATEGORIES:16. Bezirk
CREATED:20250520T164240
SUMMARY:Musik im Sommer
LOCATION:Kulturverein Redtenbach
DESCRIPTION:Unsere Musikgruppen sind für Babys und Kleinkinder von 0 bis 5 Jahren, die 
 von einem Elternteil oder einer anderen Bezugsperson begleitet werden. Geme
 insam mit dem Kind entdecken sie die Welt der Musik. Wir singen, tanzen, mu
 sizieren, entdecken, horchen, improvisieren, spielen und vieles mehr! Die n
 atürliche Freude, die Kinder an Musik haben, steht dabei immer im Mittelpun
 kt. Ohne Leistungsdruck kann jedes Kind mit Freude sein musikalisches und k
 reatives Potential entfalten. In unseren Musikgruppen sind alle willkommen,
  auch diejenigen, die sich selbst als vollkommen unmusikalisch betrachten! 
 Unsere Kurse bieten Eltern außerdem viele Ideen, um Musik zu einem festen B
 estandteil des Familienlebens zu machen. \n\nAuch im Sommer können Eltern u
 nd Kinder unsere musikalischen Stunden genießen. Um mehr Flexibilität währe
 nd der Sommerferien zu bieten, können Sie die Unterrichtseinheiten einzeln 
 kaufen. \n\nKursdaten: 22.07, 25.07, 18.08, 21.08, 25.08, 28.08 \n\nStunden
 plan: \n14:00-14:40: 0 – 18 Monate \n15:00-15:50: 18 Monate – 3 Jahre \n16:
 00-16:50: 3 – 5 Jahre \n\nPreise: \nGruppe 0-18 Monate (40 Minuten): €14 pr
 o Unterrichtseinheit \nGruppen 18 Monate – 5 Jahre (50 Minuten): €17 pro Un
 terrichtseinheit \n\nBedingungen: Bitte geben Sie bei der Anmeldung das Dat
 um / die Daten an, an dem/denen Sie unseren Kurs besuchen möchten. Der Kauf
  ist nur für diese Unterrichtseinheit(en) gültig. Es gibt keine Möglichkeit
 , verpasste Stunden nachzuholen. Eine Einheit findet ab 5 TeilnehmerInnen m
 it Sicherheit statt. \n\nInfo und Anmeldung unter kinder@redtenbach.at  (ma
 ilto:kinder@redtenbach.at )\n\nhttps://www.redtenbach.at/kinder/ (https://w
 ww.redtenbach.at/kinder/)\n
X-ALT-DESC;FMTTYPE=text/html:<p><span style="font-size: 16px; white-space: pre-wrap; caret-color: #61545
 4; color: #615454; font-family: Lato, sans-serif;">Unsere Musikgruppen sind
  für Babys und Kleinkinder von 0 bis 5 Jahren, die von einem Elternteil ode
 r einer anderen Bezugsperson begleitet werden. Gemeinsam mit dem Kind entde
 cken sie die Welt der Musik. Wir singen, tanzen, musizieren, entdecken, hor
 chen, improvisieren, spielen und vieles mehr! Die natürliche Freude, die Ki
 nder an Musik haben, steht dabei immer im Mittelpunkt. Ohne Leistungsdruck 
 kann jedes Kind mit Freude sein musikalisches und kreatives Potential entfa
 lten. In unseren Musikgruppen sind alle willkommen, auch diejenigen, die si
 ch selbst als vollkommen unmusikalisch betrachten! Unsere Kurse bieten Elte
 rn außerdem viele Ideen, um Musik zu einem festen Bestandteil des Familienl
 ebens zu machen. <br /><br />Auch im Sommer können Eltern und Kinder unsere
  musikalischen Stunden genießen. Um mehr Flexibilität während der Sommerfer
 ien zu bieten, können Sie die Unterrichtseinheiten einzeln kaufen. <br /><b
 r />Kursdaten: 22.07, 25.07, 18.08, 21.08, 25.08, 28.08 <br /><br />Stunden
 plan: <br />14:00-14:40: 0 – 18 Monate <br /></span><span style="font-size:
  16px; white-space: pre-wrap; caret-color: #615454; color: #615454; font-fa
 mily: Lato, sans-serif;">15:00-15:50: 18 Monate – 3 Jahre <br />16:00-16:50
 : 3 – 5 Jahre <br /><br />Preise: <br />Gruppe 0-18 Monate (40 Minuten): €1
 4 pro Unterrichtseinheit <br />Gruppen 18 Monate – 5 Jahre (50 Minuten): €1
 7 pro Unterrichtseinheit <br /><br />Bedingungen: Bitte geben Sie bei der A
 nmeldung das Datum / die Daten an, an dem/denen Sie unseren Kurs besuchen m
 öchten. Der Kauf ist nur für diese Unterrichtseinheit(en) gültig. Es gibt k
 eine Möglichkeit, verpasste Stunden nachzuholen. Eine Einheit findet ab 5 T
 eilnehmerInnen mit Sicherheit statt. <br /><br />Info und Anmeldung unter <
 a href="mailto:kinder@redtenbach.at ">kinder@redtenbach.at </a><br /><br />
 </span><a href="https://www.redtenbach.at/kinder/" style="font-size: 16px; 
 white-space: pre-wrap; box-sizing: border-box; margin: 0px; padding: 0px; c
 olor: #ec776a; font-family: Lato, sans-serif;">https://www.redtenbach.at/ki
 nder/</a></p>
CONTACT:kinder@redtenbach.at
X-EXTRAINFO:[preis='1400'][anmeldung='true']
DTSTAMP:20260426T010010
DTSTART:20250722T120000
DTEND:20250722T150000
SEQUENCE:0
TRANSP:OPAQUE
END:VEVENT
END:VCALENDAR