BEGIN:VCALENDAR
VERSION:2.0
PRODID:-//jEvents 2.0 for Joomla//EN
CALSCALE:GREGORIAN
METHOD:PUBLISH
BEGIN:VEVENT
UID:2a62ee50cf294a5c6a6cedb3d42aa669
CATEGORIES:16. Bezirk
CREATED:20250520T173302
SUMMARY:Anfang Semesterkurs musikalische Früherziehung (Kurstag Montag)
LOCATION:Kulturverein Redtenbach
DESCRIPTION:Unsere Musikgruppen sind für Babys und Kleinkinder von 0 bis 5 Jahren, die 
 von einem Elternteil oder einer anderen Bezugsperson begleitet werden. Geme
 insam mit dem Kind entdecken sie die Welt der Musik. Wir singen, tanzen, mu
 sizieren, entdecken, horchen, improvisieren, spielen und vieles mehr! Die n
 atürliche Freude, die Kinder an Musik haben, steht dabei immer im Mittelpun
 kt. Ohne Leistungsdruck kann jedes Kind mit Freude sein musikalisches und k
 reatives Potential entfalten. In unseren Musikgruppen sind alle willkommen,
  auch diejenigen, die sich selbst als vollkommen unmusikalisch betrachten! 
 Unsere Kurse bieten Eltern außerdem viele Ideen, um Musik zu einem festen B
 estandteil des Familienlebens zu machen. Unser Wintersemester beginnt im Se
 ptember 2025. Termine Montagskurs: 08.09, 15.09, 22.09, 29.09, 06.10, 13.10
 , 20.10, 3.11, 10.11, 17.11 24.11, 1.12 (Ersatzeinheiten bei Ausfall von Un
 terrichtsstunden durch Krankheit der Lehrerin: 15.12, 19.1, 26.1) Kurszeite
 n Montag: 14:00-14:40: 0-18 Monate 15:00-15:50: 18 Monate – 3 Jahre 16:00-1
 6:50: 3-5 Jahre 17:00-17:50: 3 -5 Jahre Termine Donnerstagskurs: 11.09, 25.
 09, 02.10, 09.10, 16.10, 23.10, 06.11, 13.11, 20.11, 27.11, 04.12, 11.12 (E
 rsatzeinheiten bei Ausfall von Unterrichtsstunden durch Krankheit der Lehre
 rin: 18.12, 22.01, 29.01) Kurszeiten Donnerstag: 14:00-14:40: 0-18 Monate 1
 5:00-15:50: 18 Monate – 3 Jahre 16:00-16:50: 3-5 Jahre Kurspreise: Gruppe 0
 -18 Monate (40 Minuten): €160 Gruppen 18 Monate – 5 Jahre (50 Minuten): €20
 0 Info und Anmeldung unter kinder@redtenbach.at  (mailto:kinder@redtenbach.
 at)https://www.redtenbach.at/kinder/ (https://www.redtenbach.at/kinder/)\n
X-ALT-DESC;FMTTYPE=text/html:<p><span style="caret-color: #000000; color: #000000; font-size: medium;">U
 nsere Musikgruppen sind für Babys und Kleinkinder von 0 bis 5 Jahren, die v
 on einem Elternteil oder einer anderen Bezugsperson begleitet werden. Gemei
 nsam mit dem Kind entdecken sie die Welt der Musik. Wir singen, tanzen, mus
 izieren, entdecken, horchen, improvisieren, spielen und vieles mehr! Die na
 türliche Freude, die Kinder an Musik haben, steht dabei immer im Mittelpunk
 t. Ohne Leistungsdruck kann jedes Kind mit Freude sein musikalisches und kr
 eatives Potential entfalten. In unseren Musikgruppen sind alle willkommen, 
 auch diejenigen, die sich selbst als vollkommen unmusikalisch betrachten! U
 nsere Kurse bieten Eltern außerdem viele Ideen, um Musik zu einem festen Be
 standteil des Familienlebens zu machen.&nbsp;</span><br style="caret-color:
  #000000; color: #000000;" /><br style="caret-color: #000000; color: #00000
 0;" /><span style="caret-color: #000000; color: #000000; font-size: medium;
 ">Unser Wintersemester beginnt im September 2025.&nbsp;</span><br style="ca
 ret-color: #000000; color: #000000;" /><br style="caret-color: #000000; col
 or: #000000;" /><span style="caret-color: #000000; color: #000000; font-siz
 e: medium;">Termine Montagskurs: 08.09, 15.09, 22.09, 29.09, 06.10, 13.10, 
 20.10, 3.11, 10.11, 17.11 24.11, 1.12&nbsp;</span><br style="caret-color: #
 000000; color: #000000;" /><span style="caret-color: #000000; color: #00000
 0; font-size: medium;">(Ersatzeinheiten bei Ausfall von Unterrichtsstunden 
 durch Krankheit der Lehrerin: 15.12, 19.1, 26.1)&nbsp;</span><br style="car
 et-color: #000000; color: #000000;" /><br style="caret-color: #000000; colo
 r: #000000;" /><span style="caret-color: #000000; color: #000000; font-size
 : medium;">Kurszeiten Montag:&nbsp;</span><br style="caret-color: #000000; 
 color: #000000;" /><span style="caret-color: #000000; color: #000000; font-
 size: medium;">14:00-14:40: 0-18 Monate&nbsp;</span><br style="caret-color:
  #000000; color: #000000;" /><span style="caret-color: #000000; color: #000
 000; font-size: medium;">15:00-15:50: 18 Monate – 3 Jahre&nbsp;</span><br s
 tyle="caret-color: #000000; color: #000000;" /><span style="caret-color: #0
 00000; color: #000000; font-size: medium;">16:00-16:50: 3-5 Jahre&nbsp;</sp
 an><br style="caret-color: #000000; color: #000000;" /><span style="caret-c
 olor: #000000; color: #000000; font-size: medium;">17:00-17:50: 3 -5 Jahre&
 nbsp;</span><br style="caret-color: #000000; color: #000000;" /><br style="
 caret-color: #000000; color: #000000;" /><span style="caret-color: #000000;
  color: #000000; font-size: medium;">Termine Donnerstagskurs: 11.09, 25.09,
  02.10, 09.10, 16.10, 23.10, 06.11, 13.11, 20.11, 27.11, 04.12, 11.12&nbsp;
 </span><br style="caret-color: #000000; color: #000000;" /><span style="car
 et-color: #000000; color: #000000; font-size: medium;">(Ersatzeinheiten bei
  Ausfall von Unterrichtsstunden durch Krankheit der Lehrerin: 18.12, 22.01,
  29.01)&nbsp;</span><br style="caret-color: #000000; color: #000000;" /><br
  style="caret-color: #000000; color: #000000;" /><span style="caret-color: 
 #000000; color: #000000; font-size: medium;">Kurszeiten Donnerstag:&nbsp;</
 span><br style="caret-color: #000000; color: #000000;" /><span style="caret
 -color: #000000; color: #000000; font-size: medium;">14:00-14:40: 0-18 Mona
 te&nbsp;</span><br style="caret-color: #000000; color: #000000;" /><span st
 yle="caret-color: #000000; color: #000000; font-size: medium;">15:00-15:50:
  18 Monate – 3 Jahre&nbsp;</span><br style="caret-color: #000000; color: #0
 00000;" /><span style="caret-color: #000000; color: #000000; font-size: med
 ium;">16:00-16:50: 3-5 Jahre&nbsp;</span><br style="caret-color: #000000; c
 olor: #000000;" /><br style="caret-color: #000000; color: #000000;" /><span
  style="caret-color: #000000; color: #000000; font-size: medium;">Kurspreis
 e:&nbsp;</span><br style="caret-color: #000000; color: #000000;" /><span st
 yle="caret-color: #000000; color: #000000; font-size: medium;">Gruppe 0-18 
 Monate (40 Minuten): €160&nbsp;</span><br style="caret-color: #000000; colo
 r: #000000;" /><span style="caret-color: #000000; color: #000000; font-size
 : medium;">Gruppen 18 Monate – 5 Jahre (50 Minuten): €200&nbsp;</span><br s
 tyle="caret-color: #000000; color: #000000;" /><br style="caret-color: #000
 000; color: #000000;" /><span style="caret-color: #000000; color: #000000; 
 font-size: medium;">Info und Anmeldung unter&nbsp;</span><a href="mailto:ki
 nder@redtenbach.at">kinder@redtenbach.at&nbsp;</a><br style="caret-color: #
 000000; color: #000000;" /><br style="caret-color: #000000; color: #000000;
 " /><a href="https://www.redtenbach.at/kinder/">https://www.redtenbach.at/k
 inder/</a></p>
CONTACT:kinder@redtenbach.at
X-EXTRAINFO:[preis='16000'][anmeldung='true']
DTSTAMP:20260426T020900
DTSTART:20250908T120000
DTEND:20250908T160000
SEQUENCE:0
TRANSP:OPAQUE
END:VEVENT
END:VCALENDAR