BEGIN:VCALENDAR
VERSION:2.0
PRODID:-//jEvents 2.0 for Joomla//EN
CALSCALE:GREGORIAN
METHOD:PUBLISH
BEGIN:VEVENT
UID:1c8a16293a9793bb0a9e787c02474c3f
CATEGORIES:11. Bezirk
CREATED:20250521T093156
SUMMARY:Play Day 
LOCATION:Kinder City Simmeringer Hauptstraße 7\, 1110 Wien
DESCRIPTION:Play Day\nLass uns das regnerische Wetter nutzen, um in unserer Kinder City
  zu spielen und Spaß zu haben, wo die Kinder durch das Spiel mit ihren Alte
 rsgenossen und Eltern die Rollen der Erwachsenen übernehmen können.\nBitte 
  rechtzeitig reservieren, die Plätze sind begrenzt. Wir nehmen nur eine bes
 timmte Anzahl an Kindern damit es ein qualitatives spielen wird für alle.  
 Im Eintrittspreis inkludiert: Eintritt  für 1 Erwachsenen mit Kind. \nKinde
 rsaft und Knabberzeug für die Kinder. \nZu sehr günstigen Preisen können si
 e Kaffee oder diverse Säfte bei uns.\n
X-ALT-DESC;FMTTYPE=text/html:<p>Play Day<br />Lass uns das regnerische Wetter nutzen, um in unserer Kind
 er City zu spielen und Spaß zu haben, wo die Kinder durch das Spiel mit ihr
 en Altersgenossen und Eltern die Rollen der Erwachsenen übernehmen können.<
 /p><p>Bitte &nbsp;rechtzeitig reservieren, die Plätze sind begrenzt. Wir ne
 hmen nur eine bestimmte Anzahl an Kindern damit es ein qualitatives spielen
  wird für alle. &nbsp;Im Eintrittspreis inkludiert: Eintritt &nbsp;für 1 Er
 wachsenen mit Kind.&nbsp;</p><p>Kindersaft und Knabberzeug für die Kinder.&
 nbsp;</p><p>Zu sehr günstigen Preisen können sie Kaffee oder diverse Säfte 
 bei uns.</p>
CONTACT:06763284722
X-EXTRAINFO:[preis='1020'][anmeldung='true']
DTSTAMP:20260425T200727
DTSTART:20250522T130000
DTEND:20250522T160000
SEQUENCE:0
TRANSP:OPAQUE
END:VEVENT
END:VCALENDAR