BEGIN:VCALENDAR
VERSION:2.0
PRODID:-//jEvents 2.0 for Joomla//EN
CALSCALE:GREGORIAN
METHOD:PUBLISH
BEGIN:VEVENT
UID:69d5a58bf45c88fab504bea276d1cf84
CATEGORIES:2. Bezirk
CREATED:20250521T145655
SUMMARY:Kasperltheater für Kinder ab 2J
LOCATION:Eltern-Kind-Zentrum Kind&amp;Kegel\, Praterstraße 14/8\, 1020 Wien
DESCRIPTION:KasperltheaterKleinkind gerechte, kurze Geschichten von maximal 30 Minuten 
 Länge mit dem Kasperl und seinen Freunden. Geeignet für Kinder ab 2 Jahre.\
 nTermineFreitag, um 15:30 Uhr\n 13.06.25\nKosten:\n1 Kind und 1 Erwachsener
 : € 7,-\nAnmeldung erforderlich!\n \n
X-ALT-DESC;FMTTYPE=text/html:<div class="et_pb_module et_pb_text et_pb_text_39 et_pb_text_align_left et_
 pb_bg_layout_light"><div class="et_pb_text_inner"><h2><strong>Kasperltheate
 r</strong></h2></div></div><div class="et_pb_module et_pb_text et_pb_text_4
 0 et_pb_text_align_left et_pb_bg_layout_light"><div class="et_pb_text_inner
 "><p><span>Kleinkind gerechte, kurze Geschichten von maximal 30 Minuten Län
 ge mit dem Kasperl und seinen Freunden. Geeignet für Kinder ab 2 Jahre.</sp
 an></p></div></div><div class="et_pb_module et_pb_toggle et_pb_toggle_37 et
 _pb_toggle_item et_pb_toggle_open"><h5 class="et_pb_toggle_title">Termine</
 h5><div class="et_pb_toggle_content clearfix" style="display: block;"><p><s
 pan>Freitag,</span><span> um 15:<span class="kleinhoch">30</span>&nbsp;Uhr<
 br />&nbsp;13.06.25</span></p><p><span class="fett"><strong>Kosten:</strong
 ><br /></span><span>1 Kind und 1 Erwachsener: € 7,-</span></p><p>Anmeldung 
 erforderlich!</p></div></div><p>&nbsp;</p>
CONTACT:info@kind-und-kegel.at, 01 503 71 88, www.kind-und-kegel.at
X-EXTRAINFO:[preis='700'][anmeldung='true']
DTSTAMP:20260426T004926
DTSTART:20250613T133000
DTEND:20250613T140000
SEQUENCE:0
TRANSP:OPAQUE
END:VEVENT
END:VCALENDAR