BEGIN:VCALENDAR
VERSION:2.0
PRODID:-//jEvents 2.0 for Joomla//EN
CALSCALE:GREGORIAN
METHOD:PUBLISH
BEGIN:VEVENT
UID:918ac89a5acb830e061f82ae1b3da22f
CATEGORIES:2. Bezirk
CREATED:20250521T150942
SUMMARY:Sommer Krixi-Kraxi Kreativgruppe ab 2J
LOCATION:Eltern-Kind-Zentrum Kind&amp;Kegel\, Praterstraße 14/8\, 1020 Wien
DESCRIPTION:<p>Krixi Kraxi Kreativgruppe ab 2J</p><p>Malen und Experimentierenmit Wasse
 r, Kleben, Reißen und vieles mehr!</p><p>Bei schönwetter im Parklet/Grätzel
 oase vor dem Haus, bei Schlechtwetter im Kind&amp;Kegel</p><p>&nbsp;</p><p 
 class="MsoNormal" style="mso-pagination: none; mso-layout-grid-align: none;
  punctuation-wrap: simple; text-autospace: none; margin: 0cm 5.25pt .0001pt
  21.3pt;"><b><span style="font-size: 11.0pt;">Fr</span></b><span style="fon
 t-size: 11.0pt;">, 11.07., <strong>01.08.</strong>, 29.08.25 von 16.30-18.0
 0 </span></p><p>&nbsp;</p><p class="MsoNormal" style="mso-pagination: none;
  mso-layout-grid-align: none; punctuation-wrap: simple; text-autospace: non
 e; margin: 0cm 5.25pt .0001pt 21.3pt;"><b><span lang="DE" style="font-size:
  11.0pt; color: black; mso-font-kerning: 14.0pt; mso-ansi-language: DE;">Ko
 sten</span></b><span lang="DE" style="font-size: 11.0pt; font-family: 'Time
 s New Roman KuK',serif; color: black; mso-font-kerning: 14.0pt; mso-ansi-la
 nguage: DE;">:<span style="mso-spacerun: yes;">&nbsp; </span>3 Einheiten </
 span><span lang="DE" style="font-size: 11.0pt; color: black; mso-font-kerni
 ng: 14.0pt; mso-ansi-language: DE;">€ 45,-- 1 Einheit € 16,--</span><span l
 ang="DE" style="font-size: 11.0pt; font-family: 'Times New Roman KuK',serif
 ; color: black; mso-font-kerning: 14.0pt; mso-ansi-language: DE;"></span></
 p><p>&nbsp;</p><p>&nbsp;</p>
CONTACT:info@kind-und-kegel.at, 01 503 71 88, www.kind-und-kegel.at
X-EXTRAINFO:[preis='1600'][anmeldung='true']
DTSTAMP:20260426T033659
DTSTART:20250801T143000
DTEND:20250801T160000
SEQUENCE:0
TRANSP:OPAQUE
END:VEVENT
END:VCALENDAR