BEGIN:VCALENDAR
VERSION:2.0
PRODID:-//jEvents 2.0 for Joomla//EN
CALSCALE:GREGORIAN
METHOD:PUBLISH
BEGIN:VEVENT
UID:0173460f32252475a014cf299ef1a04d
CATEGORIES:2. Bezirk
CREATED:20250521T151009
SUMMARY:Sommer Krixi-Kraxi Kreativgruppe ab 2J
LOCATION:Eltern-Kind-Zentrum Kind&amp;Kegel\, Praterstraße 14/8\, 1020 Wien
DESCRIPTION:Krixi Kraxi Kreativgruppe ab 2J\nMalen und Experimentierenmit Wasser, Klebe
 n, Reißen und vieles mehr!\nBei schönwetter im Parklet/Grätzeloase vor dem 
 Haus, bei Schlechtwetter im Kind&amp;Kegel\n \nFr, 11.07., 01.08., 29.08.25
  von 16.30-18.00 \n \nKosten:  3 Einheiten € 45,-- 1 Einheit € 16,--\n \n \
 n
X-ALT-DESC;FMTTYPE=text/html:<p>Krixi Kraxi Kreativgruppe ab 2J</p><p>Malen und Experimentierenmit Wasse
 r, Kleben, Reißen und vieles mehr!</p><p>Bei schönwetter im Parklet/Grätzel
 oase vor dem Haus, bei Schlechtwetter im Kind&amp;Kegel</p><p>&nbsp;</p><p 
 class="MsoNormal" style="mso-pagination: none; mso-layout-grid-align: none;
  punctuation-wrap: simple; text-autospace: none; margin: 0cm 5.25pt .0001pt
  21.3pt;"><b><span style="font-size: 11.0pt;">Fr</span></b><span style="fon
 t-size: 11.0pt;">, 11.07., 01.08<strong>.</strong>, <strong>29.08.25</stron
 g> von 16.30-18.00 </span></p><p>&nbsp;</p><p class="MsoNormal" style="mso-
 pagination: none; mso-layout-grid-align: none; punctuation-wrap: simple; te
 xt-autospace: none; margin: 0cm 5.25pt .0001pt 21.3pt;"><b><span lang="DE" 
 style="font-size: 11.0pt; color: black; mso-font-kerning: 14.0pt; mso-ansi-
 language: DE;">Kosten</span></b><span lang="DE" style="font-size: 11.0pt; f
 ont-family: 'Times New Roman KuK',serif; color: black; mso-font-kerning: 14
 .0pt; mso-ansi-language: DE;">:<span style="mso-spacerun: yes;">&nbsp; </sp
 an>3 Einheiten </span><span lang="DE" style="font-size: 11.0pt; color: blac
 k; mso-font-kerning: 14.0pt; mso-ansi-language: DE;">€ 45,-- 1 Einheit € 16
 ,--</span><span lang="DE" style="font-size: 11.0pt; font-family: 'Times New
  Roman KuK',serif; color: black; mso-font-kerning: 14.0pt; mso-ansi-languag
 e: DE;"></span></p><p>&nbsp;</p><p>&nbsp;</p>
CONTACT:info@kind-und-kegel.at, 01 503 71 88, www.kind-und-kegel.at
X-EXTRAINFO:[preis='1600'][anmeldung='true']
DTSTAMP:20260426T005135
DTSTART:20250829T143000
DTEND:20250829T160000
SEQUENCE:0
TRANSP:OPAQUE
END:VEVENT
END:VCALENDAR