BEGIN:VCALENDAR
VERSION:2.0
PRODID:-//jEvents 2.0 for Joomla//EN
CALSCALE:GREGORIAN
METHOD:PUBLISH
BEGIN:VEVENT
UID:29d1eaf3a5398e01d412f0985e87617a
CATEGORIES:2. Bezirk
CREATED:20250521T151326
SUMMARY:Origamie-Workshop für Kinder ab 3J
LOCATION:Eltern-Kind-Zentrum Kind&amp;Kegel\, Praterstraße 14/8\, 1020 Wien
DESCRIPTION: \nOrigami-Workshop für Kinder ab 3 Jahre\n \nDrehen-Falten-Spielen! Wir pr
 obieren einfache Origamifiguren aus. Origami fördert Konzentration, Geduld 
 und Auge-Hand Koordination.\n \nDo, 14.08.25 von 16.00-17.30  Kosten: € 16,
 --\n \n \n
X-ALT-DESC;FMTTYPE=text/html:<p>&nbsp;</p><p class="MsoNormal" style="mso-pagination: none; mso-layout-g
 rid-align: none; punctuation-wrap: simple; text-autospace: none; margin: 0c
 m -32.5pt .0001pt 21.3pt;"><b><span style="text-decoration: underline;"><sp
 an style="color: black; mso-font-kerning: 14.0pt;">Origami-Workshop für Kin
 der ab 3 Jahre</span></span></b></p><p>&nbsp;</p><p class="MsoNormal" style
 ="mso-pagination: none; mso-layout-grid-align: none; punctuation-wrap: simp
 le; text-autospace: none; margin: 0cm -18.3pt .0001pt 21.3pt;"><span style=
 "font-size: 11.0pt; font-family: 'Times New Roman KuK',serif; color: black;
  mso-font-kerning: 14.0pt;">Drehen-Falten-Spielen! Wir probieren einfache O
 rigamifiguren aus. </span><span lang="DE" style="font-size: 11.0pt; font-fa
 mily: 'Times New Roman KuK',serif; color: black; mso-font-kerning: 14.0pt; 
 mso-ansi-language: DE;">Origami fördert Konzentration, Geduld und Auge-Hand
  Koordination.</span></p><p>&nbsp;</p><p class="MsoNormal" style="mso-pagin
 ation: none; mso-layout-grid-align: none; punctuation-wrap: simple; text-au
 tospace: none; margin: 0cm 5.25pt .0001pt 21.3pt;"><b><span lang="DE" style
 ="font-size: 11.0pt; font-family: 'Times New Roman KuK',serif; color: black
 ; mso-font-kerning: 14.0pt; mso-ansi-language: DE;">Do</span></b><span lang
 ="DE" style="font-size: 11.0pt; font-family: 'Times New Roman KuK',serif; c
 olor: black; mso-font-kerning: 14.0pt; mso-ansi-language: DE;">, 14.08.25 v
 on 16.00-17.30<span style="mso-spacerun: yes;">&nbsp; </span><b>Kosten</b>:
  € 16,--</span><span style="font-size: 11.0pt; font-family: 'Times New Roma
 n KuK',serif; color: black; mso-font-kerning: 14.0pt;"></span></p><p>&nbsp;
 </p><p>&nbsp;</p>
CONTACT:info@kind-und-kegel.at, 01 503 71 88, www.kind-und-kegel.at
X-EXTRAINFO:[preis='1600'][anmeldung='true']
DTSTAMP:20260426T005324
DTSTART:20250814T140000
DTEND:20250814T153000
SEQUENCE:0
TRANSP:OPAQUE
END:VEVENT
END:VCALENDAR