BEGIN:VCALENDAR
VERSION:2.0
PRODID:-//jEvents 2.0 for Joomla//EN
CALSCALE:GREGORIAN
METHOD:PUBLISH
BEGIN:VEVENT
UID:cfe282dba7c2193df56c09f0b18763a4
CATEGORIES:11. Bezirk
CREATED:20250527T110225
SUMMARY:Play Day in Kinder City
DESCRIPTION:Verbringen Sie einen angenehmen Nachmittag mit Ihren Kindern in unserem Spi
 elraum, wo die Kleinen groß werden.\nDer Eintrittspreis beträgt 10 € für ei
 n Kind und einen Erwachsenen.\nJedes weitere Kind/Erwachsener kostet 5 €. I
 m Preis sind Snacks und Kindergetränke für die Kinder erhalten. \nReservier
 ung erforderlich per SMS/WhatsApp \n06763284722\n
X-ALT-DESC;FMTTYPE=text/html:<p>Verbringen Sie einen angenehmen Nachmittag mit Ihren Kindern in unserem 
 Spielraum, wo die Kleinen groß werden.</p><p>Der Eintrittspreis beträgt 10 
 € für ein Kind und einen Erwachsenen.</p><p>Jedes weitere Kind/Erwachsener 
 kostet 5 €. Im Preis sind Snacks und Kindergetränke für die Kinder erhalten
 .&nbsp;</p><p>Reservierung erforderlich per SMS/WhatsApp&nbsp;</p><p>067632
 84722</p>
X-EXTRAINFO:[preis='1000'][anmeldung='true']
DTSTAMP:20260425T200937
DTSTART:20250528T130000
DTEND:20250528T160000
SEQUENCE:0
TRANSP:OPAQUE
END:VEVENT
END:VCALENDAR