BEGIN:VCALENDAR
VERSION:2.0
PRODID:-//jEvents 2.0 for Joomla//EN
CALSCALE:GREGORIAN
METHOD:PUBLISH
BEGIN:VEVENT
UID:142e870ed0b4ea910c0678c6b0d62019
CATEGORIES:18. Bezirk
CREATED:20250602T134454
SUMMARY:Mit allen Sinnen am Montag
LOCATION:Spielringel  Mollgasse  11-13
DESCRIPTION:Mit allen Sinnen am MontagSinneserlebnis für Kinder ab dem Krabbelalter bis
  3 Jahren Mit: Claudia (https://spielringel.at/angebote/das-team/mag-claudi
 a-weissmann-karacsonyi)\nKurstag: Montag 09:30-10:30\nTermine: 30.06./ 07.0
 7./ 18.08./25.08.\nKosten: €20,- pro Kind mit Begleitperson für einen Termi
 n\nDie Kinder können nach Herzenslust mit verschiedenen Materialien (wie zu
 m Beispiel Reis, Wasser, selbstgemachten Fingerfarben und Schleim) matschen
 , gatschen, schütten, spielen und experimentieren. Dabei werden ihre sensom
 otorischen Fähigkeiten und ihre Kreativität gefördert. Die Eltern haben die
  Möglichkeit, ihre Kinder in dieser Entdeckungsreise zu begleiten und zu un
 terstützen.\n
X-ALT-DESC;FMTTYPE=text/html:<header class="frame-header" style="box-sizing: border-box; color: #2b2b2b;
  font-family: Roboto; font-size: 16px;"><h2 class="element-header" style="b
 ox-sizing: border-box; margin-top: 0px; margin-bottom: 0.5rem; font-family:
  Montserrat; font-weight: 300; line-height: 1.2; font-size: 2.275rem;">Mit 
 allen Sinnen am Montag</h2><h4 style="box-sizing: border-box; margin-top: 0
 px; margin-bottom: 1rem; font-family: Montserrat; font-weight: 300; line-he
 ight: 1.2; font-size: 1.625rem;">Sinneserlebnis für Kinder ab dem Krabbelal
 ter bis 3 Jahren</h4></header><div class="frame-container" style="box-sizin
 g: border-box; position: relative; width: 815px; padding-right: 0px; paddin
 g-left: 0px; margin-right: auto; margin-left: auto; max-width: 1140px; marg
 in-bottom: 0px; color: #2b2b2b; font-family: Roboto; font-size: 16px;"><div
  class="frame-inner" style="box-sizing: border-box;"><div class="textpic te
 xtpic-right" style="box-sizing: border-box; display: flex; flex-wrap: wrap;
  margin-left: -20px; margin-right: -20px; margin-bottom: 0px;"><div class="
 textpic-item textpic-gallery" style="box-sizing: border-box; order: 2; widt
 h: 427.5px; padding-left: 20px; padding-right: 20px; margin-bottom: 0px;"><
 div class="gallery-row" style="box-sizing: border-box; display: flex; flex-
 wrap: wrap; margin-left: -0.5rem; margin-right: -0.5rem; margin-bottom: -1r
 em;"><div class="gallery-item gallery-item-size-1" style="box-sizing: borde
 r-box; padding-left: 0.5rem; padding-right: 0.5rem; width: 403.5px;">&nbsp;
 </div></div></div><div class="textpic-item textpic-text" style="box-sizing:
  border-box; order: 1; width: 427.5px; padding-left: 20px; padding-right: 2
 0px; margin-bottom: 0px;"><p style="box-sizing: border-box; margin-top: 0px
 ; margin-bottom: 1rem;"><span class="text-primary font-weight-bold" style="
 box-sizing: border-box; font-weight: 700 !important; color: #158795 !import
 ant;">Mit:&nbsp;</span><a href="https://spielringel.at/angebote/das-team/ma
 g-claudia-weissmann-karacsonyi" style="box-sizing: border-box; color: #1587
 95; text-decoration-line: none; background-color: transparent;">Claudia</a>
 </p><p style="box-sizing: border-box; margin-top: 0px; margin-bottom: 1rem;
 "><span class="text-primary font-weight-bold" style="box-sizing: border-box
 ; font-weight: 700 !important; color: #158795 !important;">Kurstag:&nbsp;</
 span>Montag 09:30-10:30</p><p style="box-sizing: border-box; margin-top: 0p
 x; margin-bottom: 1rem;"><span class="text-primary font-weight-bold" style=
 "box-sizing: border-box; font-weight: 700 !important; color: #158795 !impor
 tant;">Termine:&nbsp;</span>30.06./ 07.07./ 18.08./25.08.</p><p style="box-
 sizing: border-box; margin-top: 0px; margin-bottom: 1rem;"><span class="tex
 t-primary font-weight-bold" style="box-sizing: border-box; font-weight: 700
  !important; color: #158795 !important;">Kosten:&nbsp;</span>€20,- pro Kind
  mit Begleitperson für einen Termin</p><p style="box-sizing: border-box; ma
 rgin-top: 0px; margin-bottom: 1rem;">Die Kinder können nach Herzenslust mit
  verschiedenen Materialien (wie zum Beispiel Reis, Wasser, selbstgemachten 
 Fingerfarben und Schleim) matschen, gatschen, schütten, spielen und experim
 entieren. Dabei werden ihre sensomotorischen Fähigkeiten und ihre Kreativit
 ät gefördert. Die Eltern haben die Möglichkeit, ihre Kinder in dieser Entde
 ckungsreise zu begleiten und zu unterstützen.</p></div></div></div></div>
CONTACT:www.spielringel.at
X-EXTRAINFO:[preis='2000'][anmeldung='true']
DTSTAMP:20260425T233611
DTSTART:20250707T073000
DTEND:20250707T083000
SEQUENCE:0
TRANSP:OPAQUE
END:VEVENT
END:VCALENDAR