BEGIN:VCALENDAR
VERSION:2.0
PRODID:-//jEvents 2.0 for Joomla//EN
CALSCALE:GREGORIAN
METHOD:PUBLISH
BEGIN:VEVENT
UID:fd4396776b8e22b47f46e35d1ce73132
CATEGORIES:18. Bezirk
CREATED:20250602T134614
SUMMARY:Spielend durch den Sommer am Montag
LOCATION:Spielringel  Mollgasse  11-13
DESCRIPTION:Spielend durch den Sommer am Montagfür Kinder von 1-3 Jahren Mit: Claudia (
 https://spielringel.at/angebote/das-team/mag-claudia-weissmann-karacsonyi)\
 nKurstag: Montag 11:15-12:15\nTermine: 30.06./ 07.07./ 18.08./ 25.08.\nKost
 en: €20,- pro Kind mit Begleitperson für einen Termin\nWir spielen und bast
 eln passend zum Sommer!\nHier werden wir gemeinsam den Sommer mit allen Sin
 nen erleben. Es wird der Jahreszeit entsprechend gebastelt, gewerkt, entdec
 kt und gespielt. Natürlich bleibt auch genug Zeit und Raum für soziale Inte
 raktionen und Bewegungen.\n
X-ALT-DESC;FMTTYPE=text/html:<header class="frame-header" style="box-sizing: border-box; color: #2b2b2b;
  font-family: Roboto; font-size: 16px;"><h2 class="element-header" style="b
 ox-sizing: border-box; margin-top: 0px; margin-bottom: 0.5rem; font-family:
  Montserrat; font-weight: 300; line-height: 1.2; font-size: 2.275rem;">Spie
 lend durch den Sommer am Montag</h2><h4 style="box-sizing: border-box; marg
 in-top: 0px; margin-bottom: 1rem; font-family: Montserrat; font-weight: 300
 ; line-height: 1.2; font-size: 1.625rem;">für Kinder von 1-3 Jahren</h4></h
 eader><div class="frame-container" style="box-sizing: border-box; position:
  relative; width: 815px; padding-right: 0px; padding-left: 0px; margin-righ
 t: auto; margin-left: auto; max-width: 1140px; margin-bottom: 0px; color: #
 2b2b2b; font-family: Roboto; font-size: 16px;"><div class="frame-inner" sty
 le="box-sizing: border-box;"><div class="textpic textpic-right" style="box-
 sizing: border-box; display: flex; flex-wrap: wrap; margin-left: -20px; mar
 gin-right: -20px; margin-bottom: 0px;"><div class="textpic-item textpic-gal
 lery" style="box-sizing: border-box; order: 2; width: 427.5px; padding-left
 : 20px; padding-right: 20px; margin-bottom: 0px;"><div class="gallery-row" 
 style="box-sizing: border-box; display: flex; flex-wrap: wrap; margin-left:
  -0.5rem; margin-right: -0.5rem; margin-bottom: -1rem;"><div class="gallery
 -item gallery-item-size-1" style="box-sizing: border-box; padding-left: 0.5
 rem; padding-right: 0.5rem; width: 403.5px;">&nbsp;</div></div></div><div c
 lass="textpic-item textpic-text" style="box-sizing: border-box; order: 1; w
 idth: 427.5px; padding-left: 20px; padding-right: 20px; margin-bottom: 0px;
 "><p style="box-sizing: border-box; margin-top: 0px; margin-bottom: 1rem;">
 <span class="text-primary font-weight-bold" style="box-sizing: border-box; 
 font-weight: 700 !important; color: #158795 !important;">Mit:&nbsp;</span><
 a href="https://spielringel.at/angebote/das-team/mag-claudia-weissmann-kara
 csonyi" style="box-sizing: border-box; color: #158795; text-decoration-line
 : none; background-color: transparent;">Claudia</a></p><p style="box-sizing
 : border-box; margin-top: 0px; margin-bottom: 1rem;"><span class="text-prim
 ary font-weight-bold" style="box-sizing: border-box; font-weight: 700 !impo
 rtant; color: #158795 !important;">Kurstag:&nbsp;</span>Montag 11:15-12:15<
 /p><p style="box-sizing: border-box; margin-top: 0px; margin-bottom: 1rem;"
 ><span class="text-primary font-weight-bold" style="box-sizing: border-box;
  font-weight: 700 !important; color: #158795 !important;">Termine:&nbsp;</s
 pan>30.06./ 07.07./ 18.08./ 25.08.</p><p style="box-sizing: border-box; mar
 gin-top: 0px; margin-bottom: 1rem;"><span class="text-primary font-weight-b
 old" style="box-sizing: border-box; font-weight: 700 !important; color: #15
 8795 !important;">Kosten:&nbsp;</span>€20,- pro Kind mit Begleitperson für 
 einen Termin</p><p style="box-sizing: border-box; margin-top: 0px; margin-b
 ottom: 1rem;">Wir spielen und basteln passend zum Sommer!</p><p style="box-
 sizing: border-box; margin-top: 0px; margin-bottom: 1rem;">Hier werden wir 
 gemeinsam den Sommer mit allen Sinnen erleben. Es wird der Jahreszeit entsp
 rechend gebastelt, gewerkt, entdeckt und gespielt. Natürlich bleibt auch ge
 nug Zeit und Raum für soziale Interaktionen und Bewegungen.</p></div></div>
 </div></div>
CONTACT:www.spielringel.at
X-EXTRAINFO:[preis='2000'][anmeldung='true']
DTSTAMP:20260425T233455
DTSTART:20250630T091500
DTEND:20250630T101500
SEQUENCE:0
TRANSP:OPAQUE
END:VEVENT
END:VCALENDAR