BEGIN:VCALENDAR
VERSION:2.0
PRODID:-//jEvents 2.0 for Joomla//EN
CALSCALE:GREGORIAN
METHOD:PUBLISH
BEGIN:VEVENT
UID:dcf31c5ae3d9d4ae58b9cb58420c1c85
CATEGORIES:18. Bezirk
CREATED:20250602T134823
SUMMARY:Spiel & Spaß im Sommer
LOCATION:Spielringel  Mollgasse  11-13
DESCRIPTION:<header class="frame-header" style="box-sizing: border-box; color: #2b2b2b;
  font-family: Roboto; font-size: 16px;"><h2 class="element-header" style="b
 ox-sizing: border-box; margin-top: 0px; margin-bottom: 0.5rem; font-family:
  Montserrat; font-weight: 300; line-height: 1.2; font-size: 2.275rem;">Spie
 l &amp; Spaß im Sommer</h2><h4 style="box-sizing: border-box; margin-top: 0
 px; margin-bottom: 1rem; font-family: Montserrat; font-weight: 300; line-he
 ight: 1.2; font-size: 1.625rem;">für Babys und Kleinkinder 8 Monate - 2 Jah
 re</h4></header><div class="frame-container" style="box-sizing: border-box;
  position: relative; width: 815px; padding-right: 0px; padding-left: 0px; m
 argin-right: auto; margin-left: auto; max-width: 1140px; margin-bottom: 0px
 ; color: #2b2b2b; font-family: Roboto; font-size: 16px;"><div class="frame-
 inner" style="box-sizing: border-box;"><div class="textpic textpic-right" s
 tyle="box-sizing: border-box; display: flex; flex-wrap: wrap; margin-left: 
 -20px; margin-right: -20px; margin-bottom: 0px;"><div class="textpic-item t
 extpic-gallery" style="box-sizing: border-box; order: 2; width: 427.5px; pa
 dding-left: 20px; padding-right: 20px; margin-bottom: 0px;"><div class="gal
 lery-row" style="box-sizing: border-box; display: flex; flex-wrap: wrap; ma
 rgin-left: -0.5rem; margin-right: -0.5rem; margin-bottom: -1rem;"><div clas
 s="gallery-item gallery-item-size-1" style="box-sizing: border-box; padding
 -left: 0.5rem; padding-right: 0.5rem; width: 403.5px;">&nbsp;</div></div></
 div><div class="textpic-item textpic-text" style="box-sizing: border-box; o
 rder: 1; width: 427.5px; padding-left: 20px; padding-right: 20px; margin-bo
 ttom: 0px;"><p style="box-sizing: border-box; margin-top: 0px; margin-botto
 m: 1rem;"><span class="text-primary font-weight-bold" style="box-sizing: bo
 rder-box; font-weight: 700 !important; color: #158795 !important;">Mit:&nbs
 p;</span><a href="https://spielringel.at/angebote/das-team/mag-claudia-weis
 smann-karacsonyi" style="box-sizing: border-box; color: #158795; text-decor
 ation-line: none; background-color: transparent;">Claudia</a></p><p style="
 box-sizing: border-box; margin-top: 0px; margin-bottom: 1rem;"><span class=
 "text-primary font-weight-bold" style="box-sizing: border-box; font-weight:
  700 !important; color: #158795 !important;">Kurstag:&nbsp;</span>Dienstag 
 09:30-10:30</p><p style="box-sizing: border-box; margin-top: 0px; margin-bo
 ttom: 1rem;"><span class="text-primary font-weight-bold" style="box-sizing:
  border-box; font-weight: 700 !important; color: #158795 !important;">Termi
 ne:&nbsp;</span>01.07./ 08.07/ 12.08./ 19.08./ 26.08.</p><p style="box-sizi
 ng: border-box; margin-top: 0px; margin-bottom: 1rem;"><span class="text-pr
 imary font-weight-bold" style="box-sizing: border-box; font-weight: 700 !im
 portant; color: #158795 !important;">Kosten:&nbsp;</span>€20,- (für eine Ei
 nheit)</p><p style="box-sizing: border-box; margin-top: 0px; margin-bottom:
  1rem;">Im Sommer gibt es Einzeleinheiten von unserer Spiel &amp; Spaß Grup
 pe zu buchen.</p><p style="box-sizing: border-box; margin-top: 0px; margin-
 bottom: 1rem;">Das freie Spiel steht im Vordergrund. Nebenbei werden motori
 sche Fähigkeiten geschult, alle Sinne gefördert und erste soziale Kontakte 
 zu Gleichaltrigen gemacht.</p><p style="box-sizing: border-box; margin-top:
  0px; margin-bottom: 1rem;">Auch die "Großen" können Erfahrungen austausche
 n und neue Kontakte knüpfen.</p></div></div></div></div>
CONTACT:www.spielringel.at
X-EXTRAINFO:[preis='2000'][anmeldung='true']
DTSTAMP:20260425T233943
DTSTART:20250701T070300
DTEND:20250701T083000
SEQUENCE:0
TRANSP:OPAQUE
END:VEVENT
END:VCALENDAR