BEGIN:VCALENDAR
VERSION:2.0
PRODID:-//jEvents 2.0 for Joomla//EN
CALSCALE:GREGORIAN
METHOD:PUBLISH
BEGIN:VEVENT
UID:b36e6e68e1a26df60627bb433fa057e1
CATEGORIES:18. Bezirk
CREATED:20250602T134936
SUMMARY:Spiel mit Farben
LOCATION:Spielringel  Mollgasse  11-13
DESCRIPTION:<h2 class="element-header" style="box-sizing: border-box; margin-top: 0px; 
 margin-bottom: 0.5rem; font-family: Montserrat; font-weight: 300; line-heig
 ht: 1.2; font-size: 2.275rem; color: #2b2b2b;">Spiel mit Farben</h2><h4 sty
 le="box-sizing: border-box; margin-top: 0px; margin-bottom: 1rem; font-fami
 ly: Montserrat; font-weight: 300; line-height: 1.2; font-size: 1.625rem; co
 lor: #2b2b2b;">Sinnesspiel mit Farben für Kinder ab 1 bis 2,5 Jahren</h4><p
  style="box-sizing: border-box; margin-top: 0px; margin-bottom: 1rem; color
 : #2b2b2b; font-family: Roboto; font-size: 16px;"><span class="text-primary
  font-weight-bold" style="box-sizing: border-box; font-weight: 700 !importa
 nt; color: #158795 !important;">Mit:&nbsp;</span><a href="https://spielring
 el.at/angebote/das-team/mag-claudia-weissmann-karacsonyi" style="box-sizing
 : border-box; color: #158795; text-decoration-line: none; background-color:
  transparent;">Claudia</a></p><p style="box-sizing: border-box; margin-top:
  0px; margin-bottom: 1rem; color: #2b2b2b; font-family: Roboto; font-size: 
 16px;"><span class="text-primary font-weight-bold" style="box-sizing: borde
 r-box; font-weight: 700 !important; color: #158795 !important;">Kurstag:&nb
 sp;</span>Dienstag 11:00-12:00</p><p style="box-sizing: border-box; margin-
 top: 0px; margin-bottom: 1rem; color: #2b2b2b; font-family: Roboto; font-si
 ze: 16px;"><span class="text-primary font-weight-bold" style="box-sizing: b
 order-box; font-weight: 700 !important; color: #158795 !important;">Termine
 :&nbsp;</span>01.07./ 08.07/ 12.08./ 19.08./ 26.08.</p><p style="box-sizing
 : border-box; margin-top: 0px; margin-bottom: 1rem; color: #2b2b2b; font-fa
 mily: Roboto; font-size: 16px;"><span class="text-primary font-weight-bold"
  style="box-sizing: border-box; font-weight: 700 !important; color: #158795
  !important;">Kosten:&nbsp;</span>€20,- (eine Einheit)</p><p style="box-siz
 ing: border-box; margin-top: 0px; margin-bottom: 1rem; color: #2b2b2b; font
 -family: Roboto; font-size: 16px;">Im Sommer gibt es Kennenlerntermine von 
 unserer Farbenspielerei - Spiel mit Farben.</p><p style="box-sizing: border
 -box; margin-top: 0px; margin-bottom: 1rem; color: #2b2b2b; font-family: Ro
 boto; font-size: 16px;">Jedes mal dürfen sich die Kleinen auf eine andere A
 rt und Weise mit Farben austoben!</p><p style="box-sizing: border-box; marg
 in-top: 0px; margin-bottom: 1rem; color: #2b2b2b; font-family: Roboto; font
 -size: 16px;">Auf jeden Fall wird es jedesmal sehr bunt!</p><p style="box-s
 izing: border-box; margin-top: 0px; margin-bottom: 1rem; color: #2b2b2b; fo
 nt-family: Roboto; font-size: 16px;">Bitte Gewand, das auch schmutzig werde
 n darf, anziehen und Wechselgewand mitnehmen!</p>
CONTACT:www.spielringel.at
X-EXTRAINFO:[preis='2000'][anmeldung='true']
DTSTAMP:20260426T005725
DTSTART:20250701T090000
DTEND:20250701T100000
SEQUENCE:0
TRANSP:OPAQUE
END:VEVENT
END:VCALENDAR