BEGIN:VCALENDAR
VERSION:2.0
PRODID:-//jEvents 2.0 for Joomla//EN
CALSCALE:GREGORIAN
METHOD:PUBLISH
BEGIN:VEVENT
UID:86e7e6031ccf0c514192315039aa0a28
CATEGORIES:18. Bezirk
CREATED:20250611T102409
SUMMARY:MusikZwerge in Bewegung maxi 
LOCATION:Spielringel  Mollgasse  11-13
DESCRIPTION:<p><span style="box-sizing: border-box; font-weight: bolder; color: #2b2b2b
 ; font-family: Roboto; font-size: 16px;">MusikZwerge maxi – für Laufanfänge
 r:innen &nbsp;&amp; kleine Tänzer:innen&nbsp;</span><span style="color: #2b
 2b2b; font-family: Roboto; font-size: 16px;">(ca. 14–30 Monate) Sobald die 
 ersten Schritte sicher sind, wird die Welt noch spannender! In diesem Kurs 
 wird getanzt, gehüpft, geklatscht und gespielt. Mit altersgerechten Bewegun
 gsliedern, kleinen Tänzen und phantasievollen Spielen regen wir nicht nur d
 ie Motorik an, sondern auch Kreativität, Sprache und soziales Miteinander.<
 /span></p>
CONTACT:www.spielringel.at
X-EXTRAINFO:[preis='2000'][anmeldung='true']
DTSTAMP:20260426T033646
DTSTART:20250811T083000
DTEND:20250811T091500
SEQUENCE:0
TRANSP:OPAQUE
END:VEVENT
END:VCALENDAR