BEGIN:VCALENDAR
VERSION:2.0
PRODID:-//jEvents 2.0 for Joomla//EN
CALSCALE:GREGORIAN
METHOD:PUBLISH
BEGIN:VEVENT
UID:a4d9186a4205434f95ed14880eece103
CATEGORIES:18. Bezirk
CREATED:20250611T102701
SUMMARY:Mit allen Sinnen am Mittwoch (inklusive Fotos)
LOCATION:Spielringel  Mollgasse  11-13
DESCRIPTION:Dieses Sinnneserlebnis im Sommer ist für Kinder ab dem Krabbelalter bis zu 
 3 Jahren geeignet!\nAn diesem Termin von „Mit allen Sinnen“ werden wir nich
 t nur gemeinsam (mit Reis) spielen und die Sinne entdecken, sondern auch sc
 höne Erinnerungen festhalten.\nUnsere Fotografin Sandra wird uns begleiten 
 und die besonderen Momente festhalten. Die entstandenen Fotos werden von un
 s für Werbezwecke und Ähnliches verwendet, wobei die Gesichter der Kinder n
 icht von vorne gezeigt werden, so dass niemand erkannt werden kann. So könn
 en wir die Atmosphäre und den Spaß der Gruppe zeigen, ohne die Privatsphäre
  von euch und euren Kleinen zu gefährden.\nZusätzlich erhält jede Familie d
 rei individuelle Fotos von ihrem Kind (hochauflösend in digitaler Form zum 
 Ausdrucken), auf denen es gut zu erkennen ist! \n
X-ALT-DESC;FMTTYPE=text/html:<p style="box-sizing: border-box; margin-top: 0px; margin-bottom: 1rem; col
 or: #2b2b2b; font-family: Roboto; font-size: 16px;">Dieses Sinnneserlebnis 
 im Sommer ist für Kinder ab dem Krabbelalter bis zu 3 Jahren geeignet!</p><
 p style="box-sizing: border-box; margin-top: 0px; margin-bottom: 1rem; colo
 r: #2b2b2b; font-family: Roboto; font-size: 16px;">An diesem Termin von „Mi
 t allen Sinnen“ werden wir nicht nur gemeinsam (mit Reis) spielen und die S
 inne entdecken, sondern auch schöne Erinnerungen festhalten.</p><p style="b
 ox-sizing: border-box; margin-top: 0px; margin-bottom: 1rem; color: #2b2b2b
 ; font-family: Roboto; font-size: 16px;"><span style="box-sizing: border-bo
 x; font-weight: bolder;">Unsere Fotografin&nbsp;Sandra wird uns begleiten</
 span>&nbsp;und die besonderen Momente festhalten. Die entstandenen Fotos we
 rden von uns für Werbezwecke und Ähnliches verwendet, wobei die Gesichter d
 er Kinder nicht von vorne gezeigt werden, so dass niemand erkannt werden ka
 nn. So können wir die Atmosphäre und den Spaß der Gruppe zeigen, ohne die P
 rivatsphäre von euch und euren Kleinen zu gefährden.</p><p style="box-sizin
 g: border-box; margin-top: 0px; margin-bottom: 1rem; color: #2b2b2b; font-f
 amily: Roboto; font-size: 16px;"><span style="box-sizing: border-box; font-
 weight: bolder;">Zusätzlich erhält jede Familie drei individuelle Fotos von
  ihrem Kind (hochauflösend in digitaler Form zum Ausdrucken), auf denen es 
 gut zu erkennen ist!&nbsp;</span></p>
CONTACT:www.spielringel.at
X-EXTRAINFO:[preis='3000'][anmeldung='true']
DTSTAMP:20260425T233356
DTSTART:20250702T073000
DTEND:20250702T083000
SEQUENCE:0
TRANSP:OPAQUE
END:VEVENT
END:VCALENDAR