BEGIN:VCALENDAR
VERSION:2.0
PRODID:-//jEvents 2.0 for Joomla//EN
CALSCALE:GREGORIAN
METHOD:PUBLISH
BEGIN:VEVENT
UID:aac54fc0af8cb54c90582edf48992010
CATEGORIES:18. Bezirk
CREATED:19700101T010000
SUMMARY:Kunterbunter Bewegungsspaß für große Kleine
LOCATION:Spielringel  Mollgasse  11-13
DESCRIPTION:Kunterbunter Bewegungsspaß für große Kleinefür Kinder 2-4 JahreEs wird eine
  bunte Bewegungslandschaft aufgebaut, die von den Kleinen gemeinsam mit der
  Begleitperson erkundet werden darf.\nKlettern, Balancieren, Hüpfen, Spring
 en usw. macht allen Spaß!\n
X-ALT-DESC;FMTTYPE=text/html:<h2 class="element-header" style="box-sizing: border-box; margin-top: 0px; 
 margin-bottom: 0.5rem; font-family: Montserrat; font-weight: 300; line-heig
 ht: 1.2; font-size: 2.275rem; color: #2b2b2b;">Kunterbunter Bewegungsspaß f
 ür große Kleine</h2><h4 style="box-sizing: border-box; margin-top: 0px; mar
 gin-bottom: 1rem; font-family: Montserrat; font-weight: 300; line-height: 1
 .2; font-size: 1.625rem; color: #2b2b2b;">für Kinder 2-4 Jahre</h4><p style
 ="box-sizing: border-box; margin-top: 0px; margin-bottom: 1rem; color: #2b2
 b2b; font-family: Roboto; font-size: 16px;">Es wird eine bunte Bewegungslan
 dschaft aufgebaut, die von den Kleinen gemeinsam mit der Begleitperson erku
 ndet werden darf.</p><p style="box-sizing: border-box; margin-top: 0px; mar
 gin-bottom: 1rem; color: #2b2b2b; font-family: Roboto; font-size: 16px;">Kl
 ettern, Balancieren, Hüpfen, Springen usw. macht allen Spaß!</p>
CONTACT:www.spielringel.at
X-EXTRAINFO:[preis='2000'][anmeldung='true']
DTSTAMP:20260425T233406
DTSTART:20250703T090000
DTEND:20250703T100000
SEQUENCE:0
RRULE:FREQ=WEEKLY;UNTIL=20250712T000000Z;INTERVAL=1;BYDAY=TH
TRANSP:OPAQUE
END:VEVENT
END:VCALENDAR