BEGIN:VCALENDAR
VERSION:2.0
PRODID:-//jEvents 2.0 for Joomla//EN
CALSCALE:GREGORIAN
METHOD:PUBLISH
BEGIN:VEVENT
UID:d9ed6f32b2a4de11540f0b3dd36cdad2
CATEGORIES:6. Bezirk
CREATED:20250615T150633
SUMMARY:Minimampf - Musikworkshop | Bananenbeats für Babys von 6-18 Monaten plus Mama/Papa
LOCATION:KinderMusikGruppe | Mariahilfer Straße 115 | im Innenhof rechts
DESCRIPTION:<p style="font-size: 16px; box-sizing: border-box; margin: 0px 0px 24px; pa
 dding: 0px; border: 0px; outline: 0px; font-family: Lato, Helvetica, sans-s
 erif; vertical-align: baseline; caret-color: #404040; color: #404040;">In d
 iesem Musik-Workshop dreht sich alles um das Thema Essen! Mit Liedern, Rhyt
 hmen und kleinen Bewegungsspielen rund um Bananen, Äpfel und Co. entdecken 
 Babys gemeinsam mit ihren Mamas oder Papas die Welt der Klänge und Küchenge
 räte. Wir singen, schaukeln, klatschen und tanzen – immer abgestimmt auf di
 e Bedürfnisse der Kleinsten. Lustige Reime, Instrumente, die auch die Kinde
 r schon spielen können und lustige Essenslieder sorgen für eine entspannte,
  freudige Atmosphäre voller Musik, Bewegung und erste Klangabenteuer.</p><p
  style="font-size: 16px; box-sizing: border-box; margin: 0px 0px 24px; padd
 ing: 0px; border: 0px; outline: 0px; font-family: Lato, Helvetica, sans-ser
 if; vertical-align: baseline; caret-color: #404040; color: #404040;">Für Ki
 nder von 6 – 18 Monaten mit einer erwachsenen Bezugsperson.<br /><br />für 
 mehr Info &amp; zur Anmeldung: www.kindermusikgruppe.at</p>
CONTACT:office@kindermusikgruppe.at
X-EXTRAINFO:[preis='3500'][anmeldung='true']
DTSTAMP:20260426T005631
DTSTART:20250812T080000
DTEND:20250812T090000
SEQUENCE:0
TRANSP:OPAQUE
END:VEVENT
END:VCALENDAR