BEGIN:VCALENDAR
VERSION:2.0
PRODID:-//jEvents 2.0 for Joomla//EN
CALSCALE:GREGORIAN
METHOD:PUBLISH
BEGIN:VEVENT
UID:d833c9e5cbeece5e1cd3731ded267cdc
CATEGORIES:6. Bezirk
CREATED:20250615T150820
SUMMARY:Musikworkshop "Kuckuck! Wo bist du?" für Babys von 6 - 18 Monaten plus Mama/Papa
LOCATION:KinderMusikGruppe | Mariahilfer Straße 115 | im Innenhof rechts
DESCRIPTION:Musik und Spiel für Babys und Eltern\nGemeinsam tauchen wir ein in die Welt
  der Klänge, Lieder und kleinen Versteckspiele. In einer Atmosphäre voller 
 Musik, Bewegung und Geborgenheit erleben wir erste musikalische Momente – g
 anz spielerisch und ohne Leistungsdruck.\nWir singen, wiegen, lauschen und 
 musizieren – die Erwachsenen für die Kleinen, die Kleinen mittendrin. Und n
 atürlich darf auch einmal ein Schlägel oder ein Rassel-Instrument neugierig
  mit dem Mund erkundet werden … ganz so, wie es für Babys und Kleinkinder e
 ben richtig ist.\nFür Kinder von 6 – 18 Monaten mit einer erwachsenen Bezug
 sperson.\n\nfür mehr Info / zur Anmeldung: www.kindermusikgruppe.at\n
X-ALT-DESC;FMTTYPE=text/html:<p style="font-size: 16px; box-sizing: border-box; margin: 0px 0px 24px; pa
 dding: 0px; border: 0px; outline: 0px; font-family: Lato, Helvetica, sans-s
 erif; vertical-align: baseline; caret-color: #404040; color: #404040;">Musi
 k und Spiel für Babys und Eltern</p><p style="font-size: 16px; box-sizing: 
 border-box; margin: 0px 0px 24px; padding: 0px; border: 0px; outline: 0px; 
 font-family: Lato, Helvetica, sans-serif; vertical-align: baseline; caret-c
 olor: #404040; color: #404040;" data-start="241" data-end="468">Gemeinsam t
 auchen wir ein in die Welt der Klänge, Lieder und kleinen Versteckspiele. I
 n einer Atmosphäre voller Musik, Bewegung und Geborgenheit erleben wir erst
 e musikalische Momente – ganz spielerisch und ohne Leistungsdruck.</p><p st
 yle="font-size: 16px; box-sizing: border-box; margin: 0px 0px 24px; padding
 : 0px; border: 0px; outline: 0px; font-family: Lato, Helvetica, sans-serif;
  vertical-align: baseline; caret-color: #404040; color: #404040;" data-star
 t="470" data-end="728">Wir singen, wiegen, lauschen und musizieren – die Er
 wachsenen für die Kleinen, die Kleinen mittendrin. Und natürlich darf auch 
 einmal ein Schlägel oder ein Rassel-Instrument neugierig mit dem Mund erkun
 det werden … ganz so, wie es für Babys und Kleinkinder eben richtig ist.</p
 ><p style="font-size: 16px; box-sizing: border-box; margin: 0px 0px 24px; p
 adding: 0px; border: 0px; outline: 0px; font-family: Lato, Helvetica, sans-
 serif; vertical-align: baseline; caret-color: #404040; color: #404040;">Für
  Kinder von 6 – 18 Monaten mit einer erwachsenen Bezugsperson.<br /><br />f
 ür mehr Info / zur Anmeldung: www.kindermusikgruppe.at</p>
CONTACT:office@kindermusikgruppe.at
X-EXTRAINFO:[preis='3500'][anmeldung='true']
DTSTAMP:20260426T005300
DTSTART:20250813T080000
DTEND:20250813T090000
SEQUENCE:0
TRANSP:OPAQUE
END:VEVENT
END:VCALENDAR