BEGIN:VCALENDAR
VERSION:2.0
PRODID:-//jEvents 2.0 for Joomla//EN
CALSCALE:GREGORIAN
METHOD:PUBLISH
BEGIN:VEVENT
UID:2d6afd235bb826cc21bd7486b1f1adcb
CATEGORIES:18. Bezirk
CREATED:20250618T101959
SUMMARY:Kreative Freude im Sommer
LOCATION:Spielringel  Mollgasse  11-13
DESCRIPTION:Bastelworkshops für Kinder ab 2 Jahren (mit Begleitung)Mit: Claudia (https:
 //spielringel.at/angebote/das-team/mag-claudia-weissmann-karacsonyi)\nKurst
 ag: Freitag 15:00-16:30\nTermine: 04.07./ 11.07./ 22.08.\nKosten: €28,- pro
  Kind mit Begleitperson für einen Termin\nBei der Kreativen Freude geht es 
 weniger um das Endprodukt, als um den Spaß und die Freude beim Kreativ sein
 .\nNächste Termine und Themen:\n04.07. Fische &amp; Meerestiere\n11.07. Som
 merspaß\n22.08. Raupen &amp; Schmetterlinge\n
X-ALT-DESC;FMTTYPE=text/html:<h4 style="box-sizing: border-box; margin-top: 0px; margin-bottom: 1rem; fo
 nt-family: Montserrat; font-weight: 300; line-height: 1.2; font-size: 1.625
 rem; color: #2b2b2b;">Bastelworkshops für Kinder ab 2 Jahren (mit Begleitun
 g)</h4><p style="box-sizing: border-box; margin-top: 0px; margin-bottom: 1r
 em; color: #2b2b2b; font-family: Roboto; font-size: 16px;"><span class="tex
 t-primary font-weight-bold" style="box-sizing: border-box; font-weight: 700
  !important; color: #158795 !important;">Mit:&nbsp;</span><a href="https://
 spielringel.at/angebote/das-team/mag-claudia-weissmann-karacsonyi" style="b
 ox-sizing: border-box; color: #158795; text-decoration-line: none; backgrou
 nd-color: transparent;">Claudia</a></p><p style="box-sizing: border-box; ma
 rgin-top: 0px; margin-bottom: 1rem; color: #2b2b2b; font-family: Roboto; fo
 nt-size: 16px;"><span class="text-primary font-weight-bold" style="box-sizi
 ng: border-box; font-weight: 700 !important; color: #158795 !important;">Ku
 rstag:&nbsp;</span>Freitag 15:00-16:30</p><p style="box-sizing: border-box;
  margin-top: 0px; margin-bottom: 1rem; color: #2b2b2b; font-family: Roboto;
  font-size: 16px;"><span class="text-primary font-weight-bold" style="box-s
 izing: border-box; font-weight: 700 !important; color: #158795 !important;"
 >Termine:&nbsp;</span>04.07./ 11.07./ 22.08.</p><p style="box-sizing: borde
 r-box; margin-top: 0px; margin-bottom: 1rem; color: #2b2b2b; font-family: R
 oboto; font-size: 16px;"><span class="text-primary font-weight-bold" style=
 "box-sizing: border-box; font-weight: 700 !important; color: #158795 !impor
 tant;">Kosten:&nbsp;</span>€28,- pro Kind mit Begleitperson für einen Termi
 n</p><p style="box-sizing: border-box; margin-top: 0px; margin-bottom: 1rem
 ; color: #2b2b2b; font-family: Roboto; font-size: 16px;">Bei der Kreativen 
 Freude geht es weniger um das Endprodukt, als um den Spaß und die Freude be
 im Kreativ sein.</p><p style="box-sizing: border-box; margin-top: 0px; marg
 in-bottom: 1rem; color: #2b2b2b; font-family: Roboto; font-size: 16px;"><sp
 an style="box-sizing: border-box; font-weight: bolder;">Nächste Termine und
  Themen:</span></p><p style="box-sizing: border-box; margin-top: 0px; margi
 n-bottom: 1rem; color: #2b2b2b; font-family: Roboto; font-size: 16px;"><spa
 n style="box-sizing: border-box; font-weight: bolder;">04.07. Fische &amp; 
 Meerestiere</span></p><p style="box-sizing: border-box; margin-top: 0px; ma
 rgin-bottom: 1rem; color: #2b2b2b; font-family: Roboto; font-size: 16px;"><
 span style="box-sizing: border-box; font-weight: bolder;">11.07. Sommerspaß
 </span></p><p style="box-sizing: border-box; margin-top: 0px; margin-bottom
 : 1rem; color: #2b2b2b; font-family: Roboto; font-size: 16px;"><span style=
 "box-sizing: border-box; font-weight: bolder;">22.08. Raupen &amp; Schmette
 rlinge</span></p>
CONTACT:www.spielringel.at
X-EXTRAINFO:[preis='2800'][anmeldung='true']
DTSTAMP:20260425T233341
DTSTART:20250704T130000
DTEND:20250704T143000
SEQUENCE:0
TRANSP:OPAQUE
END:VEVENT
END:VCALENDAR