BEGIN:VCALENDAR
VERSION:2.0
PRODID:-//jEvents 2.0 for Joomla//EN
CALSCALE:GREGORIAN
METHOD:PUBLISH
BEGIN:VEVENT
UID:ecdc7b275232d2e7a5bfa3f08bb5e4da
CATEGORIES:18. Bezirk
CREATED:20250618T102227
SUMMARY:Spiel & Spaß im Sommer
LOCATION:Mollgasse 11-13\, 1180 Wien
DESCRIPTION:für Babys und Kleinkinder 8 Monate - 2 JahreMit: Claudia (https://spielring
 el.at/angebote/das-team/mag-claudia-weissmann-karacsonyi)\nKurstag: Diensta
 g 09:30-10:30\nTermine: 01.07./ 08.07/ 12.08./ 19.08./ 26.08.\nKosten: €20,
 - (für eine Einheit)\nIm Sommer gibt es Einzeleinheiten von unserer Spiel &
 amp; Spaß Gruppe zu buchen.\nDas freie Spiel steht im Vordergrund. Nebenbei
  werden motorische Fähigkeiten geschult, alle Sinne gefördert und erste soz
 iale Kontakte zu Gleichaltrigen gemacht.\nAuch die "Großen" können Erfahrun
 gen austauschen und neue Kontakte knüpfen.\n
X-ALT-DESC;FMTTYPE=text/html:<h4 style="box-sizing: border-box; margin-top: 0px; margin-bottom: 1rem; fo
 nt-family: Montserrat; font-weight: 300; line-height: 1.2; font-size: 1.625
 rem; color: #2b2b2b;">für Babys und Kleinkinder 8 Monate - 2 Jahre</h4><p s
 tyle="box-sizing: border-box; margin-top: 0px; margin-bottom: 1rem; color: 
 #2b2b2b; font-family: Roboto; font-size: 16px;"><span class="text-primary f
 ont-weight-bold" style="box-sizing: border-box; font-weight: 700 !important
 ; color: #158795 !important;">Mit:&nbsp;</span><a href="https://spielringel
 .at/angebote/das-team/mag-claudia-weissmann-karacsonyi" style="box-sizing: 
 border-box; color: #158795; text-decoration-line: none; background-color: t
 ransparent;">Claudia</a></p><p style="box-sizing: border-box; margin-top: 0
 px; margin-bottom: 1rem; color: #2b2b2b; font-family: Roboto; font-size: 16
 px;"><span class="text-primary font-weight-bold" style="box-sizing: border-
 box; font-weight: 700 !important; color: #158795 !important;">Kurstag:&nbsp
 ;</span>Dienstag 09:30-10:30</p><p style="box-sizing: border-box; margin-to
 p: 0px; margin-bottom: 1rem; color: #2b2b2b; font-family: Roboto; font-size
 : 16px;"><span class="text-primary font-weight-bold" style="box-sizing: bor
 der-box; font-weight: 700 !important; color: #158795 !important;">Termine:&
 nbsp;</span>01.07./ 08.07/ 12.08./ 19.08./ 26.08.</p><p style="box-sizing: 
 border-box; margin-top: 0px; margin-bottom: 1rem; color: #2b2b2b; font-fami
 ly: Roboto; font-size: 16px;"><span class="text-primary font-weight-bold" s
 tyle="box-sizing: border-box; font-weight: 700 !important; color: #158795 !
 important;">Kosten:&nbsp;</span>€20,- (für eine Einheit)</p><p style="box-s
 izing: border-box; margin-top: 0px; margin-bottom: 1rem; color: #2b2b2b; fo
 nt-family: Roboto; font-size: 16px;">Im Sommer gibt es Einzeleinheiten von 
 unserer Spiel &amp; Spaß Gruppe zu buchen.</p><p style="box-sizing: border-
 box; margin-top: 0px; margin-bottom: 1rem; color: #2b2b2b; font-family: Rob
 oto; font-size: 16px;">Das freie Spiel steht im Vordergrund. Nebenbei werde
 n motorische Fähigkeiten geschult, alle Sinne gefördert und erste soziale K
 ontakte zu Gleichaltrigen gemacht.</p><p style="box-sizing: border-box; mar
 gin-top: 0px; margin-bottom: 1rem; color: #2b2b2b; font-family: Roboto; fon
 t-size: 16px;">Auch die "Großen" können Erfahrungen austauschen und neue Ko
 ntakte knüpfen.</p>
CONTACT:www.spielringel.at
X-EXTRAINFO:[preis='2000'][anmeldung='true']
DTSTAMP:20260425T233407
DTSTART:20250708T073000
DTEND:20250708T083000
SEQUENCE:0
TRANSP:OPAQUE
END:VEVENT
END:VCALENDAR