BEGIN:VCALENDAR
VERSION:2.0
PRODID:-//jEvents 2.0 for Joomla//EN
CALSCALE:GREGORIAN
METHOD:PUBLISH
BEGIN:VEVENT
UID:25bdbe9652d81e6dd8008462fbccd4a0
CATEGORIES:18. Bezirk
CREATED:20250618T102348
SUMMARY:Spiel mit Farben
LOCATION:Spielringel  Mollgasse  11-13
DESCRIPTION:Sinnesspiel mit Farben für Kinder ab 1 bis 2,5 Jahren Mit: Claudia (https:/
 /spielringel.at/angebote/das-team/mag-claudia-weissmann-karacsonyi)\nKursta
 g: Dienstag 11:00-12:00\nTermine: 01.07./ 08.07/ 12.08./ 19.08./ 26.08.\nKo
 sten: €20,- (eine Einheit)\nIm Sommer gibt es Kennenlerntermine von unserer
  Farbenspielerei - Spiel mit Farben.\nJedes mal dürfen sich die Kleinen auf
  eine andere Art und Weise mit Farben austoben!\nAuf jeden Fall wird es jed
 esmal sehr bunt!\nBitte Gewand, das auch schmutzig werden darf, anziehen un
 d Wechselgewand mitnehmen!\n
X-ALT-DESC;FMTTYPE=text/html:<h4 style="box-sizing: border-box; margin-top: 0px; margin-bottom: 1rem; fo
 nt-family: Montserrat; font-weight: 300; line-height: 1.2; font-size: 1.625
 rem; color: #2b2b2b;">Sinnesspiel mit Farben für Kinder ab 1 bis 2,5 Jahren
 &nbsp;</h4><p style="box-sizing: border-box; margin-top: 0px; margin-bottom
 : 1rem; color: #2b2b2b; font-family: Roboto; font-size: 16px;"><span class=
 "text-primary font-weight-bold" style="box-sizing: border-box; font-weight:
  700 !important; color: #158795 !important;">Mit:&nbsp;</span><a href="http
 s://spielringel.at/angebote/das-team/mag-claudia-weissmann-karacsonyi" styl
 e="box-sizing: border-box; color: #158795; text-decoration-line: none; back
 ground-color: transparent;">Claudia</a></p><p style="box-sizing: border-box
 ; margin-top: 0px; margin-bottom: 1rem; color: #2b2b2b; font-family: Roboto
 ; font-size: 16px;"><span class="text-primary font-weight-bold" style="box-
 sizing: border-box; font-weight: 700 !important; color: #158795 !important;
 ">Kurstag:&nbsp;</span>Dienstag 11:00-12:00</p><p style="box-sizing: border
 -box; margin-top: 0px; margin-bottom: 1rem; color: #2b2b2b; font-family: Ro
 boto; font-size: 16px;"><span class="text-primary font-weight-bold" style="
 box-sizing: border-box; font-weight: 700 !important; color: #158795 !import
 ant;">Termine:&nbsp;</span>01.07./ 08.07/ 12.08./ 19.08./ 26.08.</p><p styl
 e="box-sizing: border-box; margin-top: 0px; margin-bottom: 1rem; color: #2b
 2b2b; font-family: Roboto; font-size: 16px;"><span class="text-primary font
 -weight-bold" style="box-sizing: border-box; font-weight: 700 !important; c
 olor: #158795 !important;">Kosten:&nbsp;</span>€20,- (eine Einheit)</p><p s
 tyle="box-sizing: border-box; margin-top: 0px; margin-bottom: 1rem; color: 
 #2b2b2b; font-family: Roboto; font-size: 16px;">Im Sommer gibt es Kennenler
 ntermine von unserer Farbenspielerei - Spiel mit Farben.</p><p style="box-s
 izing: border-box; margin-top: 0px; margin-bottom: 1rem; color: #2b2b2b; fo
 nt-family: Roboto; font-size: 16px;">Jedes mal dürfen sich die Kleinen auf 
 eine andere Art und Weise mit Farben austoben!</p><p style="box-sizing: bor
 der-box; margin-top: 0px; margin-bottom: 1rem; color: #2b2b2b; font-family:
  Roboto; font-size: 16px;">Auf jeden Fall wird es jedesmal sehr bunt!</p><p
  style="box-sizing: border-box; margin-top: 0px; margin-bottom: 1rem; color
 : #2b2b2b; font-family: Roboto; font-size: 16px;">Bitte Gewand, das auch sc
 hmutzig werden darf, anziehen und Wechselgewand mitnehmen!</p>
CONTACT:www.spielringel.at
X-EXTRAINFO:[preis='2000'][anmeldung='true']
DTSTAMP:20260426T005326
DTSTART:20250708T090000
DTEND:20250708T100000
SEQUENCE:0
TRANSP:OPAQUE
END:VEVENT
END:VCALENDAR