BEGIN:VCALENDAR
VERSION:2.0
PRODID:-//jEvents 2.0 for Joomla//EN
CALSCALE:GREGORIAN
METHOD:PUBLISH
BEGIN:VEVENT
UID:0045f49eea3a428e81df1534be475b89
CATEGORIES:18. Bezirk
CREATED:20250618T102500
SUMMARY:Kreative Freude im Sommer
LOCATION:Spielringel  Mollgasse  11-13
DESCRIPTION: Bastelworkshops für Kinder ab 2 Jahren (mit Begleitung)Kurstag: Freitag 15
 :00-16:30\nTermine: 04.07./ 11.07./ 22.08.\nKosten: €28,- pro Kind mit Begl
 eitperson für einen Termin\nBei der Kreativen Freude geht es weniger um das
  Endprodukt, als um den Spaß und die Freude beim Kreativ sein.\nNächste Ter
 mine und Themen:\n04.07. Fische &amp; Meerestiere\n11.07. Sommerspaß\n22.08
 . Raupen &amp; Schmetterlinge\n
X-ALT-DESC;FMTTYPE=text/html:<div class="frame-container" style="box-sizing: border-box; position: relat
 ive; width: 815px; padding-right: 0px; padding-left: 0px; margin-right: aut
 o; margin-left: auto; max-width: 1140px; margin-bottom: 0px; color: #2b2b2b
 ; font-family: Roboto; font-size: 16px; font-style: normal; font-variant-li
 gatures: normal; font-variant-caps: normal; font-weight: 400; letter-spacin
 g: normal; orphans: 2; text-align: left; text-indent: 0px; text-transform: 
 none; widows: 2; word-spacing: 0px; -webkit-text-stroke-width: 0px; white-s
 pace: normal; background-color: #ffffff; text-decoration-thickness: initial
 ; text-decoration-style: initial; text-decoration-color: initial;"><div cla
 ss="frame-inner" style="box-sizing: border-box;"><div class="textpic textpi
 c-right" style="box-sizing: border-box; display: flex; flex-wrap: wrap; mar
 gin-left: -20px; margin-right: -20px; margin-bottom: 0px;"><div class="text
 pic-item textpic-gallery" style="box-sizing: border-box; order: 2; width: 4
 27.5px; padding-left: 20px; padding-right: 20px; margin-bottom: 0px;"><div 
 class="gallery-row" style="box-sizing: border-box; display: flex; flex-wrap
 : wrap; margin-left: -0.5rem; margin-right: -0.5rem; margin-bottom: -1rem;"
 >&nbsp;</div></div></div></div></div><header class="frame-header" style="bo
 x-sizing: border-box; display: block; color: #2b2b2b; font-family: Roboto; 
 font-size: 16px; font-style: normal; font-variant-ligatures: normal; font-v
 ariant-caps: normal; font-weight: 400; letter-spacing: normal; orphans: 2; 
 text-align: left; text-indent: 0px; text-transform: none; widows: 2; word-s
 pacing: 0px; -webkit-text-stroke-width: 0px; white-space: normal; backgroun
 d-color: #ffffff; text-decoration-thickness: initial; text-decoration-style
 : initial; text-decoration-color: initial;"><h4 style="box-sizing: border-b
 ox; margin-top: 0px; margin-bottom: 1rem; font-family: Montserrat; font-wei
 ght: 300; line-height: 1.2; font-size: 1.625rem;">Bastelworkshops für Kinde
 r ab 2 Jahren (mit Begleitung)</h4><p style="box-sizing: border-box; margin
 -top: 0px; margin-bottom: 1rem;"><span class="text-primary font-weight-bold
 " style="box-sizing: border-box; font-weight: 700 !important; color: #15879
 5 !important;">Kurstag:&nbsp;</span>Freitag 15:00-16:30</p><p style="box-si
 zing: border-box; margin-top: 0px; margin-bottom: 1rem;"><span class="text-
 primary font-weight-bold" style="box-sizing: border-box; font-weight: 700 !
 important; color: #158795 !important;">Termine:&nbsp;</span>04.07./ 11.07./
  22.08.</p><p style="box-sizing: border-box; margin-top: 0px; margin-bottom
 : 1rem;"><span class="text-primary font-weight-bold" style="box-sizing: bor
 der-box; font-weight: 700 !important; color: #158795 !important;">Kosten:&n
 bsp;</span>€28,- pro Kind mit Begleitperson für einen Termin</p><p style="b
 ox-sizing: border-box; margin-top: 0px; margin-bottom: 1rem;">Bei der Kreat
 iven Freude geht es weniger um das Endprodukt, als um den Spaß und die Freu
 de beim Kreativ sein.</p><p style="box-sizing: border-box; margin-top: 0px;
  margin-bottom: 1rem;"><span style="box-sizing: border-box; font-weight: bo
 lder;">Nächste Termine und Themen:</span></p><p style="box-sizing: border-b
 ox; margin-top: 0px; margin-bottom: 1rem;"><span style="box-sizing: border-
 box; font-weight: bolder;">04.07. Fische &amp; Meerestiere</span></p><p sty
 le="box-sizing: border-box; margin-top: 0px; margin-bottom: 1rem;"><span st
 yle="box-sizing: border-box; font-weight: bolder;">11.07. Sommerspaß</span>
 </p><p style="box-sizing: border-box; margin-top: 0px; margin-bottom: 1rem;
 "><span style="box-sizing: border-box; font-weight: bolder;">22.08. Raupen 
 &amp; Schmetterlinge</span></p></header>
CONTACT:www.spielringel.at
X-EXTRAINFO:[preis='2800'][anmeldung='true']
DTSTAMP:20260425T233351
DTSTART:20250711T130000
DTEND:20250711T143000
SEQUENCE:0
TRANSP:OPAQUE
END:VEVENT
END:VCALENDAR