BEGIN:VCALENDAR
VERSION:2.0
PRODID:-//jEvents 2.0 for Joomla//EN
CALSCALE:GREGORIAN
METHOD:PUBLISH
BEGIN:VEVENT
UID:c1948908dd5bd6698be716395cc3371a
CATEGORIES:18. Bezirk
CREATED:20250618T102626
SUMMARY:Babyklangwelt zum Kennenlernen
LOCATION:Spielringel  Mollgasse  11-13
DESCRIPTION:für Babys (3-10 Monate)Mit: Susanne (https://spielringel.at/angebote/das-te
 am/susanne)\nKurstag: Montag 11:30-12:15\nTermine: 11.08.\nKosten: €20,- (f
 ür einen Termin)\nBabys lieben Klänge, Geräusche, Musik und Gesang. Gemeins
 am schaffen wir akustische und musikalische Erlebniswelten, in die sich die
  Babys nach Möglichkeit einbringen können und erweitern dabei auch Kompeten
 z und Repertoire das Kind im Alltag spielerisch zu fördern.\nIm Sommer gibt
  es die Babyklangwelt zum Kennenlernen als Einzeleinheit zu buchen.\n
X-ALT-DESC;FMTTYPE=text/html:<h4 style="box-sizing: border-box; margin-top: 0px; margin-bottom: 1rem; fo
 nt-family: Montserrat; font-weight: 300; line-height: 1.2; font-size: 1.625
 rem; color: #2b2b2b;">für Babys (3-10 Monate)</h4><p style="box-sizing: bor
 der-box; margin-top: 0px; margin-bottom: 1rem; color: #2b2b2b; font-family:
  Roboto; font-size: 16px;"><span class="text-primary font-weight-bold" styl
 e="box-sizing: border-box; font-weight: 700 !important; color: #158795 !imp
 ortant;">Mit:&nbsp;</span><a href="https://spielringel.at/angebote/das-team
 /susanne" style="box-sizing: border-box; color: #158795; text-decoration-li
 ne: none; background-color: transparent;">Susanne</a></p><p style="box-sizi
 ng: border-box; margin-top: 0px; margin-bottom: 1rem; color: #2b2b2b; font-
 family: Roboto; font-size: 16px;"><span class="text-primary font-weight-bol
 d" style="box-sizing: border-box; font-weight: 700 !important; color: #1587
 95 !important;">Kurstag:&nbsp;</span>Montag 11:30-12:15</p><p style="box-si
 zing: border-box; margin-top: 0px; margin-bottom: 1rem; color: #2b2b2b; fon
 t-family: Roboto; font-size: 16px;"><span class="text-primary font-weight-b
 old" style="box-sizing: border-box; font-weight: 700 !important; color: #15
 8795 !important;">Termine:&nbsp;</span>11.08.</p><p style="box-sizing: bord
 er-box; margin-top: 0px; margin-bottom: 1rem; color: #2b2b2b; font-family: 
 Roboto; font-size: 16px;"><span class="text-primary font-weight-bold" style
 ="box-sizing: border-box; font-weight: 700 !important; color: #158795 !impo
 rtant;">Kosten:&nbsp;</span>€20,- (für einen Termin)</p><p style="box-sizin
 g: border-box; margin-top: 0px; margin-bottom: 1rem; color: #2b2b2b; font-f
 amily: Roboto; font-size: 16px;">Babys lieben Klänge, Geräusche, Musik und 
 Gesang. Gemeinsam schaffen wir akustische und musikalische Erlebniswelten, 
 in die sich die Babys nach Möglichkeit einbringen können und erweitern dabe
 i auch Kompetenz und Repertoire das Kind im Alltag spielerisch zu fördern.<
 /p><p style="box-sizing: border-box; margin-top: 0px; margin-bottom: 1rem; 
 color: #2b2b2b; font-family: Roboto; font-size: 16px;">Im Sommer gibt es di
 e Babyklangwelt zum Kennenlernen als Einzeleinheit zu buchen.</p>
CONTACT:www.spielringel.at
X-EXTRAINFO:[preis='2000'][anmeldung='true']
DTSTAMP:20260426T005331
DTSTART:20250811T093000
DTEND:20250811T101500
SEQUENCE:0
TRANSP:OPAQUE
END:VEVENT
END:VCALENDAR