BEGIN:VCALENDAR
VERSION:2.0
PRODID:-//jEvents 2.0 for Joomla//EN
CALSCALE:GREGORIAN
METHOD:PUBLISH
BEGIN:VEVENT
UID:f428d7423577d38b41acb000fa84955d
CATEGORIES:18. Bezirk
CREATED:20250618T102836
SUMMARY:Mit allen Sinnen am Montag (inklusive Fotos)
LOCATION:Spielringel  Mollgasse  11-13
DESCRIPTION:  Sinneserlebnis für Kinder ab dem Krabbelalter bis 3 JahrenMit: Claudia (h
 ttps://spielringel.at/angebote/das-team/mag-claudia-weissmann-karacsonyi)Ku
 rstag: Montag 14:00-15:00Termine: 11.08.Kosten: €30,- pro Kind mit Begleitp
 erson (inklusive 3 Fotos)Dieses Sinnneserlebnis im Sommer ist für Kinder ab
  dem Krabbelalter bis zu 3 Jahren geeignet!An diesem Termin von „Mit allen 
 Sinnen“ werden wir nicht nur gemeinsam mit veganem Joghurt malen, spielen u
 nd die Sinne entdecken, sondern auch schöne Erinnerungen festhalten.\nUnser
 e Fotografin Sandra wird uns begleiten und die besonderen Momente festhalte
 n. Die entstandenen Fotos werden von uns für Werbezwecke und Ähnliches verw
 endet, wobei die Gesichter der Kinder nicht von vorne gezeigt werden, so da
 ss niemand erkannt werden kann. So können wir die Atmosphäre und den Spaß d
 er Gruppe zeigen, ohne die Privatsphäre von euch und euren Kleinen zu gefäh
 rden.\nZusätzlich erhält jede Familie drei individuelle Fotos von ihrem Kin
 d (hochauflösend in digitaler Form zum Ausdrucken), auf denen es gut zu erk
 ennen ist! \n Onlineanmeldung    
X-ALT-DESC;FMTTYPE=text/html:<div class="frame-container" style="box-sizing: border-box; position: relat
 ive; width: 815px; padding-right: 0px; padding-left: 0px; margin-right: aut
 o; margin-left: auto; max-width: 1140px; margin-bottom: 0px;"><div class="f
 rame-inner" style="box-sizing: border-box;"><div class="textpic textpic-rig
 ht" style="box-sizing: border-box; display: flex; flex-wrap: wrap; margin-l
 eft: -20px; margin-right: -20px; margin-bottom: 0px;"><div class="textpic-i
 tem textpic-gallery" style="box-sizing: border-box; order: 2; width: 427.5p
 x; padding-left: 20px; padding-right: 20px; margin-bottom: 0px; color: #2b2
 b2b; font-family: Roboto; font-size: 16px; font-style: normal; font-variant
 -ligatures: normal; font-variant-caps: normal; font-weight: 400; letter-spa
 cing: normal; orphans: 2; text-align: left; text-indent: 0px; text-transfor
 m: none; widows: 2; word-spacing: 0px; -webkit-text-stroke-width: 0px; whit
 e-space: normal; background-color: #ffffff; text-decoration-thickness: init
 ial; text-decoration-style: initial; text-decoration-color: initial;"><div 
 class="gallery-row" style="box-sizing: border-box; display: flex; flex-wrap
 : wrap; margin-left: -0.5rem; margin-right: -0.5rem; margin-bottom: -1rem;"
 ><div class="gallery-item gallery-item-size-1" style="box-sizing: border-bo
 x; padding-left: 0.5rem; padding-right: 0.5rem; width: 403.5px;">&nbsp;</di
 v></div></div><div class="textpic-item textpic-text" style="box-sizing: bor
 der-box; order: 1; width: 427.5px; padding-left: 20px; padding-right: 20px;
  margin-bottom: 0px; color: #2b2b2b; font-family: Roboto; font-size: 16px; 
 font-style: normal; font-variant-ligatures: normal; font-variant-caps: norm
 al; font-weight: 400; letter-spacing: normal; orphans: 2; text-align: left;
  text-indent: 0px; text-transform: none; widows: 2; word-spacing: 0px; -web
 kit-text-stroke-width: 0px; white-space: normal; background-color: #ffffff;
  text-decoration-thickness: initial; text-decoration-style: initial; text-d
 ecoration-color: initial;">&nbsp;</div></div></div></div><header class="fra
 me-header" style="box-sizing: border-box; display: block;"><h4 style="box-s
 izing: border-box; margin-top: 0px; margin-bottom: 1rem; font-family: Monts
 errat; font-weight: 300; line-height: 1.2; font-size: 1.625rem;">Sinneserle
 bnis für Kinder ab dem Krabbelalter bis 3 Jahren</h4><h4 style="box-sizing:
  border-box; margin-top: 0px; margin-bottom: 1rem; font-family: Montserrat;
  font-weight: 300; line-height: 1.2; font-size: 1.625rem;"><span class="tex
 t-primary font-weight-bold" style="box-sizing: border-box; font-weight: 700
  !important; color: #158795 !important;">Mit:&nbsp;</span><a href="https://
 spielringel.at/angebote/das-team/mag-claudia-weissmann-karacsonyi" style="b
 ox-sizing: border-box; color: #158795; text-decoration-line: none; backgrou
 nd-color: transparent;">Claudia</a></h4><h4 style="box-sizing: border-box; 
 margin-top: 0px; margin-bottom: 1rem; font-family: Montserrat; font-weight:
  300; line-height: 1.2; font-size: 1.625rem;"><span class="text-primary fon
 t-weight-bold" style="box-sizing: border-box; font-weight: 700 !important; 
 color: #158795 !important;">Kurstag:&nbsp;</span>Montag 14:00-15:00</h4><h4
  style="box-sizing: border-box; margin-top: 0px; margin-bottom: 1rem; font-
 family: Montserrat; font-weight: 300; line-height: 1.2; font-size: 1.625rem
 ;"><span class="text-primary font-weight-bold" style="box-sizing: border-bo
 x; font-weight: 700 !important; color: #158795 !important;">Termine:&nbsp;<
 /span>11.08.</h4><h4 style="box-sizing: border-box; margin-top: 0px; margin
 -bottom: 1rem; font-family: Montserrat; font-weight: 300; line-height: 1.2;
  font-size: 1.625rem;"><span class="text-primary font-weight-bold" style="b
 ox-sizing: border-box; font-weight: 700 !important; color: #158795 !importa
 nt;">Kosten:&nbsp;</span>€30,- pro Kind mit Begleitperson (inklusive 3 Foto
 s)</h4><h4 style="box-sizing: border-box; margin-top: 0px; margin-bottom: 1
 rem; font-family: Montserrat; font-weight: 300; line-height: 1.2; font-size
 : 1.625rem;">Dieses Sinnneserlebnis im Sommer ist für Kinder ab dem Krabbel
 alter bis zu 3 Jahren geeignet!</h4><div id="page-content" class="bp-page-c
 ontent main-section" style="box-sizing: border-box;"><div class="section se
 ction-default" style="box-sizing: border-box; overflow: hidden;"><div class
 ="container" style="box-sizing: border-box; width: 1140px; padding-right: 2
 0px; padding-left: 20px; margin-right: auto; margin-left: auto; max-width: 
 1140px;"><div class="section-row" style="box-sizing: border-box; display: f
 lex; flex-wrap: wrap; margin-left: -20px; margin-right: -20px;"><div class=
 "frame frame-default frame-type-textpic frame-layout-0 frame-background-non
 e frame-no-backgroundimage frame-space-before-none frame-space-after-none" 
 style="box-sizing: border-box; position: relative; padding-top: 3.5rem; pad
 ding-bottom: 3.5rem; margin-top: 0rem; margin-bottom: 0rem;"><div class="fr
 ame-container" style="box-sizing: border-box; position: relative; width: 81
 5px; padding-right: 0px; padding-left: 0px; margin-right: auto; margin-left
 : auto; max-width: 1140px; margin-bottom: 0px;"><div class="frame-inner" st
 yle="box-sizing: border-box;"><div class="textpic textpic-right" style="box
 -sizing: border-box; display: flex; flex-wrap: wrap; margin-left: -20px; ma
 rgin-right: -20px; margin-bottom: 0px;"><div class="textpic-item textpic-te
 xt" style="box-sizing: border-box; order: 1; width: 427.5px; padding-left: 
 20px; padding-right: 20px; margin-bottom: 0px;"><p style="box-sizing: borde
 r-box; margin-top: 0px; margin-bottom: 1rem;">An diesem Termin von „Mit all
 en Sinnen“ werden wir nicht nur gemeinsam mit veganem Joghurt malen, spiele
 n und die Sinne entdecken, sondern auch schöne Erinnerungen festhalten.</p>
 <p style="box-sizing: border-box; margin-top: 0px; margin-bottom: 1rem;"><s
 pan style="box-sizing: border-box; font-weight: bolder;">Unsere Fotografin&
 nbsp;Sandra wird uns begleiten</span>&nbsp;und die besonderen Momente festh
 alten. Die entstandenen Fotos werden von uns für Werbezwecke und Ähnliches 
 verwendet, wobei die Gesichter der Kinder nicht von vorne gezeigt werden, s
 o dass niemand erkannt werden kann. So können wir die Atmosphäre und den Sp
 aß der Gruppe zeigen, ohne die Privatsphäre von euch und euren Kleinen zu g
 efährden.</p><p style="box-sizing: border-box; margin-top: 0px; margin-bott
 om: 0px;"><span style="box-sizing: border-box; font-weight: bolder;">Zusätz
 lich erhält jede Familie drei individuelle Fotos von ihrem Kind (hochauflös
 end in digitaler Form zum Ausdrucken), auf denen es gut zu erkennen ist!&nb
 sp;</span></p></div></div></div></div></div><div id="c1351" class="frame fr
 ame-default frame-type-form_formframework frame-layout-0 frame-background-n
 one frame-no-backgroundimage frame-space-before-none frame-space-after-none
 " style="box-sizing: border-box; position: relative; padding-top: 3.5rem; p
 adding-bottom: 3.5rem; margin-top: -3.5rem; margin-bottom: 0rem;"><div clas
 s="frame-container" style="box-sizing: border-box; position: relative; widt
 h: 815px; padding-right: 0px; padding-left: 0px; margin-right: auto; margin
 -left: auto; max-width: 1140px; margin-bottom: 0px;"><div class="frame-inne
 r" style="box-sizing: border-box;"><div class="form-container form-identifi
 er-anmeldeformular-1351" style="box-sizing: border-box; margin-bottom: 0px;
 "><form enctype="multipart/form-data" method="post" novalidate="novalidate"
  id="anmeldeformular-1351" style="box-sizing: border-box;"><div style="box-
 sizing: border-box;">&nbsp;</div><input autocomplete="HJpOLCngd1m" name="tx
 _form_formframework[anmeldeformular-1351][HJpOLCngd1m]" type="text" id="anm
 eldeformular-1351-HJpOLCngd1m" style="box-sizing: border-box; margin: 0px 0
 px 0px -999em; font-family: inherit; font-size: inherit; line-height: inher
 it; overflow: visible; position: absolute;" tabindex="-1" aria-hidden="true
 " /><div class="form-actions" style="box-sizing: border-box; margin-top: 1e
 m;"><nav class="form-navigation" style="box-sizing: border-box;"><div class
 ="btn-toolbar" style="box-sizing: border-box; display: flex; flex-wrap: wra
 p; justify-content: flex-start;" role="toolbar"><div class="btn-group" styl
 e="box-sizing: border-box; position: relative; display: inline-flex; vertic
 al-align: middle;" role="group"><span class="btn-group next" style="box-siz
 ing: border-box; position: relative; display: inline-flex; vertical-align: 
 middle;"><button name="tx_form_formframework[anmeldeformular-1351][__curren
 tPage]" type="submit" value="1" class="btn btn-primary" style="border-radiu
 s: 0.25rem; margin: 0px; font-family: inherit; font-size: 1rem; line-height
 : 1.5; overflow: visible; appearance: button; font-weight: 400; color: #fff
 fff; vertical-align: middle; user-select: none; background-color: #158795; 
 padding: 0.375rem 0.75rem; transition: color 0.15s ease-in-out, background-
 color 0.15s ease-in-out, border-color 0.15s ease-in-out, box-shadow 0.15s e
 ase-in-out; cursor: pointer; position: relative; flex: 1 1 auto; border: 1p
 x solid #158795;">Onlineanmeldung</button></span></div></div></nav></div></
 form></div></div></div></div></div></div></div></div><footer id="page-foote
 r" class="bp-page-footer" style="box-sizing: border-box;"><section class="s
 ection footer-section footer-section-content" style="box-sizing: border-box
 ; overflow: hidden; color: #ffffff; background-color: #2b2b2b; font-family:
  Roboto; font-size: 16px;"><div class="container" style="box-sizing: border
 -box; width: 1140px; padding-right: 20px; padding-left: 20px; margin-right:
  auto; margin-left: auto; max-width: 1140px;"><div class="section-row" styl
 e="box-sizing: border-box; display: flex; flex-wrap: wrap; margin-left: -20
 px; margin-right: -20px;"><div class="section-column footer-section-content
 -column footer-section-content-column-left" style="box-sizing: border-box; 
 width: 380px; padding-left: 20px; padding-right: 20px;">&nbsp;</div><div cl
 ass="section-column footer-section-content-column footer-section-content-co
 lumn-middle" style="box-sizing: border-box; width: 380px; padding-left: 20p
 x; padding-right: 20px;">&nbsp;</div><div class="section-column footer-sect
 ion-content-column footer-section-content-column-right" style="box-sizing: 
 border-box; width: 380px; padding-left: 20px; padding-right: 20px;">&nbsp;<
 /div></div></div></section><section class="section footer-section footer-se
 ction-meta" style="box-sizing: border-box; overflow: hidden; color: #ffffff
 ; background-color: #232323; text-align: center; font-family: Roboto; font-
 size: 16px;"><div class="frame frame-background-none frame-space-before-non
 e frame-space-after-none" style="box-sizing: border-box; position: relative
 ; padding-top: 3.5rem; padding-bottom: 3.5rem; margin-top: 0rem; margin-bot
 tom: 0rem;"><div class="frame-container" style="box-sizing: border-box; pos
 ition: relative; width: 1140px; padding-right: 20px; padding-left: 20px; ma
 rgin-right: auto; margin-left: auto; max-width: 1140px; margin-bottom: 0px;
 "><div class="frame-inner" style="box-sizing: border-box;"><div class="foot
 er-meta" style="box-sizing: border-box; overflow: hidden;">&nbsp;</div></di
 v></div></div></section></footer></header>
CONTACT:www.spielringel.at
X-EXTRAINFO:[preis='3000'][anmeldung='true']
DTSTAMP:20260426T005426
DTSTART:20250811T120000
DTEND:20250811T130000
SEQUENCE:0
TRANSP:OPAQUE
END:VEVENT
END:VCALENDAR