BEGIN:VCALENDAR
VERSION:2.0
PRODID:-//jEvents 2.0 for Joomla//EN
CALSCALE:GREGORIAN
METHOD:PUBLISH
BEGIN:VEVENT
UID:3d266d94eed50d398aed1b92c99fc1d8
CATEGORIES:18. Bezirk
CREATED:20250618T103005
SUMMARY:Spiel & Spaß im Sommer
LOCATION:Spielringel  Mollgasse  11-13
DESCRIPTION:  für Babys und Kleinkinder 8 Monate - 2 JahreKurstag: Dienstag 09:30-10:30
 \nTermine: 01.07./ 08.07/ 12.08./ 19.08./ 26.08.\nKosten: €20,- (für eine E
 inheit)\nIm Sommer gibt es Einzeleinheiten von unserer Spiel &amp; Spaß Gru
 ppe zu buchen.\nDas freie Spiel steht im Vordergrund. Nebenbei werden motor
 ische Fähigkeiten geschult, alle Sinne gefördert und erste soziale Kontakte
  zu Gleichaltrigen gemacht.\nAuch die "Großen" können Erfahrungen austausch
 en und neue Kontakte knüpfen.\n
X-ALT-DESC;FMTTYPE=text/html:<div class="frame-container" style="box-sizing: border-box; position: relat
 ive; width: 815px; padding-right: 0px; padding-left: 0px; margin-right: aut
 o; margin-left: auto; max-width: 1140px; margin-bottom: 0px;"><div class="f
 rame-inner" style="box-sizing: border-box;"><div class="textpic textpic-rig
 ht" style="box-sizing: border-box; display: flex; flex-wrap: wrap; margin-l
 eft: -20px; margin-right: -20px; margin-bottom: 0px;"><div class="textpic-i
 tem textpic-gallery" style="box-sizing: border-box; order: 2; width: 427.5p
 x; padding-left: 20px; padding-right: 20px; margin-bottom: 0px; color: #2b2
 b2b; font-family: Roboto; font-size: 16px; font-style: normal; font-variant
 -ligatures: normal; font-variant-caps: normal; font-weight: 400; letter-spa
 cing: normal; orphans: 2; text-align: left; text-indent: 0px; text-transfor
 m: none; widows: 2; word-spacing: 0px; -webkit-text-stroke-width: 0px; whit
 e-space: normal; background-color: #ffffff; text-decoration-thickness: init
 ial; text-decoration-style: initial; text-decoration-color: initial;"><div 
 class="gallery-row" style="box-sizing: border-box; display: flex; flex-wrap
 : wrap; margin-left: -0.5rem; margin-right: -0.5rem; margin-bottom: -1rem;"
 ><div class="gallery-item gallery-item-size-1" style="box-sizing: border-bo
 x; padding-left: 0.5rem; padding-right: 0.5rem; width: 403.5px;">&nbsp;</di
 v></div></div><div class="textpic-item textpic-text" style="box-sizing: bor
 der-box; order: 1; width: 427.5px; padding-left: 20px; padding-right: 20px;
  margin-bottom: 0px; color: #2b2b2b; font-family: Roboto; font-size: 16px; 
 font-style: normal; font-variant-ligatures: normal; font-variant-caps: norm
 al; font-weight: 400; letter-spacing: normal; orphans: 2; text-align: left;
  text-indent: 0px; text-transform: none; widows: 2; word-spacing: 0px; -web
 kit-text-stroke-width: 0px; white-space: normal; background-color: #ffffff;
  text-decoration-thickness: initial; text-decoration-style: initial; text-d
 ecoration-color: initial;">&nbsp;</div></div></div></div><header class="fra
 me-header" style="box-sizing: border-box; display: block;"><h4 style="box-s
 izing: border-box; margin-top: 0px; margin-bottom: 1rem; font-family: Monts
 errat; font-weight: 300; line-height: 1.2; font-size: 1.625rem;">für Babys 
 und Kleinkinder 8 Monate - 2 Jahre</h4><p style="box-sizing: border-box; ma
 rgin-top: 0px; margin-bottom: 1rem; color: #2b2b2b; font-family: Roboto; fo
 nt-size: 16px;"><span class="text-primary font-weight-bold" style="box-sizi
 ng: border-box; font-weight: 700 !important; color: #158795 !important;">Ku
 rstag:&nbsp;</span>Dienstag 09:30-10:30</p><p style="box-sizing: border-box
 ; margin-top: 0px; margin-bottom: 1rem; color: #2b2b2b; font-family: Roboto
 ; font-size: 16px;"><span class="text-primary font-weight-bold" style="box-
 sizing: border-box; font-weight: 700 !important; color: #158795 !important;
 ">Termine:&nbsp;</span>01.07./ 08.07/ 12.08./ 19.08./ 26.08.</p><p style="b
 ox-sizing: border-box; margin-top: 0px; margin-bottom: 1rem; color: #2b2b2b
 ; font-family: Roboto; font-size: 16px;"><span class="text-primary font-wei
 ght-bold" style="box-sizing: border-box; font-weight: 700 !important; color
 : #158795 !important;">Kosten:&nbsp;</span>€20,- (für eine Einheit)</p><p s
 tyle="box-sizing: border-box; margin-top: 0px; margin-bottom: 1rem; color: 
 #2b2b2b; font-family: Roboto; font-size: 16px;">Im Sommer gibt es Einzelein
 heiten von unserer Spiel &amp; Spaß Gruppe zu buchen.</p><p style="box-sizi
 ng: border-box; margin-top: 0px; margin-bottom: 1rem; color: #2b2b2b; font-
 family: Roboto; font-size: 16px;">Das freie Spiel steht im Vordergrund. Neb
 enbei werden motorische Fähigkeiten geschult, alle Sinne gefördert und erst
 e soziale Kontakte zu Gleichaltrigen gemacht.</p><p style="box-sizing: bord
 er-box; margin-top: 0px; margin-bottom: 1rem; color: #2b2b2b; font-family: 
 Roboto; font-size: 16px;">Auch die "Großen" können Erfahrungen austauschen 
 und neue Kontakte knüpfen.</p></header>
CONTACT:www.spielringel.at
X-EXTRAINFO:[preis='2000'][anmeldung='true']
DTSTAMP:20260426T005420
DTSTART:20250812T073000
DTEND:20250812T083000
SEQUENCE:0
TRANSP:OPAQUE
END:VEVENT
END:VCALENDAR