BEGIN:VCALENDAR
VERSION:2.0
PRODID:-//jEvents 2.0 for Joomla//EN
CALSCALE:GREGORIAN
METHOD:PUBLISH
BEGIN:VEVENT
UID:ca26d5e4585f54bb7cb9242b5f3f750b
CATEGORIES:18. Bezirk
CREATED:20250618T110532
SUMMARY:Spiel & Spaß 
LOCATION:Spielringel  Mollgasse  11-13
DESCRIPTION:Spiel &amp; Spaß für Babys und Kleinkinder 8 Monate - 2 JahreStart: 09.09.2
 025\nMit: Claudia (https://spielringel.at/angebote/das-team/mag-claudia-wei
 ssmann-karacsonyi)\nKurstag: Dienstag 09:00-10:00\nTermine: 09.09., 16.09.,
  23.09., 30.09., 07.10.\nKosten: €90,- (5 Einheiten)\nIn diesem Kurs sollen
  Kinder und Erwachsene gemeinsam viel Spaß haben. Das freie Spiel steht im 
 Vordergrund. Nebenbei werden motorische Fähigkeiten geschult, alle Sinne ge
 fördert und erste soziale Kontakte zu Gleichaltrigen gemacht.\nAuch die "Gr
 oßen" können Erfahrungen austauschen und neue Kontakte knüpfen.\n
X-ALT-DESC;FMTTYPE=text/html:<h2 class="element-header" style="box-sizing: border-box; margin-top: 0px; 
 margin-bottom: 0.5rem; font-family: Montserrat; font-weight: 300; line-heig
 ht: 1.2; font-size: 2.275rem; color: #2b2b2b;">Spiel &amp; Spaß&nbsp;</h2><
 h4 style="box-sizing: border-box; margin-top: 0px; margin-bottom: 1rem; fon
 t-family: Montserrat; font-weight: 300; line-height: 1.2; font-size: 1.625r
 em; color: #2b2b2b;">für Babys und Kleinkinder 8 Monate - 2 Jahre</h4><p st
 yle="box-sizing: border-box; margin-top: 0px; margin-bottom: 1rem; color: #
 2b2b2b; font-family: Roboto; font-size: 16px;"><span class="text-primary fo
 nt-weight-bold" style="box-sizing: border-box; font-weight: 700 !important;
  color: #158795 !important;">Start:&nbsp;</span>09.09.2025</p><p style="box
 -sizing: border-box; margin-top: 0px; margin-bottom: 1rem; color: #2b2b2b; 
 font-family: Roboto; font-size: 16px;"><span class="text-primary font-weigh
 t-bold" style="box-sizing: border-box; font-weight: 700 !important; color: 
 #158795 !important;">Mit:&nbsp;</span><a href="https://spielringel.at/angeb
 ote/das-team/mag-claudia-weissmann-karacsonyi" style="box-sizing: border-bo
 x; color: #158795; text-decoration-line: none; background-color: transparen
 t;">Claudia</a></p><p style="box-sizing: border-box; margin-top: 0px; margi
 n-bottom: 1rem; color: #2b2b2b; font-family: Roboto; font-size: 16px;"><spa
 n class="text-primary font-weight-bold" style="box-sizing: border-box; font
 -weight: 700 !important; color: #158795 !important;">Kurstag:&nbsp;</span>D
 ienstag 09:00-10:00</p><p style="box-sizing: border-box; margin-top: 0px; m
 argin-bottom: 1rem; color: #2b2b2b; font-family: Roboto; font-size: 16px;">
 <span class="text-primary font-weight-bold" style="box-sizing: border-box; 
 font-weight: 700 !important; color: #158795 !important;">Termine:&nbsp;</sp
 an>09.09., 16.09., 23.09., 30.09., 07.10.</p><p style="box-sizing: border-b
 ox; margin-top: 0px; margin-bottom: 1rem; color: #2b2b2b; font-family: Robo
 to; font-size: 16px;"><span class="text-primary font-weight-bold" style="bo
 x-sizing: border-box; font-weight: 700 !important; color: #158795 !importan
 t;">Kosten:&nbsp;</span>€90,- (5 Einheiten)</p><p style="box-sizing: border
 -box; margin-top: 0px; margin-bottom: 1rem; color: #2b2b2b; font-family: Ro
 boto; font-size: 16px;">In diesem Kurs sollen Kinder und Erwachsene gemeins
 am viel Spaß haben. Das freie Spiel steht im Vordergrund. Nebenbei werden m
 otorische Fähigkeiten geschult, alle Sinne gefördert und erste soziale Kont
 akte zu Gleichaltrigen gemacht.</p><p style="box-sizing: border-box; margin
 -top: 0px; margin-bottom: 0px; color: #2b2b2b; font-family: Roboto; font-si
 ze: 16px;">Auch die "Großen" können Erfahrungen austauschen und neue Kontak
 te knüpfen.</p>
CONTACT:www.spielringel.at
X-EXTRAINFO:[preis='9000'][anmeldung='true']
DTSTAMP:20260426T020004
DTSTART:20250909T070000
DTEND:20250909T080000
SEQUENCE:0
TRANSP:OPAQUE
END:VEVENT
END:VCALENDAR