BEGIN:VCALENDAR
VERSION:2.0
PRODID:-//jEvents 2.0 for Joomla//EN
CALSCALE:GREGORIAN
METHOD:PUBLISH
BEGIN:VEVENT
UID:af48a972259ca5fac939fa6a2eb1360c
CATEGORIES:18. Bezirk
CREATED:19700101T010000
SUMMARY:Sinnesspielgruppe am Freitag
LOCATION:Spielringel  Mollgasse  11-13
DESCRIPTION:<header class="frame-header" style="box-sizing: border-box; color: #2b2b2b;
  font-family: Roboto; font-size: 16px;"><h2 class="element-header" style="b
 ox-sizing: border-box; margin-top: 0px; margin-bottom: 0.5rem; font-family:
  Montserrat; font-weight: 300; line-height: 1.2; font-size: 2.275rem;">Sinn
 esspielgruppe am Freitag ab 05.09.</h2><h4 style="box-sizing: border-box; m
 argin-top: 0px; margin-bottom: 1rem; font-family: Montserrat; font-weight: 
 300; line-height: 1.2; font-size: 1.625rem;">von ca. 10 Monaten bis 2 Jahre
 </h4></header><div class="frame-container" style="box-sizing: border-box; p
 osition: relative; width: 815px; padding-right: 0px; padding-left: 0px; mar
 gin-right: auto; margin-left: auto; max-width: 1140px; margin-bottom: 0px; 
 color: #2b2b2b; font-family: Roboto; font-size: 16px;"><div class="frame-in
 ner" style="box-sizing: border-box;"><div class="textpic textpic-right" sty
 le="box-sizing: border-box; display: flex; flex-wrap: wrap; margin-left: -2
 0px; margin-right: -20px; margin-bottom: 0px;"><div class="textpic-item tex
 tpic-gallery" style="box-sizing: border-box; order: 2; width: 427.5px; padd
 ing-left: 20px; padding-right: 20px; margin-bottom: 0px;"><div class="galle
 ry-row" style="box-sizing: border-box; display: flex; flex-wrap: wrap; marg
 in-left: -0.5rem; margin-right: -0.5rem; margin-bottom: -1rem;"><div class=
 "gallery-item gallery-item-size-1" style="box-sizing: border-box; padding-l
 eft: 0.5rem; padding-right: 0.5rem; width: 403.5px;">&nbsp;</div></div></di
 v><div class="textpic-item textpic-text" style="box-sizing: border-box; ord
 er: 1; width: 427.5px; padding-left: 20px; padding-right: 20px; margin-bott
 om: 0px;"><p style="box-sizing: border-box; margin-top: 0px; margin-bottom:
  1rem;"><span class="text-primary font-weight-bold" style="box-sizing: bord
 er-box; font-weight: 700 !important; color: #158795 !important;">Start:&nbs
 p;</span>05.09.2025</p><p style="box-sizing: border-box; margin-top: 0px; m
 argin-bottom: 1rem;"><span class="text-primary font-weight-bold" style="box
 -sizing: border-box; font-weight: 700 !important; color: #158795 !important
 ;">Mit:&nbsp;</span><a href="https://spielringel.at/angebote/das-team/mag-c
 laudia-weissmann-karacsonyi" style="box-sizing: border-box; color: #158795;
  text-decoration-line: none; background-color: transparent;">Claudia</a></p
 ><p style="box-sizing: border-box; margin-top: 0px; margin-bottom: 1rem;"><
 span class="text-primary font-weight-bold" style="box-sizing: border-box; f
 ont-weight: 700 !important; color: #158795 !important;">Kurstag:&nbsp;</spa
 n>Freitag 09:30-10:30</p><p style="box-sizing: border-box; margin-top: 0px;
  margin-bottom: 1rem;"><span class="text-primary font-weight-bold" style="b
 ox-sizing: border-box; font-weight: 700 !important; color: #158795 !importa
 nt;">Termine:&nbsp;</span>05.09., 12.09., 19.09., 26.09., 03.10.</p><p styl
 e="box-sizing: border-box; margin-top: 0px; margin-bottom: 1rem;"><span cla
 ss="text-primary font-weight-bold" style="box-sizing: border-box; font-weig
 ht: 700 !important; color: #158795 !important;">Kosten:&nbsp;</span>€95,- (
 5 Einheiten)</p><p style="box-sizing: border-box; margin-top: 0px; margin-b
 ottom: 1rem;">In unserer Sinnesspielgruppe entdecken die Kinder spielend vi
 el Neues und lernen dabei auch noch neue Freunde kennen. Die Sinne der Kind
 er werden mit Hilfe verschiedener Materialien spielerisch angeregt, es wird
  experimentiert und auch gebastelt. Achtsamkeit, Wahrnehmungsförderung und 
 Sinnesschulung stehen im Vordergrund!&nbsp;</p><p style="box-sizing: border
 -box; margin-top: 0px; margin-bottom: 0px;">Genießt die Zeit beim gemeinsam
 en Spielen und Entdecken mit euren Kindern!</p></div></div></div></div>
CONTACT:www.spielringel.at
X-EXTRAINFO:[preis='9500'][anmeldung='true']
DTSTAMP:20260426T022430
DTSTART:20250905T073000
DTEND:20250905T083000
SEQUENCE:0
RRULE:FREQ=WEEKLY;UNTIL=20251006T000000Z;INTERVAL=1;BYDAY=FR
TRANSP:OPAQUE
END:VEVENT
END:VCALENDAR