BEGIN:VCALENDAR
VERSION:2.0
PRODID:-//jEvents 2.0 for Joomla//EN
CALSCALE:GREGORIAN
METHOD:PUBLISH
BEGIN:VEVENT
UID:2396128ac02daa1c6ec4146b87dd2ced
CATEGORIES:18. Bezirk
CREATED:20250618T110851
SUMMARY:Spielend durch die Jahreszeiten
LOCATION:Spielringel  Mollgasse  11-13
DESCRIPTION:<header class="frame-header" style="box-sizing: border-box; color: #2b2b2b;
  font-family: Roboto; font-size: 16px;"><h2 class="element-header" style="b
 ox-sizing: border-box; margin-top: 0px; margin-bottom: 0.5rem; font-family:
  Montserrat; font-weight: 300; line-height: 1.2; font-size: 2.275rem;">Spie
 lend durch die Jahreszeiten&nbsp;</h2><h4 style="box-sizing: border-box; ma
 rgin-top: 0px; margin-bottom: 1rem; font-family: Montserrat; font-weight: 3
 00; line-height: 1.2; font-size: 1.625rem;">für Kinder ab 1 bis 2,5 Jahren 
 (mit Begleitung)</h4></header><div class="frame-container" style="box-sizin
 g: border-box; position: relative; width: 815px; padding-right: 0px; paddin
 g-left: 0px; margin-right: auto; margin-left: auto; max-width: 1140px; marg
 in-bottom: 0px; color: #2b2b2b; font-family: Roboto; font-size: 16px;"><div
  class="frame-inner" style="box-sizing: border-box;"><div class="textpic te
 xtpic-right" style="box-sizing: border-box; display: flex; flex-wrap: wrap;
  margin-left: -20px; margin-right: -20px; margin-bottom: 0px;"><div class="
 textpic-item textpic-gallery" style="box-sizing: border-box; order: 2; widt
 h: 427.5px; padding-left: 20px; padding-right: 20px; margin-bottom: 0px;"><
 div class="gallery-row" style="box-sizing: border-box; display: flex; flex-
 wrap: wrap; margin-left: -0.5rem; margin-right: -0.5rem; margin-bottom: -1r
 em;"><div class="gallery-item gallery-item-size-1" style="box-sizing: borde
 r-box; padding-left: 0.5rem; padding-right: 0.5rem; width: 403.5px;">&nbsp;
 </div></div></div><div class="textpic-item textpic-text" style="box-sizing:
  border-box; order: 1; width: 427.5px; padding-left: 20px; padding-right: 2
 0px; margin-bottom: 0px;"><p style="box-sizing: border-box; margin-top: 0px
 ; margin-bottom: 1rem;"><span class="text-primary font-weight-bold" style="
 box-sizing: border-box; font-weight: 700 !important; color: #158795 !import
 ant;">Start:&nbsp;</span>05.09.2025</p><p style="box-sizing: border-box; ma
 rgin-top: 0px; margin-bottom: 1rem;"><span class="text-primary font-weight-
 bold" style="box-sizing: border-box; font-weight: 700 !important; color: #1
 58795 !important;">Mit:&nbsp;</span><a href="https://spielringel.at/angebot
 e/das-team/mag-claudia-weissmann-karacsonyi" style="box-sizing: border-box;
  color: #158795; text-decoration-line: none; background-color: transparent;
 ">Claudia</a></p><p style="box-sizing: border-box; margin-top: 0px; margin-
 bottom: 1rem;"><span class="text-primary font-weight-bold" style="box-sizin
 g: border-box; font-weight: 700 !important; color: #158795 !important;">Kur
 stag:&nbsp;</span>Freitag 11:15-12:15</p><p style="box-sizing: border-box; 
 margin-top: 0px; margin-bottom: 1rem;"><span class="text-primary font-weigh
 t-bold" style="box-sizing: border-box; font-weight: 700 !important; color: 
 #158795 !important;">Termine:&nbsp;</span>05.09., 12.09., 19.09., 26.09., 0
 3.10.</p><p style="box-sizing: border-box; margin-top: 0px; margin-bottom: 
 1rem;"><span class="text-primary font-weight-bold" style="box-sizing: borde
 r-box; font-weight: 700 !important; color: #158795 !important;">Kosten:&nbs
 p;</span>€95,- (5 Einheiten)</p><p style="box-sizing: border-box; margin-to
 p: 0px; margin-bottom: 1rem;">Wir spielen und basteln passend zur Jahreszei
 t!</p><p style="box-sizing: border-box; margin-top: 0px; margin-bottom: 0px
 ;">In dieser Spielgruppe für Kleinkinder werden wir gemeinsam den Jahreskre
 is mit allen Sinnen erleben. Es wird der Jahreszeit entsprechend gebastelt,
  gewerkt, entdeckt und gespielt. Natürlich bleibt auch genug Zeit und Raum 
 für soziale Interaktionen und Bewegungen.</p></div></div></div></div>
CONTACT:www.spielringel.at
X-EXTRAINFO:[preis='9500'][anmeldung='true']
DTSTAMP:20260426T033701
DTSTART:20250905T091500
DTEND:20250905T101500
SEQUENCE:0
TRANSP:OPAQUE
END:VEVENT
END:VCALENDAR